BEGIN:VCALENDAR
VERSION:2.0
PRODID:-//Town of Carleton Place - ECPv6.15.20//NONSGML v1.0//EN
CALSCALE:GREGORIAN
METHOD:PUBLISH
X-WR-CALNAME:Town of Carleton Place
X-ORIGINAL-URL:https://carletonplace.ca
X-WR-CALDESC:Events for Town of Carleton Place
REFRESH-INTERVAL;VALUE=DURATION:PT1H
X-Robots-Tag:noindex
X-PUBLISHED-TTL:PT1H
BEGIN:VTIMEZONE
TZID:America/Toronto
BEGIN:DAYLIGHT
TZOFFSETFROM:-0500
TZOFFSETTO:-0400
TZNAME:EDT
DTSTART:20230312T070000
END:DAYLIGHT
BEGIN:STANDARD
TZOFFSETFROM:-0400
TZOFFSETTO:-0500
TZNAME:EST
DTSTART:20231105T060000
END:STANDARD
BEGIN:DAYLIGHT
TZOFFSETFROM:-0500
TZOFFSETTO:-0400
TZNAME:EDT
DTSTART:20240310T070000
END:DAYLIGHT
BEGIN:STANDARD
TZOFFSETFROM:-0400
TZOFFSETTO:-0500
TZNAME:EST
DTSTART:20241103T060000
END:STANDARD
BEGIN:DAYLIGHT
TZOFFSETFROM:-0500
TZOFFSETTO:-0400
TZNAME:EDT
DTSTART:20250309T070000
END:DAYLIGHT
BEGIN:STANDARD
TZOFFSETFROM:-0400
TZOFFSETTO:-0500
TZNAME:EST
DTSTART:20251102T060000
END:STANDARD
END:VTIMEZONE
BEGIN:VEVENT
DTSTART;TZID=America/Toronto:20240413T080000
DTEND;TZID=America/Toronto:20240413T100000
DTSTAMP:20260419T141248
CREATED:20240807T140017Z
LAST-MODIFIED:20240807T140017Z
UID:10000285-1712995200-1713002400@carletonplace.ca
SUMMARY:Legion Community Breakfast
DESCRIPTION:
URL:https://carletonplace.ca/event/legion-community-breakfast-3
END:VEVENT
BEGIN:VEVENT
DTSTART;TZID=America/Toronto:20240413T130000
DTEND;TZID=America/Toronto:20240413T150000
DTSTAMP:20260419T141248
CREATED:20240807T140017Z
LAST-MODIFIED:20240807T140017Z
UID:10000284-1713013200-1713020400@carletonplace.ca
SUMMARY:Dairy-Free 101
DESCRIPTION:
URL:https://carletonplace.ca/event/dairy-free-101
END:VEVENT
BEGIN:VEVENT
DTSTART;TZID=America/Toronto:20240413T140000
DTEND;TZID=America/Toronto:20240413T160000
DTSTAMP:20260419T141248
CREATED:20240807T140032Z
LAST-MODIFIED:20240807T140032Z
UID:10000287-1713016800-1713024000@carletonplace.ca
SUMMARY:Historical Society AGM
DESCRIPTION:
URL:https://carletonplace.ca/event/historical-society-agm
END:VEVENT
BEGIN:VEVENT
DTSTART;TZID=America/Toronto:20240413T163000
DTEND;TZID=America/Toronto:20240413T183000
DTSTAMP:20260419T141248
CREATED:20240807T140018Z
LAST-MODIFIED:20240807T140018Z
UID:10000286-1713025800-1713033000@carletonplace.ca
SUMMARY:Spring Has Sprung Dinner
DESCRIPTION:
URL:https://carletonplace.ca/event/spring-has-sprung-dinner
END:VEVENT
END:VCALENDAR