BEGIN:VCALENDAR
VERSION:2.0
PRODID:-//Town of Carleton Place - ECPv6.15.20//NONSGML v1.0//EN
CALSCALE:GREGORIAN
METHOD:PUBLISH
X-ORIGINAL-URL:https://carletonplace.ca
X-WR-CALDESC:Events for Town of Carleton Place
REFRESH-INTERVAL;VALUE=DURATION:PT1H
X-Robots-Tag:noindex
X-PUBLISHED-TTL:PT1H
BEGIN:VTIMEZONE
TZID:America/Toronto
BEGIN:DAYLIGHT
TZOFFSETFROM:-0500
TZOFFSETTO:-0400
TZNAME:EDT
DTSTART:20230312T070000
END:DAYLIGHT
BEGIN:STANDARD
TZOFFSETFROM:-0400
TZOFFSETTO:-0500
TZNAME:EST
DTSTART:20231105T060000
END:STANDARD
BEGIN:DAYLIGHT
TZOFFSETFROM:-0500
TZOFFSETTO:-0400
TZNAME:EDT
DTSTART:20240310T070000
END:DAYLIGHT
BEGIN:STANDARD
TZOFFSETFROM:-0400
TZOFFSETTO:-0500
TZNAME:EST
DTSTART:20241103T060000
END:STANDARD
BEGIN:DAYLIGHT
TZOFFSETFROM:-0500
TZOFFSETTO:-0400
TZNAME:EDT
DTSTART:20250309T070000
END:DAYLIGHT
BEGIN:STANDARD
TZOFFSETFROM:-0400
TZOFFSETTO:-0500
TZNAME:EST
DTSTART:20251102T060000
END:STANDARD
END:VTIMEZONE
BEGIN:VEVENT
DTSTART;TZID=America/Toronto:20240815T183000
DTEND;TZID=America/Toronto:20240815T200000
DTSTAMP:20260421T203412
CREATED:20240807T135809Z
LAST-MODIFIED:20240807T143645Z
UID:10000170-1723746600-1723752000@carletonplace.ca
SUMMARY:River Walk Guided Walking Tour
DESCRIPTION:Explore the riverfront industries of Carleton Place in this walk alongside the Mississippi River. Woollen\, flour and lumber mills all flourished here\, run by water power. Along the way you’ll learn about the men behind the mills and their families that stayed to settle in Carleton Place.\nTickets $20 each. Reserve your spot by etransfer to cpbmuseum@outlook.com. Please include your name and contact information in message.\nTour begins at the Museum\, 267 Edmund Street.
URL:https://carletonplace.ca/event/river-walk-guided-walking-tour
LOCATION:Heritage Museum\, 267 Edmund Street\, Carleton Place\, Ontario\, Canada
ORGANIZER;CN="Heritage Museum":MAILTO:cpbmuseum@outlook.com
END:VEVENT
END:VCALENDAR