BEGIN:VCALENDAR
VERSION:2.0
PRODID:-//Town of Carleton Place - ECPv6.15.20//NONSGML v1.0//EN
CALSCALE:GREGORIAN
METHOD:PUBLISH
X-WR-CALNAME:Town of Carleton Place
X-ORIGINAL-URL:https://carletonplace.ca
X-WR-CALDESC:Events for Town of Carleton Place
REFRESH-INTERVAL;VALUE=DURATION:PT1H
X-Robots-Tag:noindex
X-PUBLISHED-TTL:PT1H
BEGIN:VTIMEZONE
TZID:America/Toronto
BEGIN:DAYLIGHT
TZOFFSETFROM:-0500
TZOFFSETTO:-0400
TZNAME:EDT
DTSTART:20230312T070000
END:DAYLIGHT
BEGIN:STANDARD
TZOFFSETFROM:-0400
TZOFFSETTO:-0500
TZNAME:EST
DTSTART:20231105T060000
END:STANDARD
BEGIN:DAYLIGHT
TZOFFSETFROM:-0500
TZOFFSETTO:-0400
TZNAME:EDT
DTSTART:20240310T070000
END:DAYLIGHT
BEGIN:STANDARD
TZOFFSETFROM:-0400
TZOFFSETTO:-0500
TZNAME:EST
DTSTART:20241103T060000
END:STANDARD
BEGIN:DAYLIGHT
TZOFFSETFROM:-0500
TZOFFSETTO:-0400
TZNAME:EDT
DTSTART:20250309T070000
END:DAYLIGHT
BEGIN:STANDARD
TZOFFSETFROM:-0400
TZOFFSETTO:-0500
TZNAME:EST
DTSTART:20251102T060000
END:STANDARD
END:VTIMEZONE
BEGIN:VEVENT
DTSTART;TZID=America/Toronto:20240818T100000
DTEND;TZID=America/Toronto:20240818T110000
DTSTAMP:20260422T024314
CREATED:20240807T135816Z
LAST-MODIFIED:20240807T143724Z
UID:10000187-1723975200-1723978800@carletonplace.ca
SUMMARY:Free - Young Gardeners' Workshop
DESCRIPTION:Ages 6 to 12. Parents and Guardians to stay for session. \nAugust 4th: Seeds and Soils!\nAugust 11th: Growing your own food\nAugust 18th: Native plants and winged things (pollinator gardens)\nAugust 25th: Flower arranging for kids \nSpots are available on a first-come\, first-served basis. \nFor more information\, RSVP to cphorticulture@gmail.com \nProvided by the Carleton Place and District Horticultural Society.
URL:https://carletonplace.ca/event/free-young-gardeners-workshop
LOCATION:Heritage Museum\, 267 Edmund Street\, Carleton Place\, Ontario\, Canada
ORGANIZER;CN="Heritage Museum":MAILTO:cpbmuseum@outlook.com
END:VEVENT
END:VCALENDAR