BEGIN:VCALENDAR
VERSION:2.0
PRODID:-//Town of Carleton Place - ECPv6.15.20//NONSGML v1.0//EN
CALSCALE:GREGORIAN
METHOD:PUBLISH
X-ORIGINAL-URL:https://carletonplace.ca
X-WR-CALDESC:Events for Town of Carleton Place
REFRESH-INTERVAL;VALUE=DURATION:PT1H
X-Robots-Tag:noindex
X-PUBLISHED-TTL:PT1H
BEGIN:VTIMEZONE
TZID:America/Toronto
BEGIN:DAYLIGHT
TZOFFSETFROM:-0500
TZOFFSETTO:-0400
TZNAME:EDT
DTSTART:20230312T070000
END:DAYLIGHT
BEGIN:STANDARD
TZOFFSETFROM:-0400
TZOFFSETTO:-0500
TZNAME:EST
DTSTART:20231105T060000
END:STANDARD
BEGIN:DAYLIGHT
TZOFFSETFROM:-0500
TZOFFSETTO:-0400
TZNAME:EDT
DTSTART:20240310T070000
END:DAYLIGHT
BEGIN:STANDARD
TZOFFSETFROM:-0400
TZOFFSETTO:-0500
TZNAME:EST
DTSTART:20241103T060000
END:STANDARD
BEGIN:DAYLIGHT
TZOFFSETFROM:-0500
TZOFFSETTO:-0400
TZNAME:EDT
DTSTART:20250309T070000
END:DAYLIGHT
BEGIN:STANDARD
TZOFFSETFROM:-0400
TZOFFSETTO:-0500
TZNAME:EST
DTSTART:20251102T060000
END:STANDARD
END:VTIMEZONE
BEGIN:VEVENT
DTSTART;TZID=America/Toronto:20241206T100000
DTEND;TZID=America/Toronto:20241206T160000
DTSTAMP:20260419T092724
CREATED:20241128T181802Z
LAST-MODIFIED:20241128T181802Z
UID:10000421-1733479200-1733500800@carletonplace.ca
SUMMARY:The Granary's Annual Chocolate Party
DESCRIPTION:A CELEBRATION OF FAIRLY TRADED\,SUSTAINABLY SOURCED CHOCOLATE FOR EVERYONE FEATURING ….\nAMAZING LOCAL CHOCOLATE\nFREE CAMINO HOT CHOCOLATE BAR WITH ALL THE FIXIN’S IN THE GRANARY ALLEY\nGREAT DEALS ON ALL YOUR FAVOURITE CHOCOLATE\nSAMPLE\, SHOP\, SAVE\, SMILE\nPRIZES\, LIVE MUSIC & AWESOME SHOPPING DOWNTOWN CARLETON PLACE\n***Be Sure to pick up your official Chocolate Party discount card IN STORE before December 6th***
URL:https://carletonplace.ca/event/the-granarys-annual-chocolate-party
LOCATION:The Granary Bulk & Natural Foods\, 107 Bridge Street\, Carleton Place\, Canada
END:VEVENT
BEGIN:VEVENT
DTSTART;TZID=America/Toronto:20241206T120000
DTEND;TZID=America/Toronto:20241206T150000
DTSTAMP:20260419T092724
CREATED:20241128T183336Z
LAST-MODIFIED:20241128T183336Z
UID:10000428-1733486400-1733497200@carletonplace.ca
SUMMARY:Seniors Christmas Luncheon
DESCRIPTION:Cocktails at 12pm\, Lunch at 1pm \nMusic provided by Steve Martin \nTickets are $25 and available at the Legion Bar. Only $80 tickets available. \nFull turkey dinner including dessert. \nSeasonal specialty drinks available for purchase.
URL:https://carletonplace.ca/event/seniors-christmas-luncheon
LOCATION:Carleton Place Legion\, 177 George Street\, Carleton Place\, Ontario\, Canada
END:VEVENT
BEGIN:VEVENT
DTSTART;TZID=America/Toronto:20241206T193000
DTEND;TZID=America/Toronto:20241206T220000
DTSTAMP:20260419T092724
CREATED:20241024T183311Z
LAST-MODIFIED:20241024T183311Z
UID:10000396-1733513400-1733522400@carletonplace.ca
SUMMARY:The East Pointers
DESCRIPTION:Doors: 7:00PMShow: 7:30PM \nTickets: https://festivalofsmallhalls.frontgatetickets.com/event/jbaxg8iupnt9md7j?fbclid=IwY2xjawGHciBleHRuA2FlbQIxMAABHUnO8BOpjCvDaw59YBow6jYAT1T7Kg-4DTSYELWbeEbm0youeqbUhkj-KA_aem_D5KT5YK3lUonOjQ9zN-g-w \n 
URL:https://carletonplace.ca/event/the-east-pointers
LOCATION:Carleton Place Arena\, 75 Neelin Street\, Carleton Place\, Ontario\, K7C 2J6\, Canada
END:VEVENT
END:VCALENDAR