BEGIN:VCALENDAR
VERSION:2.0
PRODID:-//Town of Carleton Place - ECPv6.15.20//NONSGML v1.0//EN
CALSCALE:GREGORIAN
METHOD:PUBLISH
X-WR-CALNAME:Town of Carleton Place
X-ORIGINAL-URL:https://carletonplace.ca
X-WR-CALDESC:Events for Town of Carleton Place
REFRESH-INTERVAL;VALUE=DURATION:PT1H
X-Robots-Tag:noindex
X-PUBLISHED-TTL:PT1H
BEGIN:VTIMEZONE
TZID:America/Toronto
BEGIN:DAYLIGHT
TZOFFSETFROM:-0500
TZOFFSETTO:-0400
TZNAME:EDT
DTSTART:20230312T070000
END:DAYLIGHT
BEGIN:STANDARD
TZOFFSETFROM:-0400
TZOFFSETTO:-0500
TZNAME:EST
DTSTART:20231105T060000
END:STANDARD
BEGIN:DAYLIGHT
TZOFFSETFROM:-0500
TZOFFSETTO:-0400
TZNAME:EDT
DTSTART:20240310T070000
END:DAYLIGHT
BEGIN:STANDARD
TZOFFSETFROM:-0400
TZOFFSETTO:-0500
TZNAME:EST
DTSTART:20241103T060000
END:STANDARD
BEGIN:DAYLIGHT
TZOFFSETFROM:-0500
TZOFFSETTO:-0400
TZNAME:EDT
DTSTART:20250309T070000
END:DAYLIGHT
BEGIN:STANDARD
TZOFFSETFROM:-0400
TZOFFSETTO:-0500
TZNAME:EST
DTSTART:20251102T060000
END:STANDARD
END:VTIMEZONE
BEGIN:VEVENT
DTSTART;TZID=America/Toronto:20241210T190000
DTEND;TZID=America/Toronto:20241210T210000
DTSTAMP:20260419T081350
CREATED:20241101T125049Z
LAST-MODIFIED:20241122T133643Z
UID:10000409-1733857200-1733864400@carletonplace.ca
SUMMARY:Town Singers - A Christmas Gift of Music
DESCRIPTION:Doors Open at 6:30 p.m. \nTickets are $15.00\, with individuals under 12 being free. \nTickets can be obtained at TicketsPlease\, the Granary\, at the door the night of the Concerts\, or from any Choir Member.
URL:https://carletonplace.ca/event/town-singers-a-christmas-gift-of-music-2
LOCATION:Zion Memorial Church\, 37 Franklin Street\, Carleton Place\, Ontario\, Canada
END:VEVENT
END:VCALENDAR