BEGIN:VCALENDAR
VERSION:2.0
PRODID:-//Town of Carleton Place - ECPv6.15.20//NONSGML v1.0//EN
CALSCALE:GREGORIAN
METHOD:PUBLISH
X-ORIGINAL-URL:https://carletonplace.ca
X-WR-CALDESC:Events for Town of Carleton Place
REFRESH-INTERVAL;VALUE=DURATION:PT1H
X-Robots-Tag:noindex
X-PUBLISHED-TTL:PT1H
BEGIN:VTIMEZONE
TZID:America/Toronto
BEGIN:DAYLIGHT
TZOFFSETFROM:-0500
TZOFFSETTO:-0400
TZNAME:EDT
DTSTART:20240310T070000
END:DAYLIGHT
BEGIN:STANDARD
TZOFFSETFROM:-0400
TZOFFSETTO:-0500
TZNAME:EST
DTSTART:20241103T060000
END:STANDARD
BEGIN:DAYLIGHT
TZOFFSETFROM:-0500
TZOFFSETTO:-0400
TZNAME:EDT
DTSTART:20250309T070000
END:DAYLIGHT
BEGIN:STANDARD
TZOFFSETFROM:-0400
TZOFFSETTO:-0500
TZNAME:EST
DTSTART:20251102T060000
END:STANDARD
BEGIN:DAYLIGHT
TZOFFSETFROM:-0500
TZOFFSETTO:-0400
TZNAME:EDT
DTSTART:20260308T070000
END:DAYLIGHT
BEGIN:STANDARD
TZOFFSETFROM:-0400
TZOFFSETTO:-0500
TZNAME:EST
DTSTART:20261101T060000
END:STANDARD
END:VTIMEZONE
BEGIN:VEVENT
DTSTART;TZID=America/Toronto:20250210T183000
DTEND;TZID=America/Toronto:20250210T200000
DTSTAMP:20260423T002705
CREATED:20250129T192747Z
LAST-MODIFIED:20250129T192747Z
UID:10000601-1739212200-1739217600@carletonplace.ca
SUMMARY:Library Adult Book Club Night
DESCRIPTION:Adult Book Club is meeting on Monday\, February 10\, 2025 at 6:30pm. This month\, we’re reading MIDNIGHT LIBRARY by Matt Haig. While our sourcing for Book Club books is full\, please try Libby or Hoopla for digital options\, or feel free to source your own copy and come to the meeting! We’d love to have you attend our discussion. We meet on the 2nd Monday of each month\, September through June\, at 6:30pm.
URL:https://carletonplace.ca/event/library-adult-book-club-night
LOCATION:Carleton Place Public Library\, 101 Beckwith Street\, Carleton Place\, Ontario\, Canada
END:VEVENT
END:VCALENDAR