BEGIN:VCALENDAR
VERSION:2.0
PRODID:-//Town of Carleton Place - ECPv6.15.20//NONSGML v1.0//EN
CALSCALE:GREGORIAN
METHOD:PUBLISH
X-WR-CALNAME:Town of Carleton Place
X-ORIGINAL-URL:https://carletonplace.ca
X-WR-CALDESC:Events for Town of Carleton Place
REFRESH-INTERVAL;VALUE=DURATION:PT1H
X-Robots-Tag:noindex
X-PUBLISHED-TTL:PT1H
BEGIN:VTIMEZONE
TZID:America/Toronto
BEGIN:DAYLIGHT
TZOFFSETFROM:-0500
TZOFFSETTO:-0400
TZNAME:EDT
DTSTART:20240310T070000
END:DAYLIGHT
BEGIN:STANDARD
TZOFFSETFROM:-0400
TZOFFSETTO:-0500
TZNAME:EST
DTSTART:20241103T060000
END:STANDARD
BEGIN:DAYLIGHT
TZOFFSETFROM:-0500
TZOFFSETTO:-0400
TZNAME:EDT
DTSTART:20250309T070000
END:DAYLIGHT
BEGIN:STANDARD
TZOFFSETFROM:-0400
TZOFFSETTO:-0500
TZNAME:EST
DTSTART:20251102T060000
END:STANDARD
BEGIN:DAYLIGHT
TZOFFSETFROM:-0500
TZOFFSETTO:-0400
TZNAME:EDT
DTSTART:20260308T070000
END:DAYLIGHT
BEGIN:STANDARD
TZOFFSETFROM:-0400
TZOFFSETTO:-0500
TZNAME:EST
DTSTART:20261101T060000
END:STANDARD
END:VTIMEZONE
BEGIN:VEVENT
DTSTART;TZID=America/Toronto:20250222T100000
DTEND;TZID=America/Toronto:20250222T160000
DTSTAMP:20260419T222415
CREATED:20250114T220201Z
LAST-MODIFIED:20250114T220201Z
UID:10000578-1740218400-1740240000@carletonplace.ca
SUMMARY:Junk and Disorderly Sale: Get Rid of Your February Blues Version
DESCRIPTION:You’ve been asking! We’re hosting a Junk and Disorderly Sale on Saturday\, February 22\, 2025. These sales are major fundraisers for the museum\, but they are also so much fun and a great way to chase away the February Blues! As always\, there will be lots of vintage goodies and interesting previously loved items.\nSale opens at 10 am and will close at 4 pm. Cash is always best\, but we also accept transfers and credit.\n\nDonations of items for the sale will be accepted beginning February 10th. Please call 613-253-7013 for information or to arrange a drop-off.
URL:https://carletonplace.ca/event/junk-and-disorderly-sale-get-rid-of-your-february-blues-version
LOCATION:Heritage Museum\, 267 Edmund Street\, Carleton Place\, Ontario\, Canada
END:VEVENT
BEGIN:VEVENT
DTSTART;TZID=America/Toronto:20250222T160000
DTEND;TZID=America/Toronto:20250222T170000
DTSTAMP:20260419T222415
CREATED:20241029T133358Z
LAST-MODIFIED:20241029T133358Z
UID:10000404-1740240000-1740243600@carletonplace.ca
SUMMARY:Coldest Night of the Year
DESCRIPTION:More Information: https://cnoy.org/location/lanarkcounty
URL:https://carletonplace.ca/event/coldest-night-of-the-year
LOCATION:Carleton Place Canoe Club\, 179 John Street\, Carleton Place\, Ontario\, Canada
END:VEVENT
END:VCALENDAR