BEGIN:VCALENDAR
VERSION:2.0
PRODID:-//Town of Carleton Place - ECPv6.15.20//NONSGML v1.0//EN
CALSCALE:GREGORIAN
METHOD:PUBLISH
X-WR-CALNAME:Town of Carleton Place
X-ORIGINAL-URL:https://carletonplace.ca
X-WR-CALDESC:Events for Town of Carleton Place
REFRESH-INTERVAL;VALUE=DURATION:PT1H
X-Robots-Tag:noindex
X-PUBLISHED-TTL:PT1H
BEGIN:VTIMEZONE
TZID:America/Toronto
BEGIN:DAYLIGHT
TZOFFSETFROM:-0500
TZOFFSETTO:-0400
TZNAME:EDT
DTSTART:20230312T070000
END:DAYLIGHT
BEGIN:STANDARD
TZOFFSETFROM:-0400
TZOFFSETTO:-0500
TZNAME:EST
DTSTART:20231105T060000
END:STANDARD
BEGIN:DAYLIGHT
TZOFFSETFROM:-0500
TZOFFSETTO:-0400
TZNAME:EDT
DTSTART:20240310T070000
END:DAYLIGHT
BEGIN:STANDARD
TZOFFSETFROM:-0400
TZOFFSETTO:-0500
TZNAME:EST
DTSTART:20241103T060000
END:STANDARD
BEGIN:DAYLIGHT
TZOFFSETFROM:-0500
TZOFFSETTO:-0400
TZNAME:EDT
DTSTART:20250309T070000
END:DAYLIGHT
BEGIN:STANDARD
TZOFFSETFROM:-0400
TZOFFSETTO:-0500
TZNAME:EST
DTSTART:20251102T060000
END:STANDARD
END:VTIMEZONE
BEGIN:VEVENT
DTSTART;TZID=America/Toronto:20240701T003000
DTEND;TZID=America/Toronto:20240701T214500
DTSTAMP:20260419T153130
CREATED:20240807T140335Z
LAST-MODIFIED:20240807T140335Z
UID:10000344-1719793800-1719870300@carletonplace.ca
SUMMARY:Canada Day in Carleton Place
DESCRIPTION:
URL:https://carletonplace.ca/event/canada-day-in-carleton-place
END:VEVENT
BEGIN:VEVENT
DTSTART;TZID=America/Toronto:20240703T170000
DTEND;TZID=America/Toronto:20240703T200000
DTSTAMP:20260419T153130
CREATED:20240807T135814Z
LAST-MODIFIED:20240807T135814Z
UID:10000186-1720026000-1720036800@carletonplace.ca
SUMMARY:Carleton Place Cruise Nights
DESCRIPTION:
URL:https://carletonplace.ca/event/carleton-place-cruise-nights
END:VEVENT
BEGIN:VEVENT
DTSTART;TZID=America/Toronto:20240708T193000
DTEND;TZID=America/Toronto:20240708T203000
DTSTAMP:20260419T153130
CREATED:20240807T140335Z
LAST-MODIFIED:20240807T140335Z
UID:10000346-1720467000-1720470600@carletonplace.ca
SUMMARY:Community Band Summer Concert
DESCRIPTION:
URL:https://carletonplace.ca/event/community-band-summer-concert
END:VEVENT
BEGIN:VEVENT
DTSTART;TZID=America/Toronto:20240713T080000
DTEND;TZID=America/Toronto:20240713T180000
DTSTAMP:20260419T153130
CREATED:20240807T135814Z
LAST-MODIFIED:20240807T135814Z
UID:10000184-1720857600-1720893600@carletonplace.ca
SUMMARY:Deadly Grounds Cafe 1 Year Anniversary
DESCRIPTION:
URL:https://carletonplace.ca/event/deadly-grounds-cafe-1-year-anniversary
END:VEVENT
BEGIN:VEVENT
DTSTART;TZID=America/Toronto:20240715T193000
DTEND;TZID=America/Toronto:20240715T203000
DTSTAMP:20260419T153130
CREATED:20240807T135814Z
LAST-MODIFIED:20240807T135814Z
UID:10000185-1721071800-1721075400@carletonplace.ca
SUMMARY:Summer Outdoor Concert in Gemmill Park
DESCRIPTION:
URL:https://carletonplace.ca/event/summer-outdoor-concert-in-gemmill-park
END:VEVENT
BEGIN:VEVENT
DTSTART;TZID=America/Toronto:20240718T113000
DTEND;TZID=America/Toronto:20240718T133000
DTSTAMP:20260419T153130
CREATED:20240807T135811Z
LAST-MODIFIED:20240807T135811Z
UID:10000176-1721302200-1721309400@carletonplace.ca
SUMMARY:2nd Annual First Responders Appreciation BBQ
DESCRIPTION:
URL:https://carletonplace.ca/event/2nd-annual-first-responders-appreciation-bbq
END:VEVENT
BEGIN:VEVENT
DTSTART;TZID=America/Toronto:20240719T100000
DTEND;TZID=America/Toronto:20240719T120000
DTSTAMP:20260419T153130
CREATED:20240807T135829Z
LAST-MODIFIED:20240807T135829Z
UID:10000207-1721383200-1721390400@carletonplace.ca
SUMMARY:Ty the Magic Guy
DESCRIPTION:
URL:https://carletonplace.ca/event/ty-the-magic-guy
END:VEVENT
BEGIN:VEVENT
DTSTART;TZID=America/Toronto:20240722T193000
DTEND;TZID=America/Toronto:20240722T210000
DTSTAMP:20260419T153130
CREATED:20240807T135816Z
LAST-MODIFIED:20240807T135816Z
UID:10000191-1721676600-1721682000@carletonplace.ca
SUMMARY:Community Band Concert
DESCRIPTION:
URL:https://carletonplace.ca/event/community-band-concert
END:VEVENT
BEGIN:VEVENT
DTSTART;TZID=America/Toronto:20240723T183000
DTEND;TZID=America/Toronto:20240723T200000
DTSTAMP:20260419T153130
CREATED:20240807T135810Z
LAST-MODIFIED:20240807T135810Z
UID:10000174-1721759400-1721764800@carletonplace.ca
SUMMARY:Lake Avenue West Wander
DESCRIPTION:
URL:https://carletonplace.ca/event/lake-avenue-west-wander-2
END:VEVENT
BEGIN:VEVENT
DTSTART;TZID=America/Toronto:20240727T100000
DTEND;TZID=America/Toronto:20240727T150000
DTSTAMP:20260419T153130
CREATED:20240807T140335Z
LAST-MODIFIED:20240807T140335Z
UID:10000345-1722074400-1722092400@carletonplace.ca
SUMMARY:2024 Bridge Street SummerFest
DESCRIPTION:
URL:https://carletonplace.ca/event/2024-bridge-street-summerfest
END:VEVENT
BEGIN:VEVENT
DTSTART;TZID=America/Toronto:20240727T203000
DTEND;TZID=America/Toronto:20240727T223000
DTSTAMP:20260419T153130
CREATED:20240807T135814Z
LAST-MODIFIED:20240807T135814Z
UID:10000183-1722112200-1722119400@carletonplace.ca
SUMMARY:Movies in the Park - Ghostbusters Frozen Empire
DESCRIPTION:
URL:https://carletonplace.ca/event/movies-in-the-park-ghostbusters-frozen-empire
END:VEVENT
BEGIN:VEVENT
DTSTART;TZID=America/Toronto:20240730T183000
DTEND;TZID=America/Toronto:20240730T200000
DTSTAMP:20260419T153130
CREATED:20240807T135810Z
LAST-MODIFIED:20240807T135810Z
UID:10000173-1722364200-1722369600@carletonplace.ca
SUMMARY:RiverWalk Guided Walking Tour
DESCRIPTION:
URL:https://carletonplace.ca/event/riverwalk-guided-walking-tour
END:VEVENT
END:VCALENDAR