BEGIN:VCALENDAR
VERSION:2.0
PRODID:-//Town of Carleton Place - ECPv6.15.20//NONSGML v1.0//EN
CALSCALE:GREGORIAN
METHOD:PUBLISH
X-WR-CALNAME:Town of Carleton Place
X-ORIGINAL-URL:https://carletonplace.ca
X-WR-CALDESC:Events for Town of Carleton Place
REFRESH-INTERVAL;VALUE=DURATION:PT1H
X-Robots-Tag:noindex
X-PUBLISHED-TTL:PT1H
BEGIN:VTIMEZONE
TZID:America/Toronto
BEGIN:DAYLIGHT
TZOFFSETFROM:-0500
TZOFFSETTO:-0400
TZNAME:EDT
DTSTART:20230312T070000
END:DAYLIGHT
BEGIN:STANDARD
TZOFFSETFROM:-0400
TZOFFSETTO:-0500
TZNAME:EST
DTSTART:20231105T060000
END:STANDARD
BEGIN:DAYLIGHT
TZOFFSETFROM:-0500
TZOFFSETTO:-0400
TZNAME:EDT
DTSTART:20240310T070000
END:DAYLIGHT
BEGIN:STANDARD
TZOFFSETFROM:-0400
TZOFFSETTO:-0500
TZNAME:EST
DTSTART:20241103T060000
END:STANDARD
BEGIN:DAYLIGHT
TZOFFSETFROM:-0500
TZOFFSETTO:-0400
TZNAME:EDT
DTSTART:20250309T070000
END:DAYLIGHT
BEGIN:STANDARD
TZOFFSETFROM:-0400
TZOFFSETTO:-0500
TZNAME:EST
DTSTART:20251102T060000
END:STANDARD
END:VTIMEZONE
BEGIN:VEVENT
DTSTART;TZID=America/Toronto:20240824T200000
DTEND;TZID=America/Toronto:20240824T220000
DTSTAMP:20260420T014540
CREATED:20240807T135814Z
LAST-MODIFIED:20240807T144820Z
UID:10000182-1724529600-1724536800@carletonplace.ca
SUMMARY:Movies in the Park - Alice in Wonderland
DESCRIPTION:Join us for our second Movie in the Park as we step back in time and enjoy the nostalgia of the original Alice in Wonderland!\nLocation: Carleton Junction – 42 Moore Street Carleton Place\nThis is a family-friendly movie. Showtime is at 8:00p.m.\nThere will be a treat vendor or site\, or bring your own snacks.\nDon’t forget a comfy blanket or lawn chair.\nWe are pleased to collaborate with Downtown Carleton Place BIA\, who are presenting an assortment of August In Wonderland activities! For more information\, please visit www.downtowncarletonplace.com
URL:https://carletonplace.ca/event/movies-in-the-park-alice-in-wonderland
LOCATION:Carleton Junction\, 42 Moore Street\, Carleton Place\, Ontario\, Canada
ORGANIZER;CN="Downtown Carleton Place BIA":MAILTO:info@downtowncarletonplace.com
END:VEVENT
END:VCALENDAR