BEGIN:VCALENDAR
VERSION:2.0
PRODID:-//Town of Carleton Place - ECPv6.15.20//NONSGML v1.0//EN
CALSCALE:GREGORIAN
METHOD:PUBLISH
X-ORIGINAL-URL:https://carletonplace.ca
X-WR-CALDESC:Events for Town of Carleton Place
REFRESH-INTERVAL;VALUE=DURATION:PT1H
X-Robots-Tag:noindex
X-PUBLISHED-TTL:PT1H
BEGIN:VTIMEZONE
TZID:America/Toronto
BEGIN:DAYLIGHT
TZOFFSETFROM:-0500
TZOFFSETTO:-0400
TZNAME:EDT
DTSTART:20240310T070000
END:DAYLIGHT
BEGIN:STANDARD
TZOFFSETFROM:-0400
TZOFFSETTO:-0500
TZNAME:EST
DTSTART:20241103T060000
END:STANDARD
BEGIN:DAYLIGHT
TZOFFSETFROM:-0500
TZOFFSETTO:-0400
TZNAME:EDT
DTSTART:20250309T070000
END:DAYLIGHT
BEGIN:STANDARD
TZOFFSETFROM:-0400
TZOFFSETTO:-0500
TZNAME:EST
DTSTART:20251102T060000
END:STANDARD
BEGIN:DAYLIGHT
TZOFFSETFROM:-0500
TZOFFSETTO:-0400
TZNAME:EDT
DTSTART:20260308T070000
END:DAYLIGHT
BEGIN:STANDARD
TZOFFSETFROM:-0400
TZOFFSETTO:-0500
TZNAME:EST
DTSTART:20261101T060000
END:STANDARD
END:VTIMEZONE
BEGIN:VEVENT
DTSTART;TZID=America/Toronto:20250917T170000
DTEND;TZID=America/Toronto:20250917T203000
DTSTAMP:20260422T181438
CREATED:20250319T143850Z
LAST-MODIFIED:20250319T143850Z
UID:10001003-1758128400-1758141000@carletonplace.ca
SUMMARY:Carleton Place Cruise Nights
DESCRIPTION:Classic cars\, trucks\, motorcycles\, 50/50 draw\, door prizes\, music\, and more!\nMy68lark@rogers.com or Facebook @carletonplacecruisenights
URL:https://carletonplace.ca/event/carleton-place-cruise-nights-3/2025-09-17
LOCATION:Anderson’s Independent Grocer – Parking Lot\, 455 McNeely Avenue
END:VEVENT
BEGIN:VEVENT
DTSTART;TZID=America/Toronto:20250910T170000
DTEND;TZID=America/Toronto:20250910T203000
DTSTAMP:20260422T181438
CREATED:20250319T143850Z
LAST-MODIFIED:20250319T143850Z
UID:10001002-1757523600-1757536200@carletonplace.ca
SUMMARY:Carleton Place Cruise Nights
DESCRIPTION:Classic cars\, trucks\, motorcycles\, 50/50 draw\, door prizes\, music\, and more!\nMy68lark@rogers.com or Facebook @carletonplacecruisenights
URL:https://carletonplace.ca/event/carleton-place-cruise-nights-3/2025-09-10
LOCATION:Anderson’s Independent Grocer – Parking Lot\, 455 McNeely Avenue
END:VEVENT
BEGIN:VEVENT
DTSTART;TZID=America/Toronto:20250903T170000
DTEND;TZID=America/Toronto:20250903T203000
DTSTAMP:20260422T181438
CREATED:20250319T143850Z
LAST-MODIFIED:20250319T143850Z
UID:10001001-1756918800-1756931400@carletonplace.ca
SUMMARY:Carleton Place Cruise Nights
DESCRIPTION:Classic cars\, trucks\, motorcycles\, 50/50 draw\, door prizes\, music\, and more!\nMy68lark@rogers.com or Facebook @carletonplacecruisenights
URL:https://carletonplace.ca/event/carleton-place-cruise-nights-3/2025-09-03
LOCATION:Anderson’s Independent Grocer – Parking Lot\, 455 McNeely Avenue
END:VEVENT
BEGIN:VEVENT
DTSTART;TZID=America/Toronto:20250827T170000
DTEND;TZID=America/Toronto:20250827T203000
DTSTAMP:20260422T181438
CREATED:20250319T143850Z
LAST-MODIFIED:20250319T143850Z
UID:10001000-1756314000-1756326600@carletonplace.ca
SUMMARY:Carleton Place Cruise Nights
DESCRIPTION:Classic cars\, trucks\, motorcycles\, 50/50 draw\, door prizes\, music\, and more!\nMy68lark@rogers.com or Facebook @carletonplacecruisenights
URL:https://carletonplace.ca/event/carleton-place-cruise-nights-3/2025-08-27
LOCATION:Anderson’s Independent Grocer – Parking Lot\, 455 McNeely Avenue
END:VEVENT
BEGIN:VEVENT
DTSTART;TZID=America/Toronto:20250820T170000
DTEND;TZID=America/Toronto:20250820T203000
DTSTAMP:20260422T181438
CREATED:20250319T143850Z
LAST-MODIFIED:20250319T143850Z
UID:10000999-1755709200-1755721800@carletonplace.ca
SUMMARY:Carleton Place Cruise Nights
DESCRIPTION:Classic cars\, trucks\, motorcycles\, 50/50 draw\, door prizes\, music\, and more!\nMy68lark@rogers.com or Facebook @carletonplacecruisenights
URL:https://carletonplace.ca/event/carleton-place-cruise-nights-3/2025-08-20
LOCATION:Anderson’s Independent Grocer – Parking Lot\, 455 McNeely Avenue
END:VEVENT
BEGIN:VEVENT
DTSTART;TZID=America/Toronto:20250813T170000
DTEND;TZID=America/Toronto:20250813T203000
DTSTAMP:20260422T181438
CREATED:20250319T143850Z
LAST-MODIFIED:20250319T143850Z
UID:10000998-1755104400-1755117000@carletonplace.ca
SUMMARY:Carleton Place Cruise Nights
DESCRIPTION:Classic cars\, trucks\, motorcycles\, 50/50 draw\, door prizes\, music\, and more!\nMy68lark@rogers.com or Facebook @carletonplacecruisenights
URL:https://carletonplace.ca/event/carleton-place-cruise-nights-3/2025-08-13
LOCATION:Anderson’s Independent Grocer – Parking Lot\, 455 McNeely Avenue
END:VEVENT
BEGIN:VEVENT
DTSTART;TZID=America/Toronto:20250806T170000
DTEND;TZID=America/Toronto:20250806T203000
DTSTAMP:20260422T181438
CREATED:20250319T143850Z
LAST-MODIFIED:20250319T143850Z
UID:10000997-1754499600-1754512200@carletonplace.ca
SUMMARY:Carleton Place Cruise Nights
DESCRIPTION:Classic cars\, trucks\, motorcycles\, 50/50 draw\, door prizes\, music\, and more!\nMy68lark@rogers.com or Facebook @carletonplacecruisenights
URL:https://carletonplace.ca/event/carleton-place-cruise-nights-3/2025-08-06
LOCATION:Anderson’s Independent Grocer – Parking Lot\, 455 McNeely Avenue
END:VEVENT
BEGIN:VEVENT
DTSTART;TZID=America/Toronto:20250730T170000
DTEND;TZID=America/Toronto:20250730T203000
DTSTAMP:20260422T181438
CREATED:20250319T143850Z
LAST-MODIFIED:20250319T143850Z
UID:10000996-1753894800-1753907400@carletonplace.ca
SUMMARY:Carleton Place Cruise Nights
DESCRIPTION:Classic cars\, trucks\, motorcycles\, 50/50 draw\, door prizes\, music\, and more!\nMy68lark@rogers.com or Facebook @carletonplacecruisenights
URL:https://carletonplace.ca/event/carleton-place-cruise-nights-3/2025-07-30
LOCATION:Anderson’s Independent Grocer – Parking Lot\, 455 McNeely Avenue
END:VEVENT
BEGIN:VEVENT
DTSTART;TZID=America/Toronto:20250723T170000
DTEND;TZID=America/Toronto:20250723T203000
DTSTAMP:20260422T181438
CREATED:20250319T143850Z
LAST-MODIFIED:20250319T143850Z
UID:10000995-1753290000-1753302600@carletonplace.ca
SUMMARY:Carleton Place Cruise Nights
DESCRIPTION:Classic cars\, trucks\, motorcycles\, 50/50 draw\, door prizes\, music\, and more!\nMy68lark@rogers.com or Facebook @carletonplacecruisenights
URL:https://carletonplace.ca/event/carleton-place-cruise-nights-3/2025-07-23
LOCATION:Anderson’s Independent Grocer – Parking Lot\, 455 McNeely Avenue
END:VEVENT
BEGIN:VEVENT
DTSTART;TZID=America/Toronto:20250716T170000
DTEND;TZID=America/Toronto:20250716T203000
DTSTAMP:20260422T181438
CREATED:20250319T143850Z
LAST-MODIFIED:20250319T143850Z
UID:10000994-1752685200-1752697800@carletonplace.ca
SUMMARY:Carleton Place Cruise Nights
DESCRIPTION:Classic cars\, trucks\, motorcycles\, 50/50 draw\, door prizes\, music\, and more!\nMy68lark@rogers.com or Facebook @carletonplacecruisenights
URL:https://carletonplace.ca/event/carleton-place-cruise-nights-3/2025-07-16
LOCATION:Anderson’s Independent Grocer – Parking Lot\, 455 McNeely Avenue
END:VEVENT
BEGIN:VEVENT
DTSTART;TZID=America/Toronto:20250709T170000
DTEND;TZID=America/Toronto:20250709T203000
DTSTAMP:20260422T181438
CREATED:20250319T143850Z
LAST-MODIFIED:20250319T143850Z
UID:10000993-1752080400-1752093000@carletonplace.ca
SUMMARY:Carleton Place Cruise Nights
DESCRIPTION:Classic cars\, trucks\, motorcycles\, 50/50 draw\, door prizes\, music\, and more!\nMy68lark@rogers.com or Facebook @carletonplacecruisenights
URL:https://carletonplace.ca/event/carleton-place-cruise-nights-3/2025-07-09
LOCATION:Anderson’s Independent Grocer – Parking Lot\, 455 McNeely Avenue
END:VEVENT
BEGIN:VEVENT
DTSTART;TZID=America/Toronto:20250702T170000
DTEND;TZID=America/Toronto:20250702T203000
DTSTAMP:20260422T181438
CREATED:20250319T143850Z
LAST-MODIFIED:20250319T143850Z
UID:10000992-1751475600-1751488200@carletonplace.ca
SUMMARY:Carleton Place Cruise Nights
DESCRIPTION:Classic cars\, trucks\, motorcycles\, 50/50 draw\, door prizes\, music\, and more!\nMy68lark@rogers.com or Facebook @carletonplacecruisenights
URL:https://carletonplace.ca/event/carleton-place-cruise-nights-3/2025-07-02
LOCATION:Anderson’s Independent Grocer – Parking Lot\, 455 McNeely Avenue
END:VEVENT
BEGIN:VEVENT
DTSTART;TZID=America/Toronto:20250625T170000
DTEND;TZID=America/Toronto:20250625T203000
DTSTAMP:20260422T181438
CREATED:20250319T143850Z
LAST-MODIFIED:20250319T143850Z
UID:10000991-1750870800-1750883400@carletonplace.ca
SUMMARY:Carleton Place Cruise Nights
DESCRIPTION:Classic cars\, trucks\, motorcycles\, 50/50 draw\, door prizes\, music\, and more!\nMy68lark@rogers.com or Facebook @carletonplacecruisenights
URL:https://carletonplace.ca/event/carleton-place-cruise-nights-3/2025-06-25
LOCATION:Anderson’s Independent Grocer – Parking Lot\, 455 McNeely Avenue
END:VEVENT
BEGIN:VEVENT
DTSTART;TZID=America/Toronto:20250618T170000
DTEND;TZID=America/Toronto:20250618T203000
DTSTAMP:20260422T181438
CREATED:20250319T143850Z
LAST-MODIFIED:20250319T143850Z
UID:10000990-1750266000-1750278600@carletonplace.ca
SUMMARY:Carleton Place Cruise Nights
DESCRIPTION:Classic cars\, trucks\, motorcycles\, 50/50 draw\, door prizes\, music\, and more!\nMy68lark@rogers.com or Facebook @carletonplacecruisenights
URL:https://carletonplace.ca/event/carleton-place-cruise-nights-3/2025-06-18
LOCATION:Anderson’s Independent Grocer – Parking Lot\, 455 McNeely Avenue
END:VEVENT
BEGIN:VEVENT
DTSTART;TZID=America/Toronto:20250611T170000
DTEND;TZID=America/Toronto:20250611T203000
DTSTAMP:20260422T181438
CREATED:20250319T143850Z
LAST-MODIFIED:20250319T143850Z
UID:10000989-1749661200-1749673800@carletonplace.ca
SUMMARY:Carleton Place Cruise Nights
DESCRIPTION:Classic cars\, trucks\, motorcycles\, 50/50 draw\, door prizes\, music\, and more!\nMy68lark@rogers.com or Facebook @carletonplacecruisenights
URL:https://carletonplace.ca/event/carleton-place-cruise-nights-3/2025-06-11
LOCATION:Anderson’s Independent Grocer – Parking Lot\, 455 McNeely Avenue
END:VEVENT
BEGIN:VEVENT
DTSTART;TZID=America/Toronto:20250604T170000
DTEND;TZID=America/Toronto:20250604T203000
DTSTAMP:20260422T181438
CREATED:20250319T143850Z
LAST-MODIFIED:20250319T143850Z
UID:10000988-1749056400-1749069000@carletonplace.ca
SUMMARY:Carleton Place Cruise Nights
DESCRIPTION:Classic cars\, trucks\, motorcycles\, 50/50 draw\, door prizes\, music\, and more!\nMy68lark@rogers.com or Facebook @carletonplacecruisenights
URL:https://carletonplace.ca/event/carleton-place-cruise-nights-3/2025-06-04
LOCATION:Anderson’s Independent Grocer – Parking Lot\, 455 McNeely Avenue
END:VEVENT
BEGIN:VEVENT
DTSTART;TZID=America/Toronto:20250528T170000
DTEND;TZID=America/Toronto:20250528T203000
DTSTAMP:20260422T181438
CREATED:20250319T143850Z
LAST-MODIFIED:20250319T143850Z
UID:10000987-1748451600-1748464200@carletonplace.ca
SUMMARY:Carleton Place Cruise Nights
DESCRIPTION:Classic cars\, trucks\, motorcycles\, 50/50 draw\, door prizes\, music\, and more!\nMy68lark@rogers.com or Facebook @carletonplacecruisenights
URL:https://carletonplace.ca/event/carleton-place-cruise-nights-3/2025-05-28
LOCATION:Anderson’s Independent Grocer – Parking Lot\, 455 McNeely Avenue
END:VEVENT
BEGIN:VEVENT
DTSTART;TZID=America/Toronto:20250521T170000
DTEND;TZID=America/Toronto:20250521T203000
DTSTAMP:20260422T181438
CREATED:20250319T143850Z
LAST-MODIFIED:20250319T143850Z
UID:10000986-1747846800-1747859400@carletonplace.ca
SUMMARY:Carleton Place Cruise Nights
DESCRIPTION:Classic cars\, trucks\, motorcycles\, 50/50 draw\, door prizes\, music\, and more!\nMy68lark@rogers.com or Facebook @carletonplacecruisenights
URL:https://carletonplace.ca/event/carleton-place-cruise-nights-3/2025-05-21
LOCATION:Anderson’s Independent Grocer – Parking Lot\, 455 McNeely Avenue
END:VEVENT
BEGIN:VEVENT
DTSTART;TZID=America/Toronto:20250514T170000
DTEND;TZID=America/Toronto:20250514T203000
DTSTAMP:20260422T181438
CREATED:20250319T143850Z
LAST-MODIFIED:20250319T143850Z
UID:10000985-1747242000-1747254600@carletonplace.ca
SUMMARY:Carleton Place Cruise Nights
DESCRIPTION:Classic cars\, trucks\, motorcycles\, 50/50 draw\, door prizes\, music\, and more!\nMy68lark@rogers.com or Facebook @carletonplacecruisenights
URL:https://carletonplace.ca/event/carleton-place-cruise-nights-3/2025-05-14
LOCATION:Anderson’s Independent Grocer – Parking Lot\, 455 McNeely Avenue
END:VEVENT
BEGIN:VEVENT
DTSTART;TZID=America/Toronto:20250507T170000
DTEND;TZID=America/Toronto:20250507T203000
DTSTAMP:20260422T181438
CREATED:20250319T143850Z
LAST-MODIFIED:20250319T143850Z
UID:10000984-1746637200-1746649800@carletonplace.ca
SUMMARY:Carleton Place Cruise Nights
DESCRIPTION:Classic cars\, trucks\, motorcycles\, 50/50 draw\, door prizes\, music\, and more!\nMy68lark@rogers.com or Facebook @carletonplacecruisenights
URL:https://carletonplace.ca/event/carleton-place-cruise-nights-3/2025-05-07
LOCATION:Anderson’s Independent Grocer – Parking Lot\, 455 McNeely Avenue
END:VEVENT
END:VCALENDAR