BEGIN:VCALENDAR
VERSION:2.0
PRODID:-//Town of Carleton Place - ECPv6.15.20//NONSGML v1.0//EN
CALSCALE:GREGORIAN
METHOD:PUBLISH
X-WR-CALNAME:Town of Carleton Place
X-ORIGINAL-URL:https://carletonplace.ca
X-WR-CALDESC:Events for Town of Carleton Place
REFRESH-INTERVAL;VALUE=DURATION:PT1H
X-Robots-Tag:noindex
X-PUBLISHED-TTL:PT1H
BEGIN:VTIMEZONE
TZID:America/Toronto
BEGIN:DAYLIGHT
TZOFFSETFROM:-0500
TZOFFSETTO:-0400
TZNAME:EDT
DTSTART:20240310T070000
END:DAYLIGHT
BEGIN:STANDARD
TZOFFSETFROM:-0400
TZOFFSETTO:-0500
TZNAME:EST
DTSTART:20241103T060000
END:STANDARD
BEGIN:DAYLIGHT
TZOFFSETFROM:-0500
TZOFFSETTO:-0400
TZNAME:EDT
DTSTART:20250309T070000
END:DAYLIGHT
BEGIN:STANDARD
TZOFFSETFROM:-0400
TZOFFSETTO:-0500
TZNAME:EST
DTSTART:20251102T060000
END:STANDARD
BEGIN:DAYLIGHT
TZOFFSETFROM:-0500
TZOFFSETTO:-0400
TZNAME:EDT
DTSTART:20260308T070000
END:DAYLIGHT
BEGIN:STANDARD
TZOFFSETFROM:-0400
TZOFFSETTO:-0500
TZNAME:EST
DTSTART:20261101T060000
END:STANDARD
END:VTIMEZONE
BEGIN:VEVENT
DTSTART;TZID=America/Toronto:20250625T170000
DTEND;TZID=America/Toronto:20250625T203000
DTSTAMP:20260422T232128
CREATED:20250319T143850Z
LAST-MODIFIED:20250319T143850Z
UID:10000991-1750870800-1750883400@carletonplace.ca
SUMMARY:Carleton Place Cruise Nights
DESCRIPTION:Classic cars\, trucks\, motorcycles\, 50/50 draw\, door prizes\, music\, and more!\nMy68lark@rogers.com or Facebook @carletonplacecruisenights
URL:https://carletonplace.ca/event/carleton-place-cruise-nights-3/2025-06-25
LOCATION:Anderson’s Independent Grocer – Parking Lot\, 455 McNeely Avenue
END:VEVENT
BEGIN:VEVENT
DTSTART;TZID=America/Toronto:20250618T170000
DTEND;TZID=America/Toronto:20250618T203000
DTSTAMP:20260422T232128
CREATED:20250319T143850Z
LAST-MODIFIED:20250319T143850Z
UID:10000990-1750266000-1750278600@carletonplace.ca
SUMMARY:Carleton Place Cruise Nights
DESCRIPTION:Classic cars\, trucks\, motorcycles\, 50/50 draw\, door prizes\, music\, and more!\nMy68lark@rogers.com or Facebook @carletonplacecruisenights
URL:https://carletonplace.ca/event/carleton-place-cruise-nights-3/2025-06-18
LOCATION:Anderson’s Independent Grocer – Parking Lot\, 455 McNeely Avenue
END:VEVENT
BEGIN:VEVENT
DTSTART;TZID=America/Toronto:20250611T170000
DTEND;TZID=America/Toronto:20250611T203000
DTSTAMP:20260422T232128
CREATED:20250319T143850Z
LAST-MODIFIED:20250319T143850Z
UID:10000989-1749661200-1749673800@carletonplace.ca
SUMMARY:Carleton Place Cruise Nights
DESCRIPTION:Classic cars\, trucks\, motorcycles\, 50/50 draw\, door prizes\, music\, and more!\nMy68lark@rogers.com or Facebook @carletonplacecruisenights
URL:https://carletonplace.ca/event/carleton-place-cruise-nights-3/2025-06-11
LOCATION:Anderson’s Independent Grocer – Parking Lot\, 455 McNeely Avenue
END:VEVENT
BEGIN:VEVENT
DTSTART;TZID=America/Toronto:20250604T170000
DTEND;TZID=America/Toronto:20250604T203000
DTSTAMP:20260422T232128
CREATED:20250319T143850Z
LAST-MODIFIED:20250319T143850Z
UID:10000988-1749056400-1749069000@carletonplace.ca
SUMMARY:Carleton Place Cruise Nights
DESCRIPTION:Classic cars\, trucks\, motorcycles\, 50/50 draw\, door prizes\, music\, and more!\nMy68lark@rogers.com or Facebook @carletonplacecruisenights
URL:https://carletonplace.ca/event/carleton-place-cruise-nights-3/2025-06-04
LOCATION:Anderson’s Independent Grocer – Parking Lot\, 455 McNeely Avenue
END:VEVENT
BEGIN:VEVENT
DTSTART;TZID=America/Toronto:20250528T170000
DTEND;TZID=America/Toronto:20250528T203000
DTSTAMP:20260422T232128
CREATED:20250319T143850Z
LAST-MODIFIED:20250319T143850Z
UID:10000987-1748451600-1748464200@carletonplace.ca
SUMMARY:Carleton Place Cruise Nights
DESCRIPTION:Classic cars\, trucks\, motorcycles\, 50/50 draw\, door prizes\, music\, and more!\nMy68lark@rogers.com or Facebook @carletonplacecruisenights
URL:https://carletonplace.ca/event/carleton-place-cruise-nights-3/2025-05-28
LOCATION:Anderson’s Independent Grocer – Parking Lot\, 455 McNeely Avenue
END:VEVENT
BEGIN:VEVENT
DTSTART;TZID=America/Toronto:20250521T170000
DTEND;TZID=America/Toronto:20250521T203000
DTSTAMP:20260422T232128
CREATED:20250319T143850Z
LAST-MODIFIED:20250319T143850Z
UID:10000986-1747846800-1747859400@carletonplace.ca
SUMMARY:Carleton Place Cruise Nights
DESCRIPTION:Classic cars\, trucks\, motorcycles\, 50/50 draw\, door prizes\, music\, and more!\nMy68lark@rogers.com or Facebook @carletonplacecruisenights
URL:https://carletonplace.ca/event/carleton-place-cruise-nights-3/2025-05-21
LOCATION:Anderson’s Independent Grocer – Parking Lot\, 455 McNeely Avenue
END:VEVENT
BEGIN:VEVENT
DTSTART;TZID=America/Toronto:20250514T170000
DTEND;TZID=America/Toronto:20250514T203000
DTSTAMP:20260422T232128
CREATED:20250319T143850Z
LAST-MODIFIED:20250319T143850Z
UID:10000985-1747242000-1747254600@carletonplace.ca
SUMMARY:Carleton Place Cruise Nights
DESCRIPTION:Classic cars\, trucks\, motorcycles\, 50/50 draw\, door prizes\, music\, and more!\nMy68lark@rogers.com or Facebook @carletonplacecruisenights
URL:https://carletonplace.ca/event/carleton-place-cruise-nights-3/2025-05-14
LOCATION:Anderson’s Independent Grocer – Parking Lot\, 455 McNeely Avenue
END:VEVENT
BEGIN:VEVENT
DTSTART;TZID=America/Toronto:20250507T170000
DTEND;TZID=America/Toronto:20250507T203000
DTSTAMP:20260422T232128
CREATED:20250319T143850Z
LAST-MODIFIED:20250319T143850Z
UID:10000984-1746637200-1746649800@carletonplace.ca
SUMMARY:Carleton Place Cruise Nights
DESCRIPTION:Classic cars\, trucks\, motorcycles\, 50/50 draw\, door prizes\, music\, and more!\nMy68lark@rogers.com or Facebook @carletonplacecruisenights
URL:https://carletonplace.ca/event/carleton-place-cruise-nights-3/2025-05-07
LOCATION:Anderson’s Independent Grocer – Parking Lot\, 455 McNeely Avenue
END:VEVENT
END:VCALENDAR