BEGIN:VCALENDAR
VERSION:2.0
PRODID:-//Town of Carleton Place - ECPv6.15.20//NONSGML v1.0//EN
CALSCALE:GREGORIAN
METHOD:PUBLISH
X-ORIGINAL-URL:https://carletonplace.ca
X-WR-CALDESC:Events for Town of Carleton Place
REFRESH-INTERVAL;VALUE=DURATION:PT1H
X-Robots-Tag:noindex
X-PUBLISHED-TTL:PT1H
BEGIN:VTIMEZONE
TZID:America/Toronto
BEGIN:DAYLIGHT
TZOFFSETFROM:-0500
TZOFFSETTO:-0400
TZNAME:EDT
DTSTART:20270314T070000
END:DAYLIGHT
BEGIN:STANDARD
TZOFFSETFROM:-0400
TZOFFSETTO:-0500
TZNAME:EST
DTSTART:20271107T060000
END:STANDARD
BEGIN:DAYLIGHT
TZOFFSETFROM:-0500
TZOFFSETTO:-0400
TZNAME:EDT
DTSTART:20280312T070000
END:DAYLIGHT
BEGIN:STANDARD
TZOFFSETFROM:-0400
TZOFFSETTO:-0500
TZNAME:EST
DTSTART:20281105T060000
END:STANDARD
BEGIN:DAYLIGHT
TZOFFSETFROM:-0500
TZOFFSETTO:-0400
TZNAME:EDT
DTSTART:20290311T070000
END:DAYLIGHT
BEGIN:STANDARD
TZOFFSETFROM:-0400
TZOFFSETTO:-0500
TZNAME:EST
DTSTART:20291104T060000
END:STANDARD
BEGIN:DAYLIGHT
TZOFFSETFROM:-0500
TZOFFSETTO:-0400
TZNAME:EDT
DTSTART:20300310T070000
END:DAYLIGHT
BEGIN:STANDARD
TZOFFSETFROM:-0400
TZOFFSETTO:-0500
TZNAME:EST
DTSTART:20301103T060000
END:STANDARD
END:VTIMEZONE
BEGIN:VEVENT
DTSTART;TZID=America/Toronto:20280627T163000
DTEND;TZID=America/Toronto:20280627T210000
DTSTAMP:20260420T010056
CREATED:20250916T134933Z
LAST-MODIFIED:20250916T134933Z
UID:10001350-1845736200-1845752400@carletonplace.ca
SUMMARY:Civitan  Weekly Bingo
DESCRIPTION:Doors open at 4:30\, games begin 6:30. \nWe have a well stocked canteen along with several dedicated Civitan member ready to assist you. \nSee you there!!!!!
URL:https://carletonplace.ca/event/civitan-weekly-bingo/2028-06-27
LOCATION:Carleton Place Arena\, 75 Neelin Street\, Carleton Place\, Ontario\, K7C 2J6\, Canada
END:VEVENT
BEGIN:VEVENT
DTSTART;TZID=America/Toronto:20280704T163000
DTEND;TZID=America/Toronto:20280704T210000
DTSTAMP:20260420T010056
CREATED:20250916T134933Z
LAST-MODIFIED:20250916T134933Z
UID:10001351-1846341000-1846357200@carletonplace.ca
SUMMARY:Civitan  Weekly Bingo
DESCRIPTION:Doors open at 4:30\, games begin 6:30. \nWe have a well stocked canteen along with several dedicated Civitan member ready to assist you. \nSee you there!!!!!
URL:https://carletonplace.ca/event/civitan-weekly-bingo/2028-07-04
LOCATION:Carleton Place Arena\, 75 Neelin Street\, Carleton Place\, Ontario\, K7C 2J6\, Canada
END:VEVENT
BEGIN:VEVENT
DTSTART;TZID=America/Toronto:20280711T163000
DTEND;TZID=America/Toronto:20280711T210000
DTSTAMP:20260420T010056
CREATED:20250916T134933Z
LAST-MODIFIED:20250916T134933Z
UID:10001352-1846945800-1846962000@carletonplace.ca
SUMMARY:Civitan  Weekly Bingo
DESCRIPTION:Doors open at 4:30\, games begin 6:30. \nWe have a well stocked canteen along with several dedicated Civitan member ready to assist you. \nSee you there!!!!!
URL:https://carletonplace.ca/event/civitan-weekly-bingo/2028-07-11
LOCATION:Carleton Place Arena\, 75 Neelin Street\, Carleton Place\, Ontario\, K7C 2J6\, Canada
END:VEVENT
BEGIN:VEVENT
DTSTART;TZID=America/Toronto:20280718T163000
DTEND;TZID=America/Toronto:20280718T210000
DTSTAMP:20260420T010056
CREATED:20250916T134933Z
LAST-MODIFIED:20250916T134933Z
UID:10001353-1847550600-1847566800@carletonplace.ca
SUMMARY:Civitan  Weekly Bingo
DESCRIPTION:Doors open at 4:30\, games begin 6:30. \nWe have a well stocked canteen along with several dedicated Civitan member ready to assist you. \nSee you there!!!!!
URL:https://carletonplace.ca/event/civitan-weekly-bingo/2028-07-18
LOCATION:Carleton Place Arena\, 75 Neelin Street\, Carleton Place\, Ontario\, K7C 2J6\, Canada
END:VEVENT
BEGIN:VEVENT
DTSTART;TZID=America/Toronto:20280725T163000
DTEND;TZID=America/Toronto:20280725T210000
DTSTAMP:20260420T010056
CREATED:20250916T134933Z
LAST-MODIFIED:20250916T134933Z
UID:10001354-1848155400-1848171600@carletonplace.ca
SUMMARY:Civitan  Weekly Bingo
DESCRIPTION:Doors open at 4:30\, games begin 6:30. \nWe have a well stocked canteen along with several dedicated Civitan member ready to assist you. \nSee you there!!!!!
URL:https://carletonplace.ca/event/civitan-weekly-bingo/2028-07-25
LOCATION:Carleton Place Arena\, 75 Neelin Street\, Carleton Place\, Ontario\, K7C 2J6\, Canada
END:VEVENT
BEGIN:VEVENT
DTSTART;TZID=America/Toronto:20280801T163000
DTEND;TZID=America/Toronto:20280801T210000
DTSTAMP:20260420T010056
CREATED:20250916T134933Z
LAST-MODIFIED:20250916T134933Z
UID:10001355-1848760200-1848776400@carletonplace.ca
SUMMARY:Civitan  Weekly Bingo
DESCRIPTION:Doors open at 4:30\, games begin 6:30. \nWe have a well stocked canteen along with several dedicated Civitan member ready to assist you. \nSee you there!!!!!
URL:https://carletonplace.ca/event/civitan-weekly-bingo/2028-08-01
LOCATION:Carleton Place Arena\, 75 Neelin Street\, Carleton Place\, Ontario\, K7C 2J6\, Canada
END:VEVENT
BEGIN:VEVENT
DTSTART;TZID=America/Toronto:20280808T163000
DTEND;TZID=America/Toronto:20280808T210000
DTSTAMP:20260420T010056
CREATED:20250916T134933Z
LAST-MODIFIED:20250916T134933Z
UID:10001356-1849365000-1849381200@carletonplace.ca
SUMMARY:Civitan  Weekly Bingo
DESCRIPTION:Doors open at 4:30\, games begin 6:30. \nWe have a well stocked canteen along with several dedicated Civitan member ready to assist you. \nSee you there!!!!!
URL:https://carletonplace.ca/event/civitan-weekly-bingo/2028-08-08
LOCATION:Carleton Place Arena\, 75 Neelin Street\, Carleton Place\, Ontario\, K7C 2J6\, Canada
END:VEVENT
BEGIN:VEVENT
DTSTART;TZID=America/Toronto:20280815T163000
DTEND;TZID=America/Toronto:20280815T210000
DTSTAMP:20260420T010056
CREATED:20250916T134933Z
LAST-MODIFIED:20250916T134933Z
UID:10001357-1849969800-1849986000@carletonplace.ca
SUMMARY:Civitan  Weekly Bingo
DESCRIPTION:Doors open at 4:30\, games begin 6:30. \nWe have a well stocked canteen along with several dedicated Civitan member ready to assist you. \nSee you there!!!!!
URL:https://carletonplace.ca/event/civitan-weekly-bingo/2028-08-15
LOCATION:Carleton Place Arena\, 75 Neelin Street\, Carleton Place\, Ontario\, K7C 2J6\, Canada
END:VEVENT
BEGIN:VEVENT
DTSTART;TZID=America/Toronto:20280822T163000
DTEND;TZID=America/Toronto:20280822T210000
DTSTAMP:20260420T010056
CREATED:20250916T134933Z
LAST-MODIFIED:20250916T134933Z
UID:10001358-1850574600-1850590800@carletonplace.ca
SUMMARY:Civitan  Weekly Bingo
DESCRIPTION:Doors open at 4:30\, games begin 6:30. \nWe have a well stocked canteen along with several dedicated Civitan member ready to assist you. \nSee you there!!!!!
URL:https://carletonplace.ca/event/civitan-weekly-bingo/2028-08-22
LOCATION:Carleton Place Arena\, 75 Neelin Street\, Carleton Place\, Ontario\, K7C 2J6\, Canada
END:VEVENT
BEGIN:VEVENT
DTSTART;TZID=America/Toronto:20280829T163000
DTEND;TZID=America/Toronto:20280829T210000
DTSTAMP:20260420T010056
CREATED:20250916T134933Z
LAST-MODIFIED:20250916T134933Z
UID:10001359-1851179400-1851195600@carletonplace.ca
SUMMARY:Civitan  Weekly Bingo
DESCRIPTION:Doors open at 4:30\, games begin 6:30. \nWe have a well stocked canteen along with several dedicated Civitan member ready to assist you. \nSee you there!!!!!
URL:https://carletonplace.ca/event/civitan-weekly-bingo/2028-08-29
LOCATION:Carleton Place Arena\, 75 Neelin Street\, Carleton Place\, Ontario\, K7C 2J6\, Canada
END:VEVENT
BEGIN:VEVENT
DTSTART;TZID=America/Toronto:20280905T163000
DTEND;TZID=America/Toronto:20280905T210000
DTSTAMP:20260420T010056
CREATED:20250916T134933Z
LAST-MODIFIED:20250916T134933Z
UID:10001360-1851784200-1851800400@carletonplace.ca
SUMMARY:Civitan  Weekly Bingo
DESCRIPTION:Doors open at 4:30\, games begin 6:30. \nWe have a well stocked canteen along with several dedicated Civitan member ready to assist you. \nSee you there!!!!!
URL:https://carletonplace.ca/event/civitan-weekly-bingo/2028-09-05
LOCATION:Carleton Place Arena\, 75 Neelin Street\, Carleton Place\, Ontario\, K7C 2J6\, Canada
END:VEVENT
BEGIN:VEVENT
DTSTART;TZID=America/Toronto:20280912T163000
DTEND;TZID=America/Toronto:20280912T210000
DTSTAMP:20260420T010056
CREATED:20250916T134933Z
LAST-MODIFIED:20250916T134933Z
UID:10001361-1852389000-1852405200@carletonplace.ca
SUMMARY:Civitan  Weekly Bingo
DESCRIPTION:Doors open at 4:30\, games begin 6:30. \nWe have a well stocked canteen along with several dedicated Civitan member ready to assist you. \nSee you there!!!!!
URL:https://carletonplace.ca/event/civitan-weekly-bingo/2028-09-12
LOCATION:Carleton Place Arena\, 75 Neelin Street\, Carleton Place\, Ontario\, K7C 2J6\, Canada
END:VEVENT
BEGIN:VEVENT
DTSTART;TZID=America/Toronto:20280919T163000
DTEND;TZID=America/Toronto:20280919T210000
DTSTAMP:20260420T010056
CREATED:20250916T134933Z
LAST-MODIFIED:20250916T134933Z
UID:10001362-1852993800-1853010000@carletonplace.ca
SUMMARY:Civitan  Weekly Bingo
DESCRIPTION:Doors open at 4:30\, games begin 6:30. \nWe have a well stocked canteen along with several dedicated Civitan member ready to assist you. \nSee you there!!!!!
URL:https://carletonplace.ca/event/civitan-weekly-bingo/2028-09-19
LOCATION:Carleton Place Arena\, 75 Neelin Street\, Carleton Place\, Ontario\, K7C 2J6\, Canada
END:VEVENT
BEGIN:VEVENT
DTSTART;TZID=America/Toronto:20280926T163000
DTEND;TZID=America/Toronto:20280926T210000
DTSTAMP:20260420T010056
CREATED:20250916T134933Z
LAST-MODIFIED:20250916T134933Z
UID:10001363-1853598600-1853614800@carletonplace.ca
SUMMARY:Civitan  Weekly Bingo
DESCRIPTION:Doors open at 4:30\, games begin 6:30. \nWe have a well stocked canteen along with several dedicated Civitan member ready to assist you. \nSee you there!!!!!
URL:https://carletonplace.ca/event/civitan-weekly-bingo/2028-09-26
LOCATION:Carleton Place Arena\, 75 Neelin Street\, Carleton Place\, Ontario\, K7C 2J6\, Canada
END:VEVENT
BEGIN:VEVENT
DTSTART;TZID=America/Toronto:20281003T163000
DTEND;TZID=America/Toronto:20281003T210000
DTSTAMP:20260420T010056
CREATED:20250916T134933Z
LAST-MODIFIED:20250916T134933Z
UID:10001364-1854203400-1854219600@carletonplace.ca
SUMMARY:Civitan  Weekly Bingo
DESCRIPTION:Doors open at 4:30\, games begin 6:30. \nWe have a well stocked canteen along with several dedicated Civitan member ready to assist you. \nSee you there!!!!!
URL:https://carletonplace.ca/event/civitan-weekly-bingo/2028-10-03
LOCATION:Carleton Place Arena\, 75 Neelin Street\, Carleton Place\, Ontario\, K7C 2J6\, Canada
END:VEVENT
BEGIN:VEVENT
DTSTART;TZID=America/Toronto:20281010T163000
DTEND;TZID=America/Toronto:20281010T210000
DTSTAMP:20260420T010056
CREATED:20250916T134933Z
LAST-MODIFIED:20250916T134933Z
UID:10001365-1854808200-1854824400@carletonplace.ca
SUMMARY:Civitan  Weekly Bingo
DESCRIPTION:Doors open at 4:30\, games begin 6:30. \nWe have a well stocked canteen along with several dedicated Civitan member ready to assist you. \nSee you there!!!!!
URL:https://carletonplace.ca/event/civitan-weekly-bingo/2028-10-10
LOCATION:Carleton Place Arena\, 75 Neelin Street\, Carleton Place\, Ontario\, K7C 2J6\, Canada
END:VEVENT
BEGIN:VEVENT
DTSTART;TZID=America/Toronto:20281017T163000
DTEND;TZID=America/Toronto:20281017T210000
DTSTAMP:20260420T010057
CREATED:20250916T134933Z
LAST-MODIFIED:20250916T134933Z
UID:10001366-1855413000-1855429200@carletonplace.ca
SUMMARY:Civitan  Weekly Bingo
DESCRIPTION:Doors open at 4:30\, games begin 6:30. \nWe have a well stocked canteen along with several dedicated Civitan member ready to assist you. \nSee you there!!!!!
URL:https://carletonplace.ca/event/civitan-weekly-bingo/2028-10-17
LOCATION:Carleton Place Arena\, 75 Neelin Street\, Carleton Place\, Ontario\, K7C 2J6\, Canada
END:VEVENT
BEGIN:VEVENT
DTSTART;TZID=America/Toronto:20281024T163000
DTEND;TZID=America/Toronto:20281024T210000
DTSTAMP:20260420T010057
CREATED:20250916T134933Z
LAST-MODIFIED:20250916T134933Z
UID:10001367-1856017800-1856034000@carletonplace.ca
SUMMARY:Civitan  Weekly Bingo
DESCRIPTION:Doors open at 4:30\, games begin 6:30. \nWe have a well stocked canteen along with several dedicated Civitan member ready to assist you. \nSee you there!!!!!
URL:https://carletonplace.ca/event/civitan-weekly-bingo/2028-10-24
LOCATION:Carleton Place Arena\, 75 Neelin Street\, Carleton Place\, Ontario\, K7C 2J6\, Canada
END:VEVENT
BEGIN:VEVENT
DTSTART;TZID=America/Toronto:20281031T163000
DTEND;TZID=America/Toronto:20281031T210000
DTSTAMP:20260420T010057
CREATED:20250916T134933Z
LAST-MODIFIED:20250916T134933Z
UID:10001368-1856622600-1856638800@carletonplace.ca
SUMMARY:Civitan  Weekly Bingo
DESCRIPTION:Doors open at 4:30\, games begin 6:30. \nWe have a well stocked canteen along with several dedicated Civitan member ready to assist you. \nSee you there!!!!!
URL:https://carletonplace.ca/event/civitan-weekly-bingo/2028-10-31
LOCATION:Carleton Place Arena\, 75 Neelin Street\, Carleton Place\, Ontario\, K7C 2J6\, Canada
END:VEVENT
BEGIN:VEVENT
DTSTART;TZID=America/Toronto:20281107T163000
DTEND;TZID=America/Toronto:20281107T210000
DTSTAMP:20260420T010057
CREATED:20250916T134933Z
LAST-MODIFIED:20250916T134933Z
UID:10001369-1857227400-1857243600@carletonplace.ca
SUMMARY:Civitan  Weekly Bingo
DESCRIPTION:Doors open at 4:30\, games begin 6:30. \nWe have a well stocked canteen along with several dedicated Civitan member ready to assist you. \nSee you there!!!!!
URL:https://carletonplace.ca/event/civitan-weekly-bingo/2028-11-07
LOCATION:Carleton Place Arena\, 75 Neelin Street\, Carleton Place\, Ontario\, K7C 2J6\, Canada
END:VEVENT
BEGIN:VEVENT
DTSTART;TZID=America/Toronto:20281114T163000
DTEND;TZID=America/Toronto:20281114T210000
DTSTAMP:20260420T010057
CREATED:20250916T134933Z
LAST-MODIFIED:20250916T134933Z
UID:10001370-1857832200-1857848400@carletonplace.ca
SUMMARY:Civitan  Weekly Bingo
DESCRIPTION:Doors open at 4:30\, games begin 6:30. \nWe have a well stocked canteen along with several dedicated Civitan member ready to assist you. \nSee you there!!!!!
URL:https://carletonplace.ca/event/civitan-weekly-bingo/2028-11-14
LOCATION:Carleton Place Arena\, 75 Neelin Street\, Carleton Place\, Ontario\, K7C 2J6\, Canada
END:VEVENT
BEGIN:VEVENT
DTSTART;TZID=America/Toronto:20281121T163000
DTEND;TZID=America/Toronto:20281121T210000
DTSTAMP:20260420T010057
CREATED:20250916T134933Z
LAST-MODIFIED:20250916T134933Z
UID:10001371-1858437000-1858453200@carletonplace.ca
SUMMARY:Civitan  Weekly Bingo
DESCRIPTION:Doors open at 4:30\, games begin 6:30. \nWe have a well stocked canteen along with several dedicated Civitan member ready to assist you. \nSee you there!!!!!
URL:https://carletonplace.ca/event/civitan-weekly-bingo/2028-11-21
LOCATION:Carleton Place Arena\, 75 Neelin Street\, Carleton Place\, Ontario\, K7C 2J6\, Canada
END:VEVENT
BEGIN:VEVENT
DTSTART;TZID=America/Toronto:20281128T163000
DTEND;TZID=America/Toronto:20281128T210000
DTSTAMP:20260420T010057
CREATED:20250916T134933Z
LAST-MODIFIED:20250916T134933Z
UID:10001372-1859041800-1859058000@carletonplace.ca
SUMMARY:Civitan  Weekly Bingo
DESCRIPTION:Doors open at 4:30\, games begin 6:30. \nWe have a well stocked canteen along with several dedicated Civitan member ready to assist you. \nSee you there!!!!!
URL:https://carletonplace.ca/event/civitan-weekly-bingo/2028-11-28
LOCATION:Carleton Place Arena\, 75 Neelin Street\, Carleton Place\, Ontario\, K7C 2J6\, Canada
END:VEVENT
BEGIN:VEVENT
DTSTART;TZID=America/Toronto:20281205T163000
DTEND;TZID=America/Toronto:20281205T210000
DTSTAMP:20260420T010057
CREATED:20250916T134933Z
LAST-MODIFIED:20250916T134933Z
UID:10001373-1859646600-1859662800@carletonplace.ca
SUMMARY:Civitan  Weekly Bingo
DESCRIPTION:Doors open at 4:30\, games begin 6:30. \nWe have a well stocked canteen along with several dedicated Civitan member ready to assist you. \nSee you there!!!!!
URL:https://carletonplace.ca/event/civitan-weekly-bingo/2028-12-05
LOCATION:Carleton Place Arena\, 75 Neelin Street\, Carleton Place\, Ontario\, K7C 2J6\, Canada
END:VEVENT
BEGIN:VEVENT
DTSTART;TZID=America/Toronto:20281212T163000
DTEND;TZID=America/Toronto:20281212T210000
DTSTAMP:20260420T010057
CREATED:20250916T134933Z
LAST-MODIFIED:20250916T134933Z
UID:10001374-1860251400-1860267600@carletonplace.ca
SUMMARY:Civitan  Weekly Bingo
DESCRIPTION:Doors open at 4:30\, games begin 6:30. \nWe have a well stocked canteen along with several dedicated Civitan member ready to assist you. \nSee you there!!!!!
URL:https://carletonplace.ca/event/civitan-weekly-bingo/2028-12-12
LOCATION:Carleton Place Arena\, 75 Neelin Street\, Carleton Place\, Ontario\, K7C 2J6\, Canada
END:VEVENT
BEGIN:VEVENT
DTSTART;TZID=America/Toronto:20281219T163000
DTEND;TZID=America/Toronto:20281219T210000
DTSTAMP:20260420T010057
CREATED:20250916T134933Z
LAST-MODIFIED:20250916T134933Z
UID:10001375-1860856200-1860872400@carletonplace.ca
SUMMARY:Civitan  Weekly Bingo
DESCRIPTION:Doors open at 4:30\, games begin 6:30. \nWe have a well stocked canteen along with several dedicated Civitan member ready to assist you. \nSee you there!!!!!
URL:https://carletonplace.ca/event/civitan-weekly-bingo/2028-12-19
LOCATION:Carleton Place Arena\, 75 Neelin Street\, Carleton Place\, Ontario\, K7C 2J6\, Canada
END:VEVENT
BEGIN:VEVENT
DTSTART;TZID=America/Toronto:20281226T163000
DTEND;TZID=America/Toronto:20281226T210000
DTSTAMP:20260420T010057
CREATED:20250916T134933Z
LAST-MODIFIED:20250916T134933Z
UID:10001376-1861461000-1861477200@carletonplace.ca
SUMMARY:Civitan  Weekly Bingo
DESCRIPTION:Doors open at 4:30\, games begin 6:30. \nWe have a well stocked canteen along with several dedicated Civitan member ready to assist you. \nSee you there!!!!!
URL:https://carletonplace.ca/event/civitan-weekly-bingo/2028-12-26
LOCATION:Carleton Place Arena\, 75 Neelin Street\, Carleton Place\, Ontario\, K7C 2J6\, Canada
END:VEVENT
BEGIN:VEVENT
DTSTART;TZID=America/Toronto:20290102T163000
DTEND;TZID=America/Toronto:20290102T210000
DTSTAMP:20260420T010057
CREATED:20250916T134933Z
LAST-MODIFIED:20250916T134933Z
UID:10001377-1862065800-1862082000@carletonplace.ca
SUMMARY:Civitan  Weekly Bingo
DESCRIPTION:Doors open at 4:30\, games begin 6:30. \nWe have a well stocked canteen along with several dedicated Civitan member ready to assist you. \nSee you there!!!!!
URL:https://carletonplace.ca/event/civitan-weekly-bingo/2029-01-02
LOCATION:Carleton Place Arena\, 75 Neelin Street\, Carleton Place\, Ontario\, K7C 2J6\, Canada
END:VEVENT
BEGIN:VEVENT
DTSTART;TZID=America/Toronto:20290109T163000
DTEND;TZID=America/Toronto:20290109T210000
DTSTAMP:20260420T010057
CREATED:20250916T134933Z
LAST-MODIFIED:20250916T134933Z
UID:10001378-1862670600-1862686800@carletonplace.ca
SUMMARY:Civitan  Weekly Bingo
DESCRIPTION:Doors open at 4:30\, games begin 6:30. \nWe have a well stocked canteen along with several dedicated Civitan member ready to assist you. \nSee you there!!!!!
URL:https://carletonplace.ca/event/civitan-weekly-bingo/2029-01-09
LOCATION:Carleton Place Arena\, 75 Neelin Street\, Carleton Place\, Ontario\, K7C 2J6\, Canada
END:VEVENT
BEGIN:VEVENT
DTSTART;TZID=America/Toronto:20290116T163000
DTEND;TZID=America/Toronto:20290116T210000
DTSTAMP:20260420T010057
CREATED:20250916T134933Z
LAST-MODIFIED:20250916T134933Z
UID:10001379-1863275400-1863291600@carletonplace.ca
SUMMARY:Civitan  Weekly Bingo
DESCRIPTION:Doors open at 4:30\, games begin 6:30. \nWe have a well stocked canteen along with several dedicated Civitan member ready to assist you. \nSee you there!!!!!
URL:https://carletonplace.ca/event/civitan-weekly-bingo/2029-01-16
LOCATION:Carleton Place Arena\, 75 Neelin Street\, Carleton Place\, Ontario\, K7C 2J6\, Canada
END:VEVENT
END:VCALENDAR