BEGIN:VCALENDAR
VERSION:2.0
PRODID:-//Town of Carleton Place - ECPv6.15.20//NONSGML v1.0//EN
CALSCALE:GREGORIAN
METHOD:PUBLISH
X-ORIGINAL-URL:https://carletonplace.ca
X-WR-CALDESC:Events for Town of Carleton Place
REFRESH-INTERVAL;VALUE=DURATION:PT1H
X-Robots-Tag:noindex
X-PUBLISHED-TTL:PT1H
BEGIN:VTIMEZONE
TZID:America/Toronto
BEGIN:DAYLIGHT
TZOFFSETFROM:-0500
TZOFFSETTO:-0400
TZNAME:EDT
DTSTART:20280312T070000
END:DAYLIGHT
BEGIN:STANDARD
TZOFFSETFROM:-0400
TZOFFSETTO:-0500
TZNAME:EST
DTSTART:20281105T060000
END:STANDARD
BEGIN:DAYLIGHT
TZOFFSETFROM:-0500
TZOFFSETTO:-0400
TZNAME:EDT
DTSTART:20290311T070000
END:DAYLIGHT
BEGIN:STANDARD
TZOFFSETFROM:-0400
TZOFFSETTO:-0500
TZNAME:EST
DTSTART:20291104T060000
END:STANDARD
BEGIN:DAYLIGHT
TZOFFSETFROM:-0500
TZOFFSETTO:-0400
TZNAME:EDT
DTSTART:20300310T070000
END:DAYLIGHT
BEGIN:STANDARD
TZOFFSETFROM:-0400
TZOFFSETTO:-0500
TZNAME:EST
DTSTART:20301103T060000
END:STANDARD
BEGIN:DAYLIGHT
TZOFFSETFROM:-0500
TZOFFSETTO:-0400
TZNAME:EDT
DTSTART:20310309T070000
END:DAYLIGHT
BEGIN:STANDARD
TZOFFSETFROM:-0400
TZOFFSETTO:-0500
TZNAME:EST
DTSTART:20311102T060000
END:STANDARD
END:VTIMEZONE
BEGIN:VEVENT
DTSTART;TZID=America/Toronto:20290612T163000
DTEND;TZID=America/Toronto:20290612T210000
DTSTAMP:20260425T072043
CREATED:20250916T134933Z
LAST-MODIFIED:20250916T134933Z
UID:10001400-1875976200-1875992400@carletonplace.ca
SUMMARY:Civitan  Weekly Bingo
DESCRIPTION:Doors open at 4:30\, games begin 6:30. \nWe have a well stocked canteen along with several dedicated Civitan member ready to assist you. \nSee you there!!!!!
URL:https://carletonplace.ca/event/civitan-weekly-bingo/2029-06-12
LOCATION:Carleton Place Arena\, 75 Neelin Street\, Carleton Place\, Ontario\, K7C 2J6\, Canada
END:VEVENT
BEGIN:VEVENT
DTSTART;TZID=America/Toronto:20290619T163000
DTEND;TZID=America/Toronto:20290619T210000
DTSTAMP:20260425T072043
CREATED:20250916T134933Z
LAST-MODIFIED:20250916T134933Z
UID:10001401-1876581000-1876597200@carletonplace.ca
SUMMARY:Civitan  Weekly Bingo
DESCRIPTION:Doors open at 4:30\, games begin 6:30. \nWe have a well stocked canteen along with several dedicated Civitan member ready to assist you. \nSee you there!!!!!
URL:https://carletonplace.ca/event/civitan-weekly-bingo/2029-06-19
LOCATION:Carleton Place Arena\, 75 Neelin Street\, Carleton Place\, Ontario\, K7C 2J6\, Canada
END:VEVENT
BEGIN:VEVENT
DTSTART;TZID=America/Toronto:20290626T163000
DTEND;TZID=America/Toronto:20290626T210000
DTSTAMP:20260425T072043
CREATED:20250916T134933Z
LAST-MODIFIED:20250916T134933Z
UID:10001402-1877185800-1877202000@carletonplace.ca
SUMMARY:Civitan  Weekly Bingo
DESCRIPTION:Doors open at 4:30\, games begin 6:30. \nWe have a well stocked canteen along with several dedicated Civitan member ready to assist you. \nSee you there!!!!!
URL:https://carletonplace.ca/event/civitan-weekly-bingo/2029-06-26
LOCATION:Carleton Place Arena\, 75 Neelin Street\, Carleton Place\, Ontario\, K7C 2J6\, Canada
END:VEVENT
BEGIN:VEVENT
DTSTART;TZID=America/Toronto:20290703T163000
DTEND;TZID=America/Toronto:20290703T210000
DTSTAMP:20260425T072043
CREATED:20250916T134933Z
LAST-MODIFIED:20250916T134933Z
UID:10001403-1877790600-1877806800@carletonplace.ca
SUMMARY:Civitan  Weekly Bingo
DESCRIPTION:Doors open at 4:30\, games begin 6:30. \nWe have a well stocked canteen along with several dedicated Civitan member ready to assist you. \nSee you there!!!!!
URL:https://carletonplace.ca/event/civitan-weekly-bingo/2029-07-03
LOCATION:Carleton Place Arena\, 75 Neelin Street\, Carleton Place\, Ontario\, K7C 2J6\, Canada
END:VEVENT
BEGIN:VEVENT
DTSTART;TZID=America/Toronto:20290710T163000
DTEND;TZID=America/Toronto:20290710T210000
DTSTAMP:20260425T072043
CREATED:20250916T134933Z
LAST-MODIFIED:20250916T134933Z
UID:10001404-1878395400-1878411600@carletonplace.ca
SUMMARY:Civitan  Weekly Bingo
DESCRIPTION:Doors open at 4:30\, games begin 6:30. \nWe have a well stocked canteen along with several dedicated Civitan member ready to assist you. \nSee you there!!!!!
URL:https://carletonplace.ca/event/civitan-weekly-bingo/2029-07-10
LOCATION:Carleton Place Arena\, 75 Neelin Street\, Carleton Place\, Ontario\, K7C 2J6\, Canada
END:VEVENT
BEGIN:VEVENT
DTSTART;TZID=America/Toronto:20290717T163000
DTEND;TZID=America/Toronto:20290717T210000
DTSTAMP:20260425T072043
CREATED:20250916T134933Z
LAST-MODIFIED:20250916T134933Z
UID:10001405-1879000200-1879016400@carletonplace.ca
SUMMARY:Civitan  Weekly Bingo
DESCRIPTION:Doors open at 4:30\, games begin 6:30. \nWe have a well stocked canteen along with several dedicated Civitan member ready to assist you. \nSee you there!!!!!
URL:https://carletonplace.ca/event/civitan-weekly-bingo/2029-07-17
LOCATION:Carleton Place Arena\, 75 Neelin Street\, Carleton Place\, Ontario\, K7C 2J6\, Canada
END:VEVENT
BEGIN:VEVENT
DTSTART;TZID=America/Toronto:20290724T163000
DTEND;TZID=America/Toronto:20290724T210000
DTSTAMP:20260425T072043
CREATED:20250916T134933Z
LAST-MODIFIED:20250916T134933Z
UID:10001406-1879605000-1879621200@carletonplace.ca
SUMMARY:Civitan  Weekly Bingo
DESCRIPTION:Doors open at 4:30\, games begin 6:30. \nWe have a well stocked canteen along with several dedicated Civitan member ready to assist you. \nSee you there!!!!!
URL:https://carletonplace.ca/event/civitan-weekly-bingo/2029-07-24
LOCATION:Carleton Place Arena\, 75 Neelin Street\, Carleton Place\, Ontario\, K7C 2J6\, Canada
END:VEVENT
BEGIN:VEVENT
DTSTART;TZID=America/Toronto:20290731T163000
DTEND;TZID=America/Toronto:20290731T210000
DTSTAMP:20260425T072043
CREATED:20250916T134933Z
LAST-MODIFIED:20250916T134933Z
UID:10001407-1880209800-1880226000@carletonplace.ca
SUMMARY:Civitan  Weekly Bingo
DESCRIPTION:Doors open at 4:30\, games begin 6:30. \nWe have a well stocked canteen along with several dedicated Civitan member ready to assist you. \nSee you there!!!!!
URL:https://carletonplace.ca/event/civitan-weekly-bingo/2029-07-31
LOCATION:Carleton Place Arena\, 75 Neelin Street\, Carleton Place\, Ontario\, K7C 2J6\, Canada
END:VEVENT
BEGIN:VEVENT
DTSTART;TZID=America/Toronto:20290807T163000
DTEND;TZID=America/Toronto:20290807T210000
DTSTAMP:20260425T072043
CREATED:20250916T134933Z
LAST-MODIFIED:20250916T134933Z
UID:10001408-1880814600-1880830800@carletonplace.ca
SUMMARY:Civitan  Weekly Bingo
DESCRIPTION:Doors open at 4:30\, games begin 6:30. \nWe have a well stocked canteen along with several dedicated Civitan member ready to assist you. \nSee you there!!!!!
URL:https://carletonplace.ca/event/civitan-weekly-bingo/2029-08-07
LOCATION:Carleton Place Arena\, 75 Neelin Street\, Carleton Place\, Ontario\, K7C 2J6\, Canada
END:VEVENT
BEGIN:VEVENT
DTSTART;TZID=America/Toronto:20290814T163000
DTEND;TZID=America/Toronto:20290814T210000
DTSTAMP:20260425T072043
CREATED:20250916T134933Z
LAST-MODIFIED:20250916T134933Z
UID:10001409-1881419400-1881435600@carletonplace.ca
SUMMARY:Civitan  Weekly Bingo
DESCRIPTION:Doors open at 4:30\, games begin 6:30. \nWe have a well stocked canteen along with several dedicated Civitan member ready to assist you. \nSee you there!!!!!
URL:https://carletonplace.ca/event/civitan-weekly-bingo/2029-08-14
LOCATION:Carleton Place Arena\, 75 Neelin Street\, Carleton Place\, Ontario\, K7C 2J6\, Canada
END:VEVENT
BEGIN:VEVENT
DTSTART;TZID=America/Toronto:20290821T163000
DTEND;TZID=America/Toronto:20290821T210000
DTSTAMP:20260425T072043
CREATED:20250916T134933Z
LAST-MODIFIED:20250916T134933Z
UID:10001410-1882024200-1882040400@carletonplace.ca
SUMMARY:Civitan  Weekly Bingo
DESCRIPTION:Doors open at 4:30\, games begin 6:30. \nWe have a well stocked canteen along with several dedicated Civitan member ready to assist you. \nSee you there!!!!!
URL:https://carletonplace.ca/event/civitan-weekly-bingo/2029-08-21
LOCATION:Carleton Place Arena\, 75 Neelin Street\, Carleton Place\, Ontario\, K7C 2J6\, Canada
END:VEVENT
BEGIN:VEVENT
DTSTART;TZID=America/Toronto:20290828T163000
DTEND;TZID=America/Toronto:20290828T210000
DTSTAMP:20260425T072043
CREATED:20250916T134933Z
LAST-MODIFIED:20250916T134933Z
UID:10001411-1882629000-1882645200@carletonplace.ca
SUMMARY:Civitan  Weekly Bingo
DESCRIPTION:Doors open at 4:30\, games begin 6:30. \nWe have a well stocked canteen along with several dedicated Civitan member ready to assist you. \nSee you there!!!!!
URL:https://carletonplace.ca/event/civitan-weekly-bingo/2029-08-28
LOCATION:Carleton Place Arena\, 75 Neelin Street\, Carleton Place\, Ontario\, K7C 2J6\, Canada
END:VEVENT
BEGIN:VEVENT
DTSTART;TZID=America/Toronto:20290904T163000
DTEND;TZID=America/Toronto:20290904T210000
DTSTAMP:20260425T072043
CREATED:20250916T134933Z
LAST-MODIFIED:20250916T134933Z
UID:10001412-1883233800-1883250000@carletonplace.ca
SUMMARY:Civitan  Weekly Bingo
DESCRIPTION:Doors open at 4:30\, games begin 6:30. \nWe have a well stocked canteen along with several dedicated Civitan member ready to assist you. \nSee you there!!!!!
URL:https://carletonplace.ca/event/civitan-weekly-bingo/2029-09-04
LOCATION:Carleton Place Arena\, 75 Neelin Street\, Carleton Place\, Ontario\, K7C 2J6\, Canada
END:VEVENT
BEGIN:VEVENT
DTSTART;TZID=America/Toronto:20290911T163000
DTEND;TZID=America/Toronto:20290911T210000
DTSTAMP:20260425T072043
CREATED:20250916T134933Z
LAST-MODIFIED:20250916T134933Z
UID:10001413-1883838600-1883854800@carletonplace.ca
SUMMARY:Civitan  Weekly Bingo
DESCRIPTION:Doors open at 4:30\, games begin 6:30. \nWe have a well stocked canteen along with several dedicated Civitan member ready to assist you. \nSee you there!!!!!
URL:https://carletonplace.ca/event/civitan-weekly-bingo/2029-09-11
LOCATION:Carleton Place Arena\, 75 Neelin Street\, Carleton Place\, Ontario\, K7C 2J6\, Canada
END:VEVENT
BEGIN:VEVENT
DTSTART;TZID=America/Toronto:20290918T163000
DTEND;TZID=America/Toronto:20290918T210000
DTSTAMP:20260425T072043
CREATED:20250916T134933Z
LAST-MODIFIED:20250916T134933Z
UID:10001414-1884443400-1884459600@carletonplace.ca
SUMMARY:Civitan  Weekly Bingo
DESCRIPTION:Doors open at 4:30\, games begin 6:30. \nWe have a well stocked canteen along with several dedicated Civitan member ready to assist you. \nSee you there!!!!!
URL:https://carletonplace.ca/event/civitan-weekly-bingo/2029-09-18
LOCATION:Carleton Place Arena\, 75 Neelin Street\, Carleton Place\, Ontario\, K7C 2J6\, Canada
END:VEVENT
BEGIN:VEVENT
DTSTART;TZID=America/Toronto:20290925T163000
DTEND;TZID=America/Toronto:20290925T210000
DTSTAMP:20260425T072043
CREATED:20250916T134933Z
LAST-MODIFIED:20250916T134933Z
UID:10001415-1885048200-1885064400@carletonplace.ca
SUMMARY:Civitan  Weekly Bingo
DESCRIPTION:Doors open at 4:30\, games begin 6:30. \nWe have a well stocked canteen along with several dedicated Civitan member ready to assist you. \nSee you there!!!!!
URL:https://carletonplace.ca/event/civitan-weekly-bingo/2029-09-25
LOCATION:Carleton Place Arena\, 75 Neelin Street\, Carleton Place\, Ontario\, K7C 2J6\, Canada
END:VEVENT
BEGIN:VEVENT
DTSTART;TZID=America/Toronto:20291002T163000
DTEND;TZID=America/Toronto:20291002T210000
DTSTAMP:20260425T072043
CREATED:20250916T134933Z
LAST-MODIFIED:20250916T134933Z
UID:10001416-1885653000-1885669200@carletonplace.ca
SUMMARY:Civitan  Weekly Bingo
DESCRIPTION:Doors open at 4:30\, games begin 6:30. \nWe have a well stocked canteen along with several dedicated Civitan member ready to assist you. \nSee you there!!!!!
URL:https://carletonplace.ca/event/civitan-weekly-bingo/2029-10-02
LOCATION:Carleton Place Arena\, 75 Neelin Street\, Carleton Place\, Ontario\, K7C 2J6\, Canada
END:VEVENT
BEGIN:VEVENT
DTSTART;TZID=America/Toronto:20291009T163000
DTEND;TZID=America/Toronto:20291009T210000
DTSTAMP:20260425T072043
CREATED:20250916T134933Z
LAST-MODIFIED:20250916T134933Z
UID:10001417-1886257800-1886274000@carletonplace.ca
SUMMARY:Civitan  Weekly Bingo
DESCRIPTION:Doors open at 4:30\, games begin 6:30. \nWe have a well stocked canteen along with several dedicated Civitan member ready to assist you. \nSee you there!!!!!
URL:https://carletonplace.ca/event/civitan-weekly-bingo/2029-10-09
LOCATION:Carleton Place Arena\, 75 Neelin Street\, Carleton Place\, Ontario\, K7C 2J6\, Canada
END:VEVENT
BEGIN:VEVENT
DTSTART;TZID=America/Toronto:20291016T163000
DTEND;TZID=America/Toronto:20291016T210000
DTSTAMP:20260425T072043
CREATED:20250916T134933Z
LAST-MODIFIED:20250916T134933Z
UID:10001418-1886862600-1886878800@carletonplace.ca
SUMMARY:Civitan  Weekly Bingo
DESCRIPTION:Doors open at 4:30\, games begin 6:30. \nWe have a well stocked canteen along with several dedicated Civitan member ready to assist you. \nSee you there!!!!!
URL:https://carletonplace.ca/event/civitan-weekly-bingo/2029-10-16
LOCATION:Carleton Place Arena\, 75 Neelin Street\, Carleton Place\, Ontario\, K7C 2J6\, Canada
END:VEVENT
BEGIN:VEVENT
DTSTART;TZID=America/Toronto:20291023T163000
DTEND;TZID=America/Toronto:20291023T210000
DTSTAMP:20260425T072044
CREATED:20250916T134933Z
LAST-MODIFIED:20250916T134933Z
UID:10001419-1887467400-1887483600@carletonplace.ca
SUMMARY:Civitan  Weekly Bingo
DESCRIPTION:Doors open at 4:30\, games begin 6:30. \nWe have a well stocked canteen along with several dedicated Civitan member ready to assist you. \nSee you there!!!!!
URL:https://carletonplace.ca/event/civitan-weekly-bingo/2029-10-23
LOCATION:Carleton Place Arena\, 75 Neelin Street\, Carleton Place\, Ontario\, K7C 2J6\, Canada
END:VEVENT
BEGIN:VEVENT
DTSTART;TZID=America/Toronto:20291030T163000
DTEND;TZID=America/Toronto:20291030T210000
DTSTAMP:20260425T072044
CREATED:20250916T134933Z
LAST-MODIFIED:20250916T134933Z
UID:10001420-1888072200-1888088400@carletonplace.ca
SUMMARY:Civitan  Weekly Bingo
DESCRIPTION:Doors open at 4:30\, games begin 6:30. \nWe have a well stocked canteen along with several dedicated Civitan member ready to assist you. \nSee you there!!!!!
URL:https://carletonplace.ca/event/civitan-weekly-bingo/2029-10-30
LOCATION:Carleton Place Arena\, 75 Neelin Street\, Carleton Place\, Ontario\, K7C 2J6\, Canada
END:VEVENT
BEGIN:VEVENT
DTSTART;TZID=America/Toronto:20291106T163000
DTEND;TZID=America/Toronto:20291106T210000
DTSTAMP:20260425T072044
CREATED:20250916T134933Z
LAST-MODIFIED:20250916T134933Z
UID:10001421-1888677000-1888693200@carletonplace.ca
SUMMARY:Civitan  Weekly Bingo
DESCRIPTION:Doors open at 4:30\, games begin 6:30. \nWe have a well stocked canteen along with several dedicated Civitan member ready to assist you. \nSee you there!!!!!
URL:https://carletonplace.ca/event/civitan-weekly-bingo/2029-11-06
LOCATION:Carleton Place Arena\, 75 Neelin Street\, Carleton Place\, Ontario\, K7C 2J6\, Canada
END:VEVENT
BEGIN:VEVENT
DTSTART;TZID=America/Toronto:20291113T163000
DTEND;TZID=America/Toronto:20291113T210000
DTSTAMP:20260425T072044
CREATED:20250916T134933Z
LAST-MODIFIED:20250916T134933Z
UID:10001422-1889281800-1889298000@carletonplace.ca
SUMMARY:Civitan  Weekly Bingo
DESCRIPTION:Doors open at 4:30\, games begin 6:30. \nWe have a well stocked canteen along with several dedicated Civitan member ready to assist you. \nSee you there!!!!!
URL:https://carletonplace.ca/event/civitan-weekly-bingo/2029-11-13
LOCATION:Carleton Place Arena\, 75 Neelin Street\, Carleton Place\, Ontario\, K7C 2J6\, Canada
END:VEVENT
BEGIN:VEVENT
DTSTART;TZID=America/Toronto:20291120T163000
DTEND;TZID=America/Toronto:20291120T210000
DTSTAMP:20260425T072044
CREATED:20250916T134933Z
LAST-MODIFIED:20250916T134933Z
UID:10001423-1889886600-1889902800@carletonplace.ca
SUMMARY:Civitan  Weekly Bingo
DESCRIPTION:Doors open at 4:30\, games begin 6:30. \nWe have a well stocked canteen along with several dedicated Civitan member ready to assist you. \nSee you there!!!!!
URL:https://carletonplace.ca/event/civitan-weekly-bingo/2029-11-20
LOCATION:Carleton Place Arena\, 75 Neelin Street\, Carleton Place\, Ontario\, K7C 2J6\, Canada
END:VEVENT
BEGIN:VEVENT
DTSTART;TZID=America/Toronto:20291127T163000
DTEND;TZID=America/Toronto:20291127T210000
DTSTAMP:20260425T072044
CREATED:20250916T134933Z
LAST-MODIFIED:20250916T134933Z
UID:10001424-1890491400-1890507600@carletonplace.ca
SUMMARY:Civitan  Weekly Bingo
DESCRIPTION:Doors open at 4:30\, games begin 6:30. \nWe have a well stocked canteen along with several dedicated Civitan member ready to assist you. \nSee you there!!!!!
URL:https://carletonplace.ca/event/civitan-weekly-bingo/2029-11-27
LOCATION:Carleton Place Arena\, 75 Neelin Street\, Carleton Place\, Ontario\, K7C 2J6\, Canada
END:VEVENT
BEGIN:VEVENT
DTSTART;TZID=America/Toronto:20291204T163000
DTEND;TZID=America/Toronto:20291204T210000
DTSTAMP:20260425T072044
CREATED:20250916T134933Z
LAST-MODIFIED:20250916T134933Z
UID:10001425-1891096200-1891112400@carletonplace.ca
SUMMARY:Civitan  Weekly Bingo
DESCRIPTION:Doors open at 4:30\, games begin 6:30. \nWe have a well stocked canteen along with several dedicated Civitan member ready to assist you. \nSee you there!!!!!
URL:https://carletonplace.ca/event/civitan-weekly-bingo/2029-12-04
LOCATION:Carleton Place Arena\, 75 Neelin Street\, Carleton Place\, Ontario\, K7C 2J6\, Canada
END:VEVENT
BEGIN:VEVENT
DTSTART;TZID=America/Toronto:20291211T163000
DTEND;TZID=America/Toronto:20291211T210000
DTSTAMP:20260425T072044
CREATED:20250916T134933Z
LAST-MODIFIED:20250916T134933Z
UID:10001426-1891701000-1891717200@carletonplace.ca
SUMMARY:Civitan  Weekly Bingo
DESCRIPTION:Doors open at 4:30\, games begin 6:30. \nWe have a well stocked canteen along with several dedicated Civitan member ready to assist you. \nSee you there!!!!!
URL:https://carletonplace.ca/event/civitan-weekly-bingo/2029-12-11
LOCATION:Carleton Place Arena\, 75 Neelin Street\, Carleton Place\, Ontario\, K7C 2J6\, Canada
END:VEVENT
BEGIN:VEVENT
DTSTART;TZID=America/Toronto:20291218T163000
DTEND;TZID=America/Toronto:20291218T210000
DTSTAMP:20260425T072044
CREATED:20250916T134933Z
LAST-MODIFIED:20250916T134933Z
UID:10001427-1892305800-1892322000@carletonplace.ca
SUMMARY:Civitan  Weekly Bingo
DESCRIPTION:Doors open at 4:30\, games begin 6:30. \nWe have a well stocked canteen along with several dedicated Civitan member ready to assist you. \nSee you there!!!!!
URL:https://carletonplace.ca/event/civitan-weekly-bingo/2029-12-18
LOCATION:Carleton Place Arena\, 75 Neelin Street\, Carleton Place\, Ontario\, K7C 2J6\, Canada
END:VEVENT
BEGIN:VEVENT
DTSTART;TZID=America/Toronto:20291225T163000
DTEND;TZID=America/Toronto:20291225T210000
DTSTAMP:20260425T072044
CREATED:20250916T134933Z
LAST-MODIFIED:20250916T134933Z
UID:10001428-1892910600-1892926800@carletonplace.ca
SUMMARY:Civitan  Weekly Bingo
DESCRIPTION:Doors open at 4:30\, games begin 6:30. \nWe have a well stocked canteen along with several dedicated Civitan member ready to assist you. \nSee you there!!!!!
URL:https://carletonplace.ca/event/civitan-weekly-bingo/2029-12-25
LOCATION:Carleton Place Arena\, 75 Neelin Street\, Carleton Place\, Ontario\, K7C 2J6\, Canada
END:VEVENT
BEGIN:VEVENT
DTSTART;TZID=America/Toronto:20300101T163000
DTEND;TZID=America/Toronto:20300101T210000
DTSTAMP:20260425T072044
CREATED:20250916T134933Z
LAST-MODIFIED:20250916T134933Z
UID:10001429-1893515400-1893531600@carletonplace.ca
SUMMARY:Civitan  Weekly Bingo
DESCRIPTION:Doors open at 4:30\, games begin 6:30. \nWe have a well stocked canteen along with several dedicated Civitan member ready to assist you. \nSee you there!!!!!
URL:https://carletonplace.ca/event/civitan-weekly-bingo/2030-01-01
LOCATION:Carleton Place Arena\, 75 Neelin Street\, Carleton Place\, Ontario\, K7C 2J6\, Canada
END:VEVENT
END:VCALENDAR