BEGIN:VCALENDAR
VERSION:2.0
PRODID:-//Town of Carleton Place - ECPv6.15.20//NONSGML v1.0//EN
CALSCALE:GREGORIAN
METHOD:PUBLISH
X-ORIGINAL-URL:https://carletonplace.ca
X-WR-CALDESC:Events for Town of Carleton Place
REFRESH-INTERVAL;VALUE=DURATION:PT1H
X-Robots-Tag:noindex
X-PUBLISHED-TTL:PT1H
BEGIN:VTIMEZONE
TZID:America/Toronto
BEGIN:DAYLIGHT
TZOFFSETFROM:-0500
TZOFFSETTO:-0400
TZNAME:EDT
DTSTART:20240310T070000
END:DAYLIGHT
BEGIN:STANDARD
TZOFFSETFROM:-0400
TZOFFSETTO:-0500
TZNAME:EST
DTSTART:20241103T060000
END:STANDARD
BEGIN:DAYLIGHT
TZOFFSETFROM:-0500
TZOFFSETTO:-0400
TZNAME:EDT
DTSTART:20250309T070000
END:DAYLIGHT
BEGIN:STANDARD
TZOFFSETFROM:-0400
TZOFFSETTO:-0500
TZNAME:EST
DTSTART:20251102T060000
END:STANDARD
BEGIN:DAYLIGHT
TZOFFSETFROM:-0500
TZOFFSETTO:-0400
TZNAME:EDT
DTSTART:20260308T070000
END:DAYLIGHT
BEGIN:STANDARD
TZOFFSETFROM:-0400
TZOFFSETTO:-0500
TZNAME:EST
DTSTART:20261101T060000
END:STANDARD
END:VTIMEZONE
BEGIN:VEVENT
DTSTART;TZID=America/Toronto:20250923T163000
DTEND;TZID=America/Toronto:20250923T210000
DTSTAMP:20260421T173021
CREATED:20250916T134933Z
LAST-MODIFIED:20250916T134933Z
UID:10001206-1758645000-1758661200@carletonplace.ca
SUMMARY:Civitan  Weekly Bingo
DESCRIPTION:Doors open at 4:30\, games begin 6:30. \nWe have a well stocked canteen along with several dedicated Civitan member ready to assist you. \nSee you there!!!!!
URL:https://carletonplace.ca/event/civitan-weekly-bingo/2025-09-23
LOCATION:Carleton Place Arena\, 75 Neelin Street\, Carleton Place\, Ontario\, K7C 2J6\, Canada
END:VEVENT
BEGIN:VEVENT
DTSTART;TZID=America/Toronto:20250916T163000
DTEND;TZID=America/Toronto:20250916T210000
DTSTAMP:20260421T173021
CREATED:20250916T134933Z
LAST-MODIFIED:20250916T134933Z
UID:10001205-1758040200-1758056400@carletonplace.ca
SUMMARY:Civitan  Weekly Bingo
DESCRIPTION:Doors open at 4:30\, games begin 6:30. \nWe have a well stocked canteen along with several dedicated Civitan member ready to assist you. \nSee you there!!!!!
URL:https://carletonplace.ca/event/civitan-weekly-bingo/2025-09-16
LOCATION:Carleton Place Arena\, 75 Neelin Street\, Carleton Place\, Ontario\, K7C 2J6\, Canada
END:VEVENT
BEGIN:VEVENT
DTSTART;TZID=America/Toronto:20250807T160000
DTEND;TZID=America/Toronto:20250807T180000
DTSTAMP:20260421T173021
CREATED:20250722T191547Z
LAST-MODIFIED:20250722T191547Z
UID:10001166-1754582400-1754589600@carletonplace.ca
SUMMARY:Public Open House – Franktown Road Neighbourhood Secondary Plan
DESCRIPTION:Join us for the Public Open House on Thursday\, August 7th\, 2025\, at the Carleton Place Arena (75 Neelin Street) to review the draft Franktown Road Neighbourhood Secondary Plan and the preferred land use plan. Drop-in anytime between 4:00 p.m. and 6:00 p.m. to review the plan\, ask the project team questions\, and provide feedback. Your comments and suggestions will be used to inform the final Secondary Plan. \nQuestions? Feedback? Contact: \nNiki Dwyer\, Director of Development Services\, Town of Carleton Place – ndwyer@carletonplace.ca \nMarc Rivet\, Consulting Planner\, J.L.Richards & Associates – mrivet@jlrichards.ca
URL:https://carletonplace.ca/event/public-open-house-franktown-road-neighbourhood-secondary-plan
LOCATION:Carleton Place Arena\, 75 Neelin Street\, Carleton Place\, Ontario\, K7C 2J6\, Canada
END:VEVENT
BEGIN:VEVENT
DTSTART;TZID=America/Toronto:20250427T140000
DTEND;TZID=America/Toronto:20250427T180000
DTSTAMP:20260421T173021
CREATED:20250324T134906Z
LAST-MODIFIED:20250324T134906Z
UID:10001071-1745762400-1745776800@carletonplace.ca
SUMMARY:Dancing Down Memory Lane
DESCRIPTION:You are invited to an afternoon of toe-tapping Country music in support of the Alzheimer Society Lanark Leeds Grenville! \nThe Alzheimer Society Lanark Leeds Grenville and presenting sponsor\, SCI Ottawa Valley Chapter invite you to wear your blue and come out and enjoy an afternoon of music and dancing\, hosted by the incredible Charlie Kitts! There will be a canteen\, a cash bar\, photo booth courtesy of Now Forever Photography\, amazing silent auction featuring incredible lots like a brand-new BBQ donated by RONA Carleton Place and a signed Maple Leaf Jersey donated by Maple Leaf Sports. Our friends at the Carleton Place & District Civitan will be on hand with a 50/50 draw too! \nTickets are on sale now for only $20! With special performances by Harry & Cheryl Adrain\, Brownie & friends\, Mitch Barker & Brittany Bain with John Kot and other local musicians it is sure to be an incredible afternoon. Doors open at 1pm and the show starts at 2pm. \nSpecial thanks to the Town of Carleton Place and Carleton Place Tim Hortons for their support of this event. \nThe Alzheimer Society Lanark Leeds Grenville is a charity operating free and low-cost programming\, education\, respite and support groups throughout Lanark\, Leeds\, and Grenville. We have offices in Carleton Place\, Almonte\, Smiths Falls\, Perth and Brockville. There are currently over 4000 people living in Lanark\, Leeds & Grenville with a diagnosis and that number does not include family members and care givers. We see over 10\,000 visitors in our local programs each year and that number is growing. \nCommunity-based fundraising events are wonderful opportunities to come together and support a great cause. So come\, have some fun and make a positive impact on those affected by Alzheimer’s in your community. \nFor more information\, please contact Sarah Cavanagh at scavanagh@alzllg.ca
URL:https://carletonplace.ca/event/dancing-down-memory-lane
LOCATION:Carleton Place Arena\, 75 Neelin Street\, Carleton Place\, Ontario\, K7C 2J6\, Canada
END:VEVENT
BEGIN:VEVENT
DTSTART;TZID=America/Toronto:20250413T093000
DTEND;TZID=America/Toronto:20250413T120000
DTSTAMP:20260421T173021
CREATED:20250321T140013Z
LAST-MODIFIED:20250321T140013Z
UID:10001004-1744536600-1744545600@carletonplace.ca
SUMMARY:Parents & Tots Dance
DESCRIPTION:Join us for our next Family Dance at the Carleton Place Arena Hall- 75 Neelin Street! This is a free event! \nPARENTS & TOTS DANCE: Ages 0-5 and their grown-ups\n9:30AM – 10:30AM\nWhat This Event Looks Like :\n-Toddler-Themed Music (Wiggles\, Disney\, Etc.)\n-Mini-Minded Crafts (colouring\, stickers\, etc.)\n-Brighter Lighting/ Less Strobe Lighting \nFAMILY DANCE: All Are Welcome!\n10:30am – 12:00pm\nWhat This Event Looks Like:\n-Music Of All Genres\n-Dance Party Lighting\n-More Advanced Craft Activity \nFor more information\, please contact Jessica Hansen- Community Development Coordinator: 613-257-1704 / jhansen@carletonplace.ca
URL:https://carletonplace.ca/event/parents-tots-dance
LOCATION:Carleton Place Arena\, 75 Neelin Street\, Carleton Place\, Ontario\, K7C 2J6\, Canada
END:VEVENT
BEGIN:VEVENT
DTSTART;TZID=America/Toronto:20250323T100000
DTEND;TZID=America/Toronto:20250323T130000
DTSTAMP:20260421T173021
CREATED:20250303T183404Z
LAST-MODIFIED:20250303T183404Z
UID:10000871-1742724000-1742734800@carletonplace.ca
SUMMARY:2nd Annual Sewing and Craft Supplies Sale
DESCRIPTION:Come and find deals on fabric and supplies that others aren’t using!There will also be a bake sale supporting the Almonte Cooperative Nursury Schoool!
URL:https://carletonplace.ca/event/2nd-annual-sewing-and-craft-supplies-sale
LOCATION:Carleton Place Arena\, 75 Neelin Street\, Carleton Place\, Ontario\, K7C 2J6\, Canada
END:VEVENT
BEGIN:VEVENT
DTSTART;TZID=America/Toronto:20250320T123000
DTEND;TZID=America/Toronto:20250320T160000
DTSTAMP:20260421T173021
CREATED:20250306T170017Z
LAST-MODIFIED:20250306T170017Z
UID:10000876-1742473800-1742486400@carletonplace.ca
SUMMARY:Spring Job Fair
DESCRIPTION:Join us for the Spring Job Fair\, presented by the Canadian Career Academy. This is a great opportunity for job seekers to meet with local employers and explore a wide range of career opportunities! The event is free to attend and will feature employers from various industries\, looking to fill full-time\, part-time\, and seasonal roles. Whether you’re just starting your career\, looking for a change\, or seeking seasonal work\, this event is the perfect place to connect with potential employers and take the next step in your job search.
URL:https://carletonplace.ca/event/spring-job-fair
LOCATION:Carleton Place Arena\, 75 Neelin Street\, Carleton Place\, Ontario\, K7C 2J6\, Canada
END:VEVENT
BEGIN:VEVENT
DTSTART;TZID=America/Toronto:20250316T140000
DTEND;TZID=America/Toronto:20250316T145000
DTSTAMP:20260421T173021
CREATED:20250307T142120Z
LAST-MODIFIED:20250307T142120Z
UID:10000902-1742133600-1742136600@carletonplace.ca
SUMMARY:FREE Public Skate
DESCRIPTION:Sponsored by TBG Mechanical
URL:https://carletonplace.ca/event/free-public-skate-9
LOCATION:Carleton Place Arena\, 75 Neelin Street\, Carleton Place\, Ontario\, K7C 2J6\, Canada
END:VEVENT
BEGIN:VEVENT
DTSTART;TZID=America/Toronto:20250315T140000
DTEND;TZID=America/Toronto:20250315T145000
DTSTAMP:20260421T173021
CREATED:20250307T141941Z
LAST-MODIFIED:20250307T141941Z
UID:10000901-1742047200-1742050200@carletonplace.ca
SUMMARY:FREE Public Skate
DESCRIPTION:Sponsored by the Carleton Place Hospital Staff Association
URL:https://carletonplace.ca/event/free-public-skate-8
LOCATION:Carleton Place Arena\, 75 Neelin Street\, Carleton Place\, Ontario\, K7C 2J6\, Canada
END:VEVENT
BEGIN:VEVENT
DTSTART;TZID=America/Toronto:20250314T130000
DTEND;TZID=America/Toronto:20250314T135000
DTSTAMP:20260421T173021
CREATED:20250307T141719Z
LAST-MODIFIED:20250307T141719Z
UID:10000899-1741957200-1741960200@carletonplace.ca
SUMMARY:FREE Public Skate
DESCRIPTION:Sponsored by RONA
URL:https://carletonplace.ca/event/free-public-skate-7
LOCATION:Carleton Place Arena\, 75 Neelin Street\, Carleton Place\, Ontario\, K7C 2J6\, Canada
END:VEVENT
BEGIN:VEVENT
DTSTART;TZID=America/Toronto:20250314T100000
DTEND;TZID=America/Toronto:20250314T110000
DTSTAMP:20260421T173021
CREATED:20250307T141541Z
LAST-MODIFIED:20250307T141541Z
UID:10000897-1741946400-1741950000@carletonplace.ca
SUMMARY:Meet the Keepers Show
DESCRIPTION:$2 per person
URL:https://carletonplace.ca/event/meet-the-keepers-show
LOCATION:Carleton Place Arena\, 75 Neelin Street\, Carleton Place\, Ontario\, K7C 2J6\, Canada
END:VEVENT
BEGIN:VEVENT
DTSTART;TZID=America/Toronto:20250313T123000
DTEND;TZID=America/Toronto:20250313T143000
DTSTAMP:20260421T173021
CREATED:20250307T141306Z
LAST-MODIFIED:20250307T141306Z
UID:10000893-1741869000-1741876200@carletonplace.ca
SUMMARY:Crafts in the Arena Lobby
DESCRIPTION:Free.
URL:https://carletonplace.ca/event/crafts-in-the-arena-lobby-2
LOCATION:Carleton Place Arena\, 75 Neelin Street\, Carleton Place\, Ontario\, K7C 2J6\, Canada
END:VEVENT
BEGIN:VEVENT
DTSTART;TZID=America/Toronto:20250312T130000
DTEND;TZID=America/Toronto:20250312T135000
DTSTAMP:20260421T173021
CREATED:20250307T141036Z
LAST-MODIFIED:20250307T141036Z
UID:10000892-1741784400-1741787400@carletonplace.ca
SUMMARY:FREE Public Skate
DESCRIPTION:Sponsored by Beckwith Electric
URL:https://carletonplace.ca/event/free-public-skate-5
LOCATION:Carleton Place Arena\, 75 Neelin Street\, Carleton Place\, Ontario\, K7C 2J6\, Canada
END:VEVENT
BEGIN:VEVENT
DTSTART;TZID=America/Toronto:20250312T103000
DTEND;TZID=America/Toronto:20250312T120000
DTSTAMP:20260421T173021
CREATED:20250307T140958Z
LAST-MODIFIED:20250307T140958Z
UID:10000891-1741775400-1741780800@carletonplace.ca
SUMMARY:FREE Dance Party
DESCRIPTION:Adult Supervision Required
URL:https://carletonplace.ca/event/free-dance-party
LOCATION:Carleton Place Arena\, 75 Neelin Street\, Carleton Place\, Ontario\, K7C 2J6\, Canada
END:VEVENT
BEGIN:VEVENT
DTSTART;TZID=America/Toronto:20250311T130000
DTEND;TZID=America/Toronto:20250311T135000
DTSTAMP:20260421T173021
CREATED:20250307T125954Z
LAST-MODIFIED:20250307T125954Z
UID:10000888-1741698000-1741701000@carletonplace.ca
SUMMARY:FREE Public Skate
DESCRIPTION:Sponsored by Doucett Insurance
URL:https://carletonplace.ca/event/free-public-skate-4
LOCATION:Carleton Place Arena\, 75 Neelin Street\, Carleton Place\, Ontario\, K7C 2J6\, Canada
END:VEVENT
BEGIN:VEVENT
DTSTART;TZID=America/Toronto:20250311T123000
DTEND;TZID=America/Toronto:20250311T143000
DTSTAMP:20260421T173021
CREATED:20250307T125640Z
LAST-MODIFIED:20250307T125640Z
UID:10000886-1741696200-1741703400@carletonplace.ca
SUMMARY:Crafts in the Arena Lobby
DESCRIPTION:FREE!
URL:https://carletonplace.ca/event/crafts-in-the-arena-lobby
LOCATION:Carleton Place Arena\, 75 Neelin Street\, Carleton Place\, Ontario\, K7C 2J6\, Canada
END:VEVENT
BEGIN:VEVENT
DTSTART;TZID=America/Toronto:20250310T130000
DTEND;TZID=America/Toronto:20250310T135000
DTSTAMP:20260421T173021
CREATED:20250306T184159Z
LAST-MODIFIED:20250306T184636Z
UID:10000884-1741611600-1741614600@carletonplace.ca
SUMMARY:FREE Public Skate
DESCRIPTION:Free Public Skate at the Carleton Place Arena from 1:00 p.m. – 1:50 p.m.: Sponsored by Rona
URL:https://carletonplace.ca/event/free-public-skate-3
LOCATION:Carleton Place Arena\, 75 Neelin Street\, Carleton Place\, Ontario\, K7C 2J6\, Canada
END:VEVENT
BEGIN:VEVENT
DTSTART;TZID=America/Toronto:20250310T100000
DTEND;TZID=America/Toronto:20250310T110000
DTSTAMP:20260421T173021
CREATED:20250306T183609Z
LAST-MODIFIED:20250306T183609Z
UID:10000882-1741600800-1741604400@carletonplace.ca
SUMMARY:Cowguy Jon Busker Show
DESCRIPTION:Join us at the Carleton Place Arena in the Upper Hall on Monday\, March 10th for a morning show with Cowguy Jon!\nThe show begins at 10:00am\, and admission is $2.00 per person.\n\nPrepare to be amazed. Jon performs rolling globe walking\, plate spinning\, a hint of magic\, and mini-bicycling and his shows are full of audience engagement. Jon delights in bringing his crowds together with routines like ‘Human Ring Toss’ and with the audience participation that make his shows great
URL:https://carletonplace.ca/event/cowguy-jon-busker-show
LOCATION:Carleton Place Arena\, 75 Neelin Street\, Carleton Place\, Ontario\, K7C 2J6\, Canada
END:VEVENT
BEGIN:VEVENT
DTSTART;TZID=America/Toronto:20250309T140000
DTEND;TZID=America/Toronto:20250309T145000
DTSTAMP:20260421T173021
CREATED:20250306T183139Z
LAST-MODIFIED:20250306T183139Z
UID:10000881-1741528800-1741531800@carletonplace.ca
SUMMARY:FREE Public Skate
DESCRIPTION:Free Public Skate at the Carleton Place Arena from 2:00 p.m. – 2:50 p.m.: Sponsored by Jett’s Angels
URL:https://carletonplace.ca/event/free-public-skate-2
LOCATION:Carleton Place Arena\, 75 Neelin Street\, Carleton Place\, Ontario\, K7C 2J6\, Canada
END:VEVENT
BEGIN:VEVENT
DTSTART;TZID=America/Toronto:20250308T140000
DTEND;TZID=America/Toronto:20250308T145000
DTSTAMP:20260421T173021
CREATED:20250306T182954Z
LAST-MODIFIED:20250306T182954Z
UID:10000880-1741442400-1741445400@carletonplace.ca
SUMMARY:FREE Public Skate
DESCRIPTION:Free Public Skate at the Carleton Place Arena from 2:00 p.m. – 2:50 p.m.: Sponsored by Baker Tilly
URL:https://carletonplace.ca/event/free-public-skate
LOCATION:Carleton Place Arena\, 75 Neelin Street\, Carleton Place\, Ontario\, K7C 2J6\, Canada
END:VEVENT
BEGIN:VEVENT
DTSTART;TZID=America/Toronto:20250308T100000
DTEND;TZID=America/Toronto:20250308T130000
DTSTAMP:20260421T173021
CREATED:20250303T183312Z
LAST-MODIFIED:20250303T183312Z
UID:10000870-1741428000-1741438800@carletonplace.ca
SUMMARY:12th Annual Spring Mom2Mom Sale
DESCRIPTION:Buy gently used and new children’s clothing\, shoes and toys for your growing child for the next season to come! Swag bags for the first 100 people. Donations to the Lanark County Food Bank are encouraged and appreciated.\nThis event is put on by members of the North Lanark Highland Games and the North Lanark Agricultural Society and all proceeds are split between them.
URL:https://carletonplace.ca/event/12th-annual-spring-mom2mom-sale
LOCATION:Carleton Place Arena\, 75 Neelin Street\, Carleton Place\, Ontario\, K7C 2J6\, Canada
END:VEVENT
BEGIN:VEVENT
DTSTART;TZID=America/Toronto:20250306T183000
DTEND;TZID=America/Toronto:20250306T200000
DTSTAMP:20260421T173021
CREATED:20250107T220254Z
LAST-MODIFIED:20250107T220254Z
UID:10000467-1741285800-1741291200@carletonplace.ca
SUMMARY:Sign Up Night
DESCRIPTION:Join us for Sign-Up Night at the Carleton Place Arena on March 6th\, 2025 from 6:30 p.m. to 8:00 p.m.\nThis is an evening dedicated to promoting programs offered by local organizations/businesses in Carleton Place in the Spring/Summer/Fall of 2025. If you are interested in reserving a table for your organization or business\, please contact Jessica Hansen at 613-257-1704 / jhansen@carletonplace.ca
URL:https://carletonplace.ca/event/sign-up-night-2
LOCATION:Carleton Place Arena\, 75 Neelin Street\, Carleton Place\, Ontario\, K7C 2J6\, Canada
END:VEVENT
BEGIN:VEVENT
DTSTART;TZID=America/Toronto:20250217T093000
DTEND;TZID=America/Toronto:20250217T160000
DTSTAMP:20260421T173021
CREATED:20250113T145903Z
LAST-MODIFIED:20250113T145903Z
UID:10000474-1739784600-1739808000@carletonplace.ca
SUMMARY:2025 Carleton Place Comic Con
DESCRIPTION:Join us on Ontario Family Day for our 7th annual Carleton Place Comic Con for a fun family affair. \nAdmission: Non-perishable food items or personal care products or $2 donations. \nChildren 12 and under are free \nhttps://www.facebook.com/events/1983285978788317
URL:https://carletonplace.ca/event/2025-carleton-place-comic-con
LOCATION:Carleton Place Arena\, 75 Neelin Street\, Carleton Place\, Ontario\, K7C 2J6\, Canada
END:VEVENT
BEGIN:VEVENT
DTSTART;TZID=America/Toronto:20250209T093000
DTEND;TZID=America/Toronto:20250209T113000
DTSTAMP:20260421T173021
CREATED:20250109T141004Z
LAST-MODIFIED:20250109T141004Z
UID:10000473-1739093400-1739100600@carletonplace.ca
SUMMARY:Parents & Tots Valentine's Dance Party:
DESCRIPTION:The Town of Carleton Place is pleased to present the Valentine’s Parents & Tots Dance Party on Sunday February 9 from 9:30a.m.-11:30a.m at the Carleton Place Arena- 75 Neelin Street. \nBring your littles and enjoy two hours of great music\, lights\, small activities\, and a snack canteen. \nNo registration is required. For more information please contact: Jessica Hansen (613)257-1704 / jhansen@carletonplace.ca \nEvent info: https://www.facebook.com/share/1Z4TyVJK6h/
URL:https://carletonplace.ca/event/parents-tots-valentines-dance-party
LOCATION:Carleton Place Arena\, 75 Neelin Street\, Carleton Place\, Ontario\, K7C 2J6\, Canada
END:VEVENT
BEGIN:VEVENT
DTSTART;TZID=America/Toronto:20250208T110000
DTEND;TZID=America/Toronto:20250208T160000
DTSTAMP:20260421T173021
CREATED:20250114T221042Z
LAST-MODIFIED:20250114T221042Z
UID:10000579-1739012400-1739030400@carletonplace.ca
SUMMARY:Valentines Day Vendor Market
DESCRIPTION:On February 8th come and shop from a group of amazing and talented vendors all under one roof from 11am – 4pm at the CARLETON PLACE ARENA\, 75 Neelin St\, Carleton Place for our 2nd Annual Valentines Day Market.\nThey will be showcasing a large array of items you are sure to love. A great place to get that Valentine’s Day gift for your special someone \nAdmission is free to the public! Donations to Dickie’s Cause 4 Paws -Kitten Rescue graciously accepted.
URL:https://carletonplace.ca/event/valentines-day-vendor-market
LOCATION:Carleton Place Arena\, 75 Neelin Street\, Carleton Place\, Ontario\, K7C 2J6\, Canada
END:VEVENT
BEGIN:VEVENT
DTSTART;TZID=America/Toronto:20250201T080000
DTEND;TZID=America/Toronto:20250201T170000
DTSTAMP:20260421T173021
CREATED:20250121T133730Z
LAST-MODIFIED:20250121T133730Z
UID:10000583-1738396800-1738429200@carletonplace.ca
SUMMARY:Lanark County Beef Farmers Annual Dinner & Dance
DESCRIPTION:Music by Glenn Silverson Band \nSocial Hour 6pm\, Dinner 7pm by Waterfall Catering \nTickets are $45 \nFundraising Silent Auction \nFor ticket information contact lcbeeffarmers@gmail.com or contact Sheila James at 613-253-7028
URL:https://carletonplace.ca/event/lanark-county-beef-farmers-annual-dinner-dance
LOCATION:Carleton Place Arena\, 75 Neelin Street\, Carleton Place\, Ontario\, K7C 2J6\, Canada
END:VEVENT
BEGIN:VEVENT
DTSTART;TZID=America/Toronto:20250105T140000
DTEND;TZID=America/Toronto:20250105T145000
DTSTAMP:20260421T173021
CREATED:20241216T162450Z
LAST-MODIFIED:20241216T162450Z
UID:10000447-1736085600-1736088600@carletonplace.ca
SUMMARY:Free Sponsored Skate
DESCRIPTION:Sponsored By: Bean Chev Buick GMC
URL:https://carletonplace.ca/event/free-sponsored-skate-14
LOCATION:Carleton Place Arena\, 75 Neelin Street\, Carleton Place\, Ontario\, K7C 2J6\, Canada
END:VEVENT
BEGIN:VEVENT
DTSTART;TZID=America/Toronto:20250103T140000
DTEND;TZID=America/Toronto:20250103T145000
DTSTAMP:20260421T173021
CREATED:20241216T162419Z
LAST-MODIFIED:20241216T162419Z
UID:10000446-1735912800-1735915800@carletonplace.ca
SUMMARY:Free Sponsored Skate
DESCRIPTION:Sponsored By: Rental Village
URL:https://carletonplace.ca/event/free-sponsored-skate-13
LOCATION:Carleton Place Arena\, 75 Neelin Street\, Carleton Place\, Ontario\, K7C 2J6\, Canada
END:VEVENT
BEGIN:VEVENT
DTSTART;TZID=America/Toronto:20250103T130000
DTEND;TZID=America/Toronto:20250103T135000
DTSTAMP:20260421T173021
CREATED:20241216T162349Z
LAST-MODIFIED:20241216T162349Z
UID:10000445-1735909200-1735912200@carletonplace.ca
SUMMARY:Free Sponsored Skate
DESCRIPTION:Sponsored By: Proactive Athletic Therapy
URL:https://carletonplace.ca/event/free-sponsored-skate-12
LOCATION:Carleton Place Arena\, 75 Neelin Street\, Carleton Place\, Ontario\, K7C 2J6\, Canada
END:VEVENT
BEGIN:VEVENT
DTSTART;TZID=America/Toronto:20250102T130000
DTEND;TZID=America/Toronto:20250102T135000
DTSTAMP:20260421T173021
CREATED:20241216T162316Z
LAST-MODIFIED:20241216T162316Z
UID:10000444-1735822800-1735825800@carletonplace.ca
SUMMARY:Free Sponsored Skate
DESCRIPTION:Sponsored By: Turf Pros
URL:https://carletonplace.ca/event/free-sponsored-skate-11
LOCATION:Carleton Place Arena\, 75 Neelin Street\, Carleton Place\, Ontario\, K7C 2J6\, Canada
END:VEVENT
END:VCALENDAR