BEGIN:VCALENDAR
VERSION:2.0
PRODID:-//Town of Carleton Place - ECPv6.15.20//NONSGML v1.0//EN
CALSCALE:GREGORIAN
METHOD:PUBLISH
X-WR-CALNAME:Town of Carleton Place
X-ORIGINAL-URL:https://carletonplace.ca
X-WR-CALDESC:Events for Town of Carleton Place
REFRESH-INTERVAL;VALUE=DURATION:PT1H
X-Robots-Tag:noindex
X-PUBLISHED-TTL:PT1H
BEGIN:VTIMEZONE
TZID:America/Toronto
BEGIN:DAYLIGHT
TZOFFSETFROM:-0500
TZOFFSETTO:-0400
TZNAME:EDT
DTSTART:20260308T070000
END:DAYLIGHT
BEGIN:STANDARD
TZOFFSETFROM:-0400
TZOFFSETTO:-0500
TZNAME:EST
DTSTART:20261101T060000
END:STANDARD
BEGIN:DAYLIGHT
TZOFFSETFROM:-0500
TZOFFSETTO:-0400
TZNAME:EDT
DTSTART:20270314T070000
END:DAYLIGHT
BEGIN:STANDARD
TZOFFSETFROM:-0400
TZOFFSETTO:-0500
TZNAME:EST
DTSTART:20271107T060000
END:STANDARD
BEGIN:DAYLIGHT
TZOFFSETFROM:-0500
TZOFFSETTO:-0400
TZNAME:EDT
DTSTART:20280312T070000
END:DAYLIGHT
BEGIN:STANDARD
TZOFFSETFROM:-0400
TZOFFSETTO:-0500
TZNAME:EST
DTSTART:20281105T060000
END:STANDARD
BEGIN:DAYLIGHT
TZOFFSETFROM:-0500
TZOFFSETTO:-0400
TZNAME:EDT
DTSTART:20290311T070000
END:DAYLIGHT
BEGIN:STANDARD
TZOFFSETFROM:-0400
TZOFFSETTO:-0500
TZNAME:EST
DTSTART:20291104T060000
END:STANDARD
END:VTIMEZONE
BEGIN:VEVENT
DTSTART;TZID=America/Toronto:20270727T163000
DTEND;TZID=America/Toronto:20270727T210000
DTSTAMP:20260419T091559
CREATED:20250916T134933Z
LAST-MODIFIED:20250916T134933Z
UID:10001302-1816705800-1816722000@carletonplace.ca
SUMMARY:Civitan  Weekly Bingo
DESCRIPTION:Doors open at 4:30\, games begin 6:30. \nWe have a well stocked canteen along with several dedicated Civitan member ready to assist you. \nSee you there!!!!!
URL:https://carletonplace.ca/event/civitan-weekly-bingo/2027-07-27
LOCATION:Carleton Place Arena\, 75 Neelin Street\, Carleton Place\, Ontario\, K7C 2J6\, Canada
END:VEVENT
BEGIN:VEVENT
DTSTART;TZID=America/Toronto:20270803T163000
DTEND;TZID=America/Toronto:20270803T210000
DTSTAMP:20260419T091559
CREATED:20250916T134933Z
LAST-MODIFIED:20250916T134933Z
UID:10001303-1817310600-1817326800@carletonplace.ca
SUMMARY:Civitan  Weekly Bingo
DESCRIPTION:Doors open at 4:30\, games begin 6:30. \nWe have a well stocked canteen along with several dedicated Civitan member ready to assist you. \nSee you there!!!!!
URL:https://carletonplace.ca/event/civitan-weekly-bingo/2027-08-03
LOCATION:Carleton Place Arena\, 75 Neelin Street\, Carleton Place\, Ontario\, K7C 2J6\, Canada
END:VEVENT
BEGIN:VEVENT
DTSTART;TZID=America/Toronto:20270810T163000
DTEND;TZID=America/Toronto:20270810T210000
DTSTAMP:20260419T091559
CREATED:20250916T134933Z
LAST-MODIFIED:20250916T134933Z
UID:10001304-1817915400-1817931600@carletonplace.ca
SUMMARY:Civitan  Weekly Bingo
DESCRIPTION:Doors open at 4:30\, games begin 6:30. \nWe have a well stocked canteen along with several dedicated Civitan member ready to assist you. \nSee you there!!!!!
URL:https://carletonplace.ca/event/civitan-weekly-bingo/2027-08-10
LOCATION:Carleton Place Arena\, 75 Neelin Street\, Carleton Place\, Ontario\, K7C 2J6\, Canada
END:VEVENT
BEGIN:VEVENT
DTSTART;TZID=America/Toronto:20270817T163000
DTEND;TZID=America/Toronto:20270817T210000
DTSTAMP:20260419T091559
CREATED:20250916T134933Z
LAST-MODIFIED:20250916T134933Z
UID:10001305-1818520200-1818536400@carletonplace.ca
SUMMARY:Civitan  Weekly Bingo
DESCRIPTION:Doors open at 4:30\, games begin 6:30. \nWe have a well stocked canteen along with several dedicated Civitan member ready to assist you. \nSee you there!!!!!
URL:https://carletonplace.ca/event/civitan-weekly-bingo/2027-08-17
LOCATION:Carleton Place Arena\, 75 Neelin Street\, Carleton Place\, Ontario\, K7C 2J6\, Canada
END:VEVENT
BEGIN:VEVENT
DTSTART;TZID=America/Toronto:20270824T163000
DTEND;TZID=America/Toronto:20270824T210000
DTSTAMP:20260419T091559
CREATED:20250916T134933Z
LAST-MODIFIED:20250916T134933Z
UID:10001306-1819125000-1819141200@carletonplace.ca
SUMMARY:Civitan  Weekly Bingo
DESCRIPTION:Doors open at 4:30\, games begin 6:30. \nWe have a well stocked canteen along with several dedicated Civitan member ready to assist you. \nSee you there!!!!!
URL:https://carletonplace.ca/event/civitan-weekly-bingo/2027-08-24
LOCATION:Carleton Place Arena\, 75 Neelin Street\, Carleton Place\, Ontario\, K7C 2J6\, Canada
END:VEVENT
BEGIN:VEVENT
DTSTART;TZID=America/Toronto:20270831T163000
DTEND;TZID=America/Toronto:20270831T210000
DTSTAMP:20260419T091559
CREATED:20250916T134933Z
LAST-MODIFIED:20250916T134933Z
UID:10001307-1819729800-1819746000@carletonplace.ca
SUMMARY:Civitan  Weekly Bingo
DESCRIPTION:Doors open at 4:30\, games begin 6:30. \nWe have a well stocked canteen along with several dedicated Civitan member ready to assist you. \nSee you there!!!!!
URL:https://carletonplace.ca/event/civitan-weekly-bingo/2027-08-31
LOCATION:Carleton Place Arena\, 75 Neelin Street\, Carleton Place\, Ontario\, K7C 2J6\, Canada
END:VEVENT
BEGIN:VEVENT
DTSTART;TZID=America/Toronto:20270907T163000
DTEND;TZID=America/Toronto:20270907T210000
DTSTAMP:20260419T091559
CREATED:20250916T134933Z
LAST-MODIFIED:20250916T134933Z
UID:10001308-1820334600-1820350800@carletonplace.ca
SUMMARY:Civitan  Weekly Bingo
DESCRIPTION:Doors open at 4:30\, games begin 6:30. \nWe have a well stocked canteen along with several dedicated Civitan member ready to assist you. \nSee you there!!!!!
URL:https://carletonplace.ca/event/civitan-weekly-bingo/2027-09-07
LOCATION:Carleton Place Arena\, 75 Neelin Street\, Carleton Place\, Ontario\, K7C 2J6\, Canada
END:VEVENT
BEGIN:VEVENT
DTSTART;TZID=America/Toronto:20270914T163000
DTEND;TZID=America/Toronto:20270914T210000
DTSTAMP:20260419T091559
CREATED:20250916T134933Z
LAST-MODIFIED:20250916T134933Z
UID:10001309-1820939400-1820955600@carletonplace.ca
SUMMARY:Civitan  Weekly Bingo
DESCRIPTION:Doors open at 4:30\, games begin 6:30. \nWe have a well stocked canteen along with several dedicated Civitan member ready to assist you. \nSee you there!!!!!
URL:https://carletonplace.ca/event/civitan-weekly-bingo/2027-09-14
LOCATION:Carleton Place Arena\, 75 Neelin Street\, Carleton Place\, Ontario\, K7C 2J6\, Canada
END:VEVENT
BEGIN:VEVENT
DTSTART;TZID=America/Toronto:20270921T163000
DTEND;TZID=America/Toronto:20270921T210000
DTSTAMP:20260419T091559
CREATED:20250916T134933Z
LAST-MODIFIED:20250916T134933Z
UID:10001310-1821544200-1821560400@carletonplace.ca
SUMMARY:Civitan  Weekly Bingo
DESCRIPTION:Doors open at 4:30\, games begin 6:30. \nWe have a well stocked canteen along with several dedicated Civitan member ready to assist you. \nSee you there!!!!!
URL:https://carletonplace.ca/event/civitan-weekly-bingo/2027-09-21
LOCATION:Carleton Place Arena\, 75 Neelin Street\, Carleton Place\, Ontario\, K7C 2J6\, Canada
END:VEVENT
BEGIN:VEVENT
DTSTART;TZID=America/Toronto:20270928T163000
DTEND;TZID=America/Toronto:20270928T210000
DTSTAMP:20260419T091559
CREATED:20250916T134933Z
LAST-MODIFIED:20250916T134933Z
UID:10001311-1822149000-1822165200@carletonplace.ca
SUMMARY:Civitan  Weekly Bingo
DESCRIPTION:Doors open at 4:30\, games begin 6:30. \nWe have a well stocked canteen along with several dedicated Civitan member ready to assist you. \nSee you there!!!!!
URL:https://carletonplace.ca/event/civitan-weekly-bingo/2027-09-28
LOCATION:Carleton Place Arena\, 75 Neelin Street\, Carleton Place\, Ontario\, K7C 2J6\, Canada
END:VEVENT
BEGIN:VEVENT
DTSTART;TZID=America/Toronto:20271005T163000
DTEND;TZID=America/Toronto:20271005T210000
DTSTAMP:20260419T091559
CREATED:20250916T134933Z
LAST-MODIFIED:20250916T134933Z
UID:10001312-1822753800-1822770000@carletonplace.ca
SUMMARY:Civitan  Weekly Bingo
DESCRIPTION:Doors open at 4:30\, games begin 6:30. \nWe have a well stocked canteen along with several dedicated Civitan member ready to assist you. \nSee you there!!!!!
URL:https://carletonplace.ca/event/civitan-weekly-bingo/2027-10-05
LOCATION:Carleton Place Arena\, 75 Neelin Street\, Carleton Place\, Ontario\, K7C 2J6\, Canada
END:VEVENT
BEGIN:VEVENT
DTSTART;TZID=America/Toronto:20271012T163000
DTEND;TZID=America/Toronto:20271012T210000
DTSTAMP:20260419T091559
CREATED:20250916T134933Z
LAST-MODIFIED:20250916T134933Z
UID:10001313-1823358600-1823374800@carletonplace.ca
SUMMARY:Civitan  Weekly Bingo
DESCRIPTION:Doors open at 4:30\, games begin 6:30. \nWe have a well stocked canteen along with several dedicated Civitan member ready to assist you. \nSee you there!!!!!
URL:https://carletonplace.ca/event/civitan-weekly-bingo/2027-10-12
LOCATION:Carleton Place Arena\, 75 Neelin Street\, Carleton Place\, Ontario\, K7C 2J6\, Canada
END:VEVENT
BEGIN:VEVENT
DTSTART;TZID=America/Toronto:20271019T163000
DTEND;TZID=America/Toronto:20271019T210000
DTSTAMP:20260419T091559
CREATED:20250916T134933Z
LAST-MODIFIED:20250916T134933Z
UID:10001314-1823963400-1823979600@carletonplace.ca
SUMMARY:Civitan  Weekly Bingo
DESCRIPTION:Doors open at 4:30\, games begin 6:30. \nWe have a well stocked canteen along with several dedicated Civitan member ready to assist you. \nSee you there!!!!!
URL:https://carletonplace.ca/event/civitan-weekly-bingo/2027-10-19
LOCATION:Carleton Place Arena\, 75 Neelin Street\, Carleton Place\, Ontario\, K7C 2J6\, Canada
END:VEVENT
BEGIN:VEVENT
DTSTART;TZID=America/Toronto:20271026T163000
DTEND;TZID=America/Toronto:20271026T210000
DTSTAMP:20260419T091559
CREATED:20250916T134933Z
LAST-MODIFIED:20250916T134933Z
UID:10001315-1824568200-1824584400@carletonplace.ca
SUMMARY:Civitan  Weekly Bingo
DESCRIPTION:Doors open at 4:30\, games begin 6:30. \nWe have a well stocked canteen along with several dedicated Civitan member ready to assist you. \nSee you there!!!!!
URL:https://carletonplace.ca/event/civitan-weekly-bingo/2027-10-26
LOCATION:Carleton Place Arena\, 75 Neelin Street\, Carleton Place\, Ontario\, K7C 2J6\, Canada
END:VEVENT
BEGIN:VEVENT
DTSTART;TZID=America/Toronto:20271102T163000
DTEND;TZID=America/Toronto:20271102T210000
DTSTAMP:20260419T091559
CREATED:20250916T134933Z
LAST-MODIFIED:20250916T134933Z
UID:10001316-1825173000-1825189200@carletonplace.ca
SUMMARY:Civitan  Weekly Bingo
DESCRIPTION:Doors open at 4:30\, games begin 6:30. \nWe have a well stocked canteen along with several dedicated Civitan member ready to assist you. \nSee you there!!!!!
URL:https://carletonplace.ca/event/civitan-weekly-bingo/2027-11-02
LOCATION:Carleton Place Arena\, 75 Neelin Street\, Carleton Place\, Ontario\, K7C 2J6\, Canada
END:VEVENT
BEGIN:VEVENT
DTSTART;TZID=America/Toronto:20271109T163000
DTEND;TZID=America/Toronto:20271109T210000
DTSTAMP:20260419T091559
CREATED:20250916T134933Z
LAST-MODIFIED:20250916T134933Z
UID:10001317-1825777800-1825794000@carletonplace.ca
SUMMARY:Civitan  Weekly Bingo
DESCRIPTION:Doors open at 4:30\, games begin 6:30. \nWe have a well stocked canteen along with several dedicated Civitan member ready to assist you. \nSee you there!!!!!
URL:https://carletonplace.ca/event/civitan-weekly-bingo/2027-11-09
LOCATION:Carleton Place Arena\, 75 Neelin Street\, Carleton Place\, Ontario\, K7C 2J6\, Canada
END:VEVENT
BEGIN:VEVENT
DTSTART;TZID=America/Toronto:20271116T163000
DTEND;TZID=America/Toronto:20271116T210000
DTSTAMP:20260419T091559
CREATED:20250916T134933Z
LAST-MODIFIED:20250916T134933Z
UID:10001318-1826382600-1826398800@carletonplace.ca
SUMMARY:Civitan  Weekly Bingo
DESCRIPTION:Doors open at 4:30\, games begin 6:30. \nWe have a well stocked canteen along with several dedicated Civitan member ready to assist you. \nSee you there!!!!!
URL:https://carletonplace.ca/event/civitan-weekly-bingo/2027-11-16
LOCATION:Carleton Place Arena\, 75 Neelin Street\, Carleton Place\, Ontario\, K7C 2J6\, Canada
END:VEVENT
BEGIN:VEVENT
DTSTART;TZID=America/Toronto:20271123T163000
DTEND;TZID=America/Toronto:20271123T210000
DTSTAMP:20260419T091559
CREATED:20250916T134933Z
LAST-MODIFIED:20250916T134933Z
UID:10001319-1826987400-1827003600@carletonplace.ca
SUMMARY:Civitan  Weekly Bingo
DESCRIPTION:Doors open at 4:30\, games begin 6:30. \nWe have a well stocked canteen along with several dedicated Civitan member ready to assist you. \nSee you there!!!!!
URL:https://carletonplace.ca/event/civitan-weekly-bingo/2027-11-23
LOCATION:Carleton Place Arena\, 75 Neelin Street\, Carleton Place\, Ontario\, K7C 2J6\, Canada
END:VEVENT
BEGIN:VEVENT
DTSTART;TZID=America/Toronto:20271130T163000
DTEND;TZID=America/Toronto:20271130T210000
DTSTAMP:20260419T091559
CREATED:20250916T134933Z
LAST-MODIFIED:20250916T134933Z
UID:10001320-1827592200-1827608400@carletonplace.ca
SUMMARY:Civitan  Weekly Bingo
DESCRIPTION:Doors open at 4:30\, games begin 6:30. \nWe have a well stocked canteen along with several dedicated Civitan member ready to assist you. \nSee you there!!!!!
URL:https://carletonplace.ca/event/civitan-weekly-bingo/2027-11-30
LOCATION:Carleton Place Arena\, 75 Neelin Street\, Carleton Place\, Ontario\, K7C 2J6\, Canada
END:VEVENT
BEGIN:VEVENT
DTSTART;TZID=America/Toronto:20271207T163000
DTEND;TZID=America/Toronto:20271207T210000
DTSTAMP:20260419T091559
CREATED:20250916T134933Z
LAST-MODIFIED:20250916T134933Z
UID:10001321-1828197000-1828213200@carletonplace.ca
SUMMARY:Civitan  Weekly Bingo
DESCRIPTION:Doors open at 4:30\, games begin 6:30. \nWe have a well stocked canteen along with several dedicated Civitan member ready to assist you. \nSee you there!!!!!
URL:https://carletonplace.ca/event/civitan-weekly-bingo/2027-12-07
LOCATION:Carleton Place Arena\, 75 Neelin Street\, Carleton Place\, Ontario\, K7C 2J6\, Canada
END:VEVENT
BEGIN:VEVENT
DTSTART;TZID=America/Toronto:20271214T163000
DTEND;TZID=America/Toronto:20271214T210000
DTSTAMP:20260419T091559
CREATED:20250916T134933Z
LAST-MODIFIED:20250916T134933Z
UID:10001322-1828801800-1828818000@carletonplace.ca
SUMMARY:Civitan  Weekly Bingo
DESCRIPTION:Doors open at 4:30\, games begin 6:30. \nWe have a well stocked canteen along with several dedicated Civitan member ready to assist you. \nSee you there!!!!!
URL:https://carletonplace.ca/event/civitan-weekly-bingo/2027-12-14
LOCATION:Carleton Place Arena\, 75 Neelin Street\, Carleton Place\, Ontario\, K7C 2J6\, Canada
END:VEVENT
BEGIN:VEVENT
DTSTART;TZID=America/Toronto:20271221T163000
DTEND;TZID=America/Toronto:20271221T210000
DTSTAMP:20260419T091559
CREATED:20250916T134933Z
LAST-MODIFIED:20250916T134933Z
UID:10001323-1829406600-1829422800@carletonplace.ca
SUMMARY:Civitan  Weekly Bingo
DESCRIPTION:Doors open at 4:30\, games begin 6:30. \nWe have a well stocked canteen along with several dedicated Civitan member ready to assist you. \nSee you there!!!!!
URL:https://carletonplace.ca/event/civitan-weekly-bingo/2027-12-21
LOCATION:Carleton Place Arena\, 75 Neelin Street\, Carleton Place\, Ontario\, K7C 2J6\, Canada
END:VEVENT
BEGIN:VEVENT
DTSTART;TZID=America/Toronto:20271228T163000
DTEND;TZID=America/Toronto:20271228T210000
DTSTAMP:20260419T091559
CREATED:20250916T134933Z
LAST-MODIFIED:20250916T134933Z
UID:10001324-1830011400-1830027600@carletonplace.ca
SUMMARY:Civitan  Weekly Bingo
DESCRIPTION:Doors open at 4:30\, games begin 6:30. \nWe have a well stocked canteen along with several dedicated Civitan member ready to assist you. \nSee you there!!!!!
URL:https://carletonplace.ca/event/civitan-weekly-bingo/2027-12-28
LOCATION:Carleton Place Arena\, 75 Neelin Street\, Carleton Place\, Ontario\, K7C 2J6\, Canada
END:VEVENT
BEGIN:VEVENT
DTSTART;TZID=America/Toronto:20280104T163000
DTEND;TZID=America/Toronto:20280104T210000
DTSTAMP:20260419T091559
CREATED:20250916T134933Z
LAST-MODIFIED:20250916T134933Z
UID:10001325-1830616200-1830632400@carletonplace.ca
SUMMARY:Civitan  Weekly Bingo
DESCRIPTION:Doors open at 4:30\, games begin 6:30. \nWe have a well stocked canteen along with several dedicated Civitan member ready to assist you. \nSee you there!!!!!
URL:https://carletonplace.ca/event/civitan-weekly-bingo/2028-01-04
LOCATION:Carleton Place Arena\, 75 Neelin Street\, Carleton Place\, Ontario\, K7C 2J6\, Canada
END:VEVENT
BEGIN:VEVENT
DTSTART;TZID=America/Toronto:20280111T163000
DTEND;TZID=America/Toronto:20280111T210000
DTSTAMP:20260419T091559
CREATED:20250916T134933Z
LAST-MODIFIED:20250916T134933Z
UID:10001326-1831221000-1831237200@carletonplace.ca
SUMMARY:Civitan  Weekly Bingo
DESCRIPTION:Doors open at 4:30\, games begin 6:30. \nWe have a well stocked canteen along with several dedicated Civitan member ready to assist you. \nSee you there!!!!!
URL:https://carletonplace.ca/event/civitan-weekly-bingo/2028-01-11
LOCATION:Carleton Place Arena\, 75 Neelin Street\, Carleton Place\, Ontario\, K7C 2J6\, Canada
END:VEVENT
BEGIN:VEVENT
DTSTART;TZID=America/Toronto:20280118T163000
DTEND;TZID=America/Toronto:20280118T210000
DTSTAMP:20260419T091559
CREATED:20250916T134933Z
LAST-MODIFIED:20250916T134933Z
UID:10001327-1831825800-1831842000@carletonplace.ca
SUMMARY:Civitan  Weekly Bingo
DESCRIPTION:Doors open at 4:30\, games begin 6:30. \nWe have a well stocked canteen along with several dedicated Civitan member ready to assist you. \nSee you there!!!!!
URL:https://carletonplace.ca/event/civitan-weekly-bingo/2028-01-18
LOCATION:Carleton Place Arena\, 75 Neelin Street\, Carleton Place\, Ontario\, K7C 2J6\, Canada
END:VEVENT
BEGIN:VEVENT
DTSTART;TZID=America/Toronto:20280125T163000
DTEND;TZID=America/Toronto:20280125T210000
DTSTAMP:20260419T091559
CREATED:20250916T134933Z
LAST-MODIFIED:20250916T134933Z
UID:10001328-1832430600-1832446800@carletonplace.ca
SUMMARY:Civitan  Weekly Bingo
DESCRIPTION:Doors open at 4:30\, games begin 6:30. \nWe have a well stocked canteen along with several dedicated Civitan member ready to assist you. \nSee you there!!!!!
URL:https://carletonplace.ca/event/civitan-weekly-bingo/2028-01-25
LOCATION:Carleton Place Arena\, 75 Neelin Street\, Carleton Place\, Ontario\, K7C 2J6\, Canada
END:VEVENT
BEGIN:VEVENT
DTSTART;TZID=America/Toronto:20280201T163000
DTEND;TZID=America/Toronto:20280201T210000
DTSTAMP:20260419T091559
CREATED:20250916T134933Z
LAST-MODIFIED:20250916T134933Z
UID:10001329-1833035400-1833051600@carletonplace.ca
SUMMARY:Civitan  Weekly Bingo
DESCRIPTION:Doors open at 4:30\, games begin 6:30. \nWe have a well stocked canteen along with several dedicated Civitan member ready to assist you. \nSee you there!!!!!
URL:https://carletonplace.ca/event/civitan-weekly-bingo/2028-02-01
LOCATION:Carleton Place Arena\, 75 Neelin Street\, Carleton Place\, Ontario\, K7C 2J6\, Canada
END:VEVENT
BEGIN:VEVENT
DTSTART;TZID=America/Toronto:20280208T163000
DTEND;TZID=America/Toronto:20280208T210000
DTSTAMP:20260419T091559
CREATED:20250916T134933Z
LAST-MODIFIED:20250916T134933Z
UID:10001330-1833640200-1833656400@carletonplace.ca
SUMMARY:Civitan  Weekly Bingo
DESCRIPTION:Doors open at 4:30\, games begin 6:30. \nWe have a well stocked canteen along with several dedicated Civitan member ready to assist you. \nSee you there!!!!!
URL:https://carletonplace.ca/event/civitan-weekly-bingo/2028-02-08
LOCATION:Carleton Place Arena\, 75 Neelin Street\, Carleton Place\, Ontario\, K7C 2J6\, Canada
END:VEVENT
BEGIN:VEVENT
DTSTART;TZID=America/Toronto:20280215T163000
DTEND;TZID=America/Toronto:20280215T210000
DTSTAMP:20260419T091559
CREATED:20250916T134933Z
LAST-MODIFIED:20250916T134933Z
UID:10001331-1834245000-1834261200@carletonplace.ca
SUMMARY:Civitan  Weekly Bingo
DESCRIPTION:Doors open at 4:30\, games begin 6:30. \nWe have a well stocked canteen along with several dedicated Civitan member ready to assist you. \nSee you there!!!!!
URL:https://carletonplace.ca/event/civitan-weekly-bingo/2028-02-15
LOCATION:Carleton Place Arena\, 75 Neelin Street\, Carleton Place\, Ontario\, K7C 2J6\, Canada
END:VEVENT
END:VCALENDAR