BEGIN:VCALENDAR
VERSION:2.0
PRODID:-//Town of Carleton Place - ECPv6.15.20//NONSGML v1.0//EN
CALSCALE:GREGORIAN
METHOD:PUBLISH
X-ORIGINAL-URL:https://carletonplace.ca
X-WR-CALDESC:Events for Town of Carleton Place
REFRESH-INTERVAL;VALUE=DURATION:PT1H
X-Robots-Tag:noindex
X-PUBLISHED-TTL:PT1H
BEGIN:VTIMEZONE
TZID:America/Toronto
BEGIN:DAYLIGHT
TZOFFSETFROM:-0500
TZOFFSETTO:-0400
TZNAME:EDT
DTSTART:20270314T070000
END:DAYLIGHT
BEGIN:STANDARD
TZOFFSETFROM:-0400
TZOFFSETTO:-0500
TZNAME:EST
DTSTART:20271107T060000
END:STANDARD
BEGIN:DAYLIGHT
TZOFFSETFROM:-0500
TZOFFSETTO:-0400
TZNAME:EDT
DTSTART:20280312T070000
END:DAYLIGHT
BEGIN:STANDARD
TZOFFSETFROM:-0400
TZOFFSETTO:-0500
TZNAME:EST
DTSTART:20281105T060000
END:STANDARD
BEGIN:DAYLIGHT
TZOFFSETFROM:-0500
TZOFFSETTO:-0400
TZNAME:EDT
DTSTART:20290311T070000
END:DAYLIGHT
BEGIN:STANDARD
TZOFFSETFROM:-0400
TZOFFSETTO:-0500
TZNAME:EST
DTSTART:20291104T060000
END:STANDARD
END:VTIMEZONE
BEGIN:VEVENT
DTSTART;TZID=America/Toronto:20280111T163000
DTEND;TZID=America/Toronto:20280111T210000
DTSTAMP:20260419T154023
CREATED:20250916T134933Z
LAST-MODIFIED:20250916T134933Z
UID:10001326-1831221000-1831237200@carletonplace.ca
SUMMARY:Civitan  Weekly Bingo
DESCRIPTION:Doors open at 4:30\, games begin 6:30. \nWe have a well stocked canteen along with several dedicated Civitan member ready to assist you. \nSee you there!!!!!
URL:https://carletonplace.ca/event/civitan-weekly-bingo/2028-01-11
LOCATION:Carleton Place Arena\, 75 Neelin Street\, Carleton Place\, Ontario\, K7C 2J6\, Canada
END:VEVENT
BEGIN:VEVENT
DTSTART;TZID=America/Toronto:20280118T163000
DTEND;TZID=America/Toronto:20280118T210000
DTSTAMP:20260419T154023
CREATED:20250916T134933Z
LAST-MODIFIED:20250916T134933Z
UID:10001327-1831825800-1831842000@carletonplace.ca
SUMMARY:Civitan  Weekly Bingo
DESCRIPTION:Doors open at 4:30\, games begin 6:30. \nWe have a well stocked canteen along with several dedicated Civitan member ready to assist you. \nSee you there!!!!!
URL:https://carletonplace.ca/event/civitan-weekly-bingo/2028-01-18
LOCATION:Carleton Place Arena\, 75 Neelin Street\, Carleton Place\, Ontario\, K7C 2J6\, Canada
END:VEVENT
BEGIN:VEVENT
DTSTART;TZID=America/Toronto:20280125T163000
DTEND;TZID=America/Toronto:20280125T210000
DTSTAMP:20260419T154023
CREATED:20250916T134933Z
LAST-MODIFIED:20250916T134933Z
UID:10001328-1832430600-1832446800@carletonplace.ca
SUMMARY:Civitan  Weekly Bingo
DESCRIPTION:Doors open at 4:30\, games begin 6:30. \nWe have a well stocked canteen along with several dedicated Civitan member ready to assist you. \nSee you there!!!!!
URL:https://carletonplace.ca/event/civitan-weekly-bingo/2028-01-25
LOCATION:Carleton Place Arena\, 75 Neelin Street\, Carleton Place\, Ontario\, K7C 2J6\, Canada
END:VEVENT
BEGIN:VEVENT
DTSTART;TZID=America/Toronto:20280201T163000
DTEND;TZID=America/Toronto:20280201T210000
DTSTAMP:20260419T154023
CREATED:20250916T134933Z
LAST-MODIFIED:20250916T134933Z
UID:10001329-1833035400-1833051600@carletonplace.ca
SUMMARY:Civitan  Weekly Bingo
DESCRIPTION:Doors open at 4:30\, games begin 6:30. \nWe have a well stocked canteen along with several dedicated Civitan member ready to assist you. \nSee you there!!!!!
URL:https://carletonplace.ca/event/civitan-weekly-bingo/2028-02-01
LOCATION:Carleton Place Arena\, 75 Neelin Street\, Carleton Place\, Ontario\, K7C 2J6\, Canada
END:VEVENT
BEGIN:VEVENT
DTSTART;TZID=America/Toronto:20280208T163000
DTEND;TZID=America/Toronto:20280208T210000
DTSTAMP:20260419T154023
CREATED:20250916T134933Z
LAST-MODIFIED:20250916T134933Z
UID:10001330-1833640200-1833656400@carletonplace.ca
SUMMARY:Civitan  Weekly Bingo
DESCRIPTION:Doors open at 4:30\, games begin 6:30. \nWe have a well stocked canteen along with several dedicated Civitan member ready to assist you. \nSee you there!!!!!
URL:https://carletonplace.ca/event/civitan-weekly-bingo/2028-02-08
LOCATION:Carleton Place Arena\, 75 Neelin Street\, Carleton Place\, Ontario\, K7C 2J6\, Canada
END:VEVENT
BEGIN:VEVENT
DTSTART;TZID=America/Toronto:20280215T163000
DTEND;TZID=America/Toronto:20280215T210000
DTSTAMP:20260419T154023
CREATED:20250916T134933Z
LAST-MODIFIED:20250916T134933Z
UID:10001331-1834245000-1834261200@carletonplace.ca
SUMMARY:Civitan  Weekly Bingo
DESCRIPTION:Doors open at 4:30\, games begin 6:30. \nWe have a well stocked canteen along with several dedicated Civitan member ready to assist you. \nSee you there!!!!!
URL:https://carletonplace.ca/event/civitan-weekly-bingo/2028-02-15
LOCATION:Carleton Place Arena\, 75 Neelin Street\, Carleton Place\, Ontario\, K7C 2J6\, Canada
END:VEVENT
BEGIN:VEVENT
DTSTART;TZID=America/Toronto:20280222T163000
DTEND;TZID=America/Toronto:20280222T210000
DTSTAMP:20260419T154023
CREATED:20250916T134933Z
LAST-MODIFIED:20250916T134933Z
UID:10001332-1834849800-1834866000@carletonplace.ca
SUMMARY:Civitan  Weekly Bingo
DESCRIPTION:Doors open at 4:30\, games begin 6:30. \nWe have a well stocked canteen along with several dedicated Civitan member ready to assist you. \nSee you there!!!!!
URL:https://carletonplace.ca/event/civitan-weekly-bingo/2028-02-22
LOCATION:Carleton Place Arena\, 75 Neelin Street\, Carleton Place\, Ontario\, K7C 2J6\, Canada
END:VEVENT
BEGIN:VEVENT
DTSTART;TZID=America/Toronto:20280229T163000
DTEND;TZID=America/Toronto:20280229T210000
DTSTAMP:20260419T154023
CREATED:20250916T134933Z
LAST-MODIFIED:20250916T134933Z
UID:10001333-1835454600-1835470800@carletonplace.ca
SUMMARY:Civitan  Weekly Bingo
DESCRIPTION:Doors open at 4:30\, games begin 6:30. \nWe have a well stocked canteen along with several dedicated Civitan member ready to assist you. \nSee you there!!!!!
URL:https://carletonplace.ca/event/civitan-weekly-bingo/2028-02-29
LOCATION:Carleton Place Arena\, 75 Neelin Street\, Carleton Place\, Ontario\, K7C 2J6\, Canada
END:VEVENT
BEGIN:VEVENT
DTSTART;TZID=America/Toronto:20280307T163000
DTEND;TZID=America/Toronto:20280307T210000
DTSTAMP:20260419T154023
CREATED:20250916T134933Z
LAST-MODIFIED:20250916T134933Z
UID:10001334-1836059400-1836075600@carletonplace.ca
SUMMARY:Civitan  Weekly Bingo
DESCRIPTION:Doors open at 4:30\, games begin 6:30. \nWe have a well stocked canteen along with several dedicated Civitan member ready to assist you. \nSee you there!!!!!
URL:https://carletonplace.ca/event/civitan-weekly-bingo/2028-03-07
LOCATION:Carleton Place Arena\, 75 Neelin Street\, Carleton Place\, Ontario\, K7C 2J6\, Canada
END:VEVENT
BEGIN:VEVENT
DTSTART;TZID=America/Toronto:20280314T163000
DTEND;TZID=America/Toronto:20280314T210000
DTSTAMP:20260419T154023
CREATED:20250916T134933Z
LAST-MODIFIED:20250916T134933Z
UID:10001335-1836664200-1836680400@carletonplace.ca
SUMMARY:Civitan  Weekly Bingo
DESCRIPTION:Doors open at 4:30\, games begin 6:30. \nWe have a well stocked canteen along with several dedicated Civitan member ready to assist you. \nSee you there!!!!!
URL:https://carletonplace.ca/event/civitan-weekly-bingo/2028-03-14
LOCATION:Carleton Place Arena\, 75 Neelin Street\, Carleton Place\, Ontario\, K7C 2J6\, Canada
END:VEVENT
BEGIN:VEVENT
DTSTART;TZID=America/Toronto:20280321T163000
DTEND;TZID=America/Toronto:20280321T210000
DTSTAMP:20260419T154023
CREATED:20250916T134933Z
LAST-MODIFIED:20250916T134933Z
UID:10001336-1837269000-1837285200@carletonplace.ca
SUMMARY:Civitan  Weekly Bingo
DESCRIPTION:Doors open at 4:30\, games begin 6:30. \nWe have a well stocked canteen along with several dedicated Civitan member ready to assist you. \nSee you there!!!!!
URL:https://carletonplace.ca/event/civitan-weekly-bingo/2028-03-21
LOCATION:Carleton Place Arena\, 75 Neelin Street\, Carleton Place\, Ontario\, K7C 2J6\, Canada
END:VEVENT
BEGIN:VEVENT
DTSTART;TZID=America/Toronto:20280328T163000
DTEND;TZID=America/Toronto:20280328T210000
DTSTAMP:20260419T154023
CREATED:20250916T134933Z
LAST-MODIFIED:20250916T134933Z
UID:10001337-1837873800-1837890000@carletonplace.ca
SUMMARY:Civitan  Weekly Bingo
DESCRIPTION:Doors open at 4:30\, games begin 6:30. \nWe have a well stocked canteen along with several dedicated Civitan member ready to assist you. \nSee you there!!!!!
URL:https://carletonplace.ca/event/civitan-weekly-bingo/2028-03-28
LOCATION:Carleton Place Arena\, 75 Neelin Street\, Carleton Place\, Ontario\, K7C 2J6\, Canada
END:VEVENT
BEGIN:VEVENT
DTSTART;TZID=America/Toronto:20280404T163000
DTEND;TZID=America/Toronto:20280404T210000
DTSTAMP:20260419T154023
CREATED:20250916T134933Z
LAST-MODIFIED:20250916T134933Z
UID:10001338-1838478600-1838494800@carletonplace.ca
SUMMARY:Civitan  Weekly Bingo
DESCRIPTION:Doors open at 4:30\, games begin 6:30. \nWe have a well stocked canteen along with several dedicated Civitan member ready to assist you. \nSee you there!!!!!
URL:https://carletonplace.ca/event/civitan-weekly-bingo/2028-04-04
LOCATION:Carleton Place Arena\, 75 Neelin Street\, Carleton Place\, Ontario\, K7C 2J6\, Canada
END:VEVENT
BEGIN:VEVENT
DTSTART;TZID=America/Toronto:20280411T163000
DTEND;TZID=America/Toronto:20280411T210000
DTSTAMP:20260419T154023
CREATED:20250916T134933Z
LAST-MODIFIED:20250916T134933Z
UID:10001339-1839083400-1839099600@carletonplace.ca
SUMMARY:Civitan  Weekly Bingo
DESCRIPTION:Doors open at 4:30\, games begin 6:30. \nWe have a well stocked canteen along with several dedicated Civitan member ready to assist you. \nSee you there!!!!!
URL:https://carletonplace.ca/event/civitan-weekly-bingo/2028-04-11
LOCATION:Carleton Place Arena\, 75 Neelin Street\, Carleton Place\, Ontario\, K7C 2J6\, Canada
END:VEVENT
BEGIN:VEVENT
DTSTART;TZID=America/Toronto:20280418T163000
DTEND;TZID=America/Toronto:20280418T210000
DTSTAMP:20260419T154023
CREATED:20250916T134933Z
LAST-MODIFIED:20250916T134933Z
UID:10001340-1839688200-1839704400@carletonplace.ca
SUMMARY:Civitan  Weekly Bingo
DESCRIPTION:Doors open at 4:30\, games begin 6:30. \nWe have a well stocked canteen along with several dedicated Civitan member ready to assist you. \nSee you there!!!!!
URL:https://carletonplace.ca/event/civitan-weekly-bingo/2028-04-18
LOCATION:Carleton Place Arena\, 75 Neelin Street\, Carleton Place\, Ontario\, K7C 2J6\, Canada
END:VEVENT
BEGIN:VEVENT
DTSTART;TZID=America/Toronto:20280425T163000
DTEND;TZID=America/Toronto:20280425T210000
DTSTAMP:20260419T154023
CREATED:20250916T134933Z
LAST-MODIFIED:20250916T134933Z
UID:10001341-1840293000-1840309200@carletonplace.ca
SUMMARY:Civitan  Weekly Bingo
DESCRIPTION:Doors open at 4:30\, games begin 6:30. \nWe have a well stocked canteen along with several dedicated Civitan member ready to assist you. \nSee you there!!!!!
URL:https://carletonplace.ca/event/civitan-weekly-bingo/2028-04-25
LOCATION:Carleton Place Arena\, 75 Neelin Street\, Carleton Place\, Ontario\, K7C 2J6\, Canada
END:VEVENT
BEGIN:VEVENT
DTSTART;TZID=America/Toronto:20280502T163000
DTEND;TZID=America/Toronto:20280502T210000
DTSTAMP:20260419T154023
CREATED:20250916T134933Z
LAST-MODIFIED:20250916T134933Z
UID:10001342-1840897800-1840914000@carletonplace.ca
SUMMARY:Civitan  Weekly Bingo
DESCRIPTION:Doors open at 4:30\, games begin 6:30. \nWe have a well stocked canteen along with several dedicated Civitan member ready to assist you. \nSee you there!!!!!
URL:https://carletonplace.ca/event/civitan-weekly-bingo/2028-05-02
LOCATION:Carleton Place Arena\, 75 Neelin Street\, Carleton Place\, Ontario\, K7C 2J6\, Canada
END:VEVENT
BEGIN:VEVENT
DTSTART;TZID=America/Toronto:20280509T163000
DTEND;TZID=America/Toronto:20280509T210000
DTSTAMP:20260419T154023
CREATED:20250916T134933Z
LAST-MODIFIED:20250916T134933Z
UID:10001343-1841502600-1841518800@carletonplace.ca
SUMMARY:Civitan  Weekly Bingo
DESCRIPTION:Doors open at 4:30\, games begin 6:30. \nWe have a well stocked canteen along with several dedicated Civitan member ready to assist you. \nSee you there!!!!!
URL:https://carletonplace.ca/event/civitan-weekly-bingo/2028-05-09
LOCATION:Carleton Place Arena\, 75 Neelin Street\, Carleton Place\, Ontario\, K7C 2J6\, Canada
END:VEVENT
BEGIN:VEVENT
DTSTART;TZID=America/Toronto:20280516T163000
DTEND;TZID=America/Toronto:20280516T210000
DTSTAMP:20260419T154023
CREATED:20250916T134933Z
LAST-MODIFIED:20250916T134933Z
UID:10001344-1842107400-1842123600@carletonplace.ca
SUMMARY:Civitan  Weekly Bingo
DESCRIPTION:Doors open at 4:30\, games begin 6:30. \nWe have a well stocked canteen along with several dedicated Civitan member ready to assist you. \nSee you there!!!!!
URL:https://carletonplace.ca/event/civitan-weekly-bingo/2028-05-16
LOCATION:Carleton Place Arena\, 75 Neelin Street\, Carleton Place\, Ontario\, K7C 2J6\, Canada
END:VEVENT
BEGIN:VEVENT
DTSTART;TZID=America/Toronto:20280523T163000
DTEND;TZID=America/Toronto:20280523T210000
DTSTAMP:20260419T154023
CREATED:20250916T134933Z
LAST-MODIFIED:20250916T134933Z
UID:10001345-1842712200-1842728400@carletonplace.ca
SUMMARY:Civitan  Weekly Bingo
DESCRIPTION:Doors open at 4:30\, games begin 6:30. \nWe have a well stocked canteen along with several dedicated Civitan member ready to assist you. \nSee you there!!!!!
URL:https://carletonplace.ca/event/civitan-weekly-bingo/2028-05-23
LOCATION:Carleton Place Arena\, 75 Neelin Street\, Carleton Place\, Ontario\, K7C 2J6\, Canada
END:VEVENT
BEGIN:VEVENT
DTSTART;TZID=America/Toronto:20280530T163000
DTEND;TZID=America/Toronto:20280530T210000
DTSTAMP:20260419T154023
CREATED:20250916T134933Z
LAST-MODIFIED:20250916T134933Z
UID:10001346-1843317000-1843333200@carletonplace.ca
SUMMARY:Civitan  Weekly Bingo
DESCRIPTION:Doors open at 4:30\, games begin 6:30. \nWe have a well stocked canteen along with several dedicated Civitan member ready to assist you. \nSee you there!!!!!
URL:https://carletonplace.ca/event/civitan-weekly-bingo/2028-05-30
LOCATION:Carleton Place Arena\, 75 Neelin Street\, Carleton Place\, Ontario\, K7C 2J6\, Canada
END:VEVENT
BEGIN:VEVENT
DTSTART;TZID=America/Toronto:20280606T163000
DTEND;TZID=America/Toronto:20280606T210000
DTSTAMP:20260419T154023
CREATED:20250916T134933Z
LAST-MODIFIED:20250916T134933Z
UID:10001347-1843921800-1843938000@carletonplace.ca
SUMMARY:Civitan  Weekly Bingo
DESCRIPTION:Doors open at 4:30\, games begin 6:30. \nWe have a well stocked canteen along with several dedicated Civitan member ready to assist you. \nSee you there!!!!!
URL:https://carletonplace.ca/event/civitan-weekly-bingo/2028-06-06
LOCATION:Carleton Place Arena\, 75 Neelin Street\, Carleton Place\, Ontario\, K7C 2J6\, Canada
END:VEVENT
BEGIN:VEVENT
DTSTART;TZID=America/Toronto:20280613T163000
DTEND;TZID=America/Toronto:20280613T210000
DTSTAMP:20260419T154023
CREATED:20250916T134933Z
LAST-MODIFIED:20250916T134933Z
UID:10001348-1844526600-1844542800@carletonplace.ca
SUMMARY:Civitan  Weekly Bingo
DESCRIPTION:Doors open at 4:30\, games begin 6:30. \nWe have a well stocked canteen along with several dedicated Civitan member ready to assist you. \nSee you there!!!!!
URL:https://carletonplace.ca/event/civitan-weekly-bingo/2028-06-13
LOCATION:Carleton Place Arena\, 75 Neelin Street\, Carleton Place\, Ontario\, K7C 2J6\, Canada
END:VEVENT
BEGIN:VEVENT
DTSTART;TZID=America/Toronto:20280620T163000
DTEND;TZID=America/Toronto:20280620T210000
DTSTAMP:20260419T154023
CREATED:20250916T134933Z
LAST-MODIFIED:20250916T134933Z
UID:10001349-1845131400-1845147600@carletonplace.ca
SUMMARY:Civitan  Weekly Bingo
DESCRIPTION:Doors open at 4:30\, games begin 6:30. \nWe have a well stocked canteen along with several dedicated Civitan member ready to assist you. \nSee you there!!!!!
URL:https://carletonplace.ca/event/civitan-weekly-bingo/2028-06-20
LOCATION:Carleton Place Arena\, 75 Neelin Street\, Carleton Place\, Ontario\, K7C 2J6\, Canada
END:VEVENT
BEGIN:VEVENT
DTSTART;TZID=America/Toronto:20280627T163000
DTEND;TZID=America/Toronto:20280627T210000
DTSTAMP:20260419T154023
CREATED:20250916T134933Z
LAST-MODIFIED:20250916T134933Z
UID:10001350-1845736200-1845752400@carletonplace.ca
SUMMARY:Civitan  Weekly Bingo
DESCRIPTION:Doors open at 4:30\, games begin 6:30. \nWe have a well stocked canteen along with several dedicated Civitan member ready to assist you. \nSee you there!!!!!
URL:https://carletonplace.ca/event/civitan-weekly-bingo/2028-06-27
LOCATION:Carleton Place Arena\, 75 Neelin Street\, Carleton Place\, Ontario\, K7C 2J6\, Canada
END:VEVENT
BEGIN:VEVENT
DTSTART;TZID=America/Toronto:20280704T163000
DTEND;TZID=America/Toronto:20280704T210000
DTSTAMP:20260419T154023
CREATED:20250916T134933Z
LAST-MODIFIED:20250916T134933Z
UID:10001351-1846341000-1846357200@carletonplace.ca
SUMMARY:Civitan  Weekly Bingo
DESCRIPTION:Doors open at 4:30\, games begin 6:30. \nWe have a well stocked canteen along with several dedicated Civitan member ready to assist you. \nSee you there!!!!!
URL:https://carletonplace.ca/event/civitan-weekly-bingo/2028-07-04
LOCATION:Carleton Place Arena\, 75 Neelin Street\, Carleton Place\, Ontario\, K7C 2J6\, Canada
END:VEVENT
BEGIN:VEVENT
DTSTART;TZID=America/Toronto:20280711T163000
DTEND;TZID=America/Toronto:20280711T210000
DTSTAMP:20260419T154023
CREATED:20250916T134933Z
LAST-MODIFIED:20250916T134933Z
UID:10001352-1846945800-1846962000@carletonplace.ca
SUMMARY:Civitan  Weekly Bingo
DESCRIPTION:Doors open at 4:30\, games begin 6:30. \nWe have a well stocked canteen along with several dedicated Civitan member ready to assist you. \nSee you there!!!!!
URL:https://carletonplace.ca/event/civitan-weekly-bingo/2028-07-11
LOCATION:Carleton Place Arena\, 75 Neelin Street\, Carleton Place\, Ontario\, K7C 2J6\, Canada
END:VEVENT
BEGIN:VEVENT
DTSTART;TZID=America/Toronto:20280718T163000
DTEND;TZID=America/Toronto:20280718T210000
DTSTAMP:20260419T154023
CREATED:20250916T134933Z
LAST-MODIFIED:20250916T134933Z
UID:10001353-1847550600-1847566800@carletonplace.ca
SUMMARY:Civitan  Weekly Bingo
DESCRIPTION:Doors open at 4:30\, games begin 6:30. \nWe have a well stocked canteen along with several dedicated Civitan member ready to assist you. \nSee you there!!!!!
URL:https://carletonplace.ca/event/civitan-weekly-bingo/2028-07-18
LOCATION:Carleton Place Arena\, 75 Neelin Street\, Carleton Place\, Ontario\, K7C 2J6\, Canada
END:VEVENT
BEGIN:VEVENT
DTSTART;TZID=America/Toronto:20280725T163000
DTEND;TZID=America/Toronto:20280725T210000
DTSTAMP:20260419T154023
CREATED:20250916T134933Z
LAST-MODIFIED:20250916T134933Z
UID:10001354-1848155400-1848171600@carletonplace.ca
SUMMARY:Civitan  Weekly Bingo
DESCRIPTION:Doors open at 4:30\, games begin 6:30. \nWe have a well stocked canteen along with several dedicated Civitan member ready to assist you. \nSee you there!!!!!
URL:https://carletonplace.ca/event/civitan-weekly-bingo/2028-07-25
LOCATION:Carleton Place Arena\, 75 Neelin Street\, Carleton Place\, Ontario\, K7C 2J6\, Canada
END:VEVENT
BEGIN:VEVENT
DTSTART;TZID=America/Toronto:20280801T163000
DTEND;TZID=America/Toronto:20280801T210000
DTSTAMP:20260419T154023
CREATED:20250916T134933Z
LAST-MODIFIED:20250916T134933Z
UID:10001355-1848760200-1848776400@carletonplace.ca
SUMMARY:Civitan  Weekly Bingo
DESCRIPTION:Doors open at 4:30\, games begin 6:30. \nWe have a well stocked canteen along with several dedicated Civitan member ready to assist you. \nSee you there!!!!!
URL:https://carletonplace.ca/event/civitan-weekly-bingo/2028-08-01
LOCATION:Carleton Place Arena\, 75 Neelin Street\, Carleton Place\, Ontario\, K7C 2J6\, Canada
END:VEVENT
END:VCALENDAR