BEGIN:VCALENDAR
VERSION:2.0
PRODID:-//Town of Carleton Place - ECPv6.15.20//NONSGML v1.0//EN
CALSCALE:GREGORIAN
METHOD:PUBLISH
X-WR-CALNAME:Town of Carleton Place
X-ORIGINAL-URL:https://carletonplace.ca
X-WR-CALDESC:Events for Town of Carleton Place
REFRESH-INTERVAL;VALUE=DURATION:PT1H
X-Robots-Tag:noindex
X-PUBLISHED-TTL:PT1H
BEGIN:VTIMEZONE
TZID:America/Toronto
BEGIN:DAYLIGHT
TZOFFSETFROM:-0500
TZOFFSETTO:-0400
TZNAME:EDT
DTSTART:20230312T070000
END:DAYLIGHT
BEGIN:STANDARD
TZOFFSETFROM:-0400
TZOFFSETTO:-0500
TZNAME:EST
DTSTART:20231105T060000
END:STANDARD
BEGIN:DAYLIGHT
TZOFFSETFROM:-0500
TZOFFSETTO:-0400
TZNAME:EDT
DTSTART:20240310T070000
END:DAYLIGHT
BEGIN:STANDARD
TZOFFSETFROM:-0400
TZOFFSETTO:-0500
TZNAME:EST
DTSTART:20241103T060000
END:STANDARD
BEGIN:DAYLIGHT
TZOFFSETFROM:-0500
TZOFFSETTO:-0400
TZNAME:EDT
DTSTART:20250309T070000
END:DAYLIGHT
BEGIN:STANDARD
TZOFFSETFROM:-0400
TZOFFSETTO:-0500
TZNAME:EST
DTSTART:20251102T060000
END:STANDARD
BEGIN:DAYLIGHT
TZOFFSETFROM:-0500
TZOFFSETTO:-0400
TZNAME:EDT
DTSTART:20260308T070000
END:DAYLIGHT
BEGIN:STANDARD
TZOFFSETFROM:-0400
TZOFFSETTO:-0500
TZNAME:EST
DTSTART:20261101T060000
END:STANDARD
END:VTIMEZONE
BEGIN:VEVENT
DTSTART;TZID=America/Toronto:20250930T133000
DTEND;TZID=America/Toronto:20250930T150000
DTSTAMP:20260423T071132
CREATED:20250925T204538Z
LAST-MODIFIED:20250925T204538Z
UID:10001472-1759239000-1759244400@carletonplace.ca
SUMMARY:Gathering for Reflection – National Day for Truth and Reconciliation
DESCRIPTION:All are welcome to join us at 1:30 p.m. in Riverside Park for the September 30th Ceremony at the Mississippi River Gathering Place – Misi Zibi Mamidosewin. This will be a meaningful day of recognition and learning. \nCome sing with us\, drum with us\, learn from us\, and remember with us on September 30th.
URL:https://carletonplace.ca/event/gathering-for-reflection-national-day-for-truth-and-reconciliation
LOCATION:Riverside Park\, 137 John Street\, Carleton Place
END:VEVENT
BEGIN:VEVENT
DTSTART;TZID=America/Toronto:20250913T120000
DTEND;TZID=America/Toronto:20250913T200000
DTSTAMP:20260423T071132
CREATED:20250908T121001Z
LAST-MODIFIED:20250908T121001Z
UID:10001197-1757764800-1757793600@carletonplace.ca
SUMMARY:Ukranian Festival
DESCRIPTION:💛 The Ukrainian Festival is back to Carleton Place! ✨ \nEnjoy a day filled with Ukrainian culture\, flavor\, music\, and heartfelt connection. \nSeptember 13th\, 12pm\, Riverside Park \nEntrance is free. \nWhat to Expect: \n🎶 Live Ukrainian music and energetic dancing \n🥟 Varenyky\, borscht\, and everything that taste like Ukraine \n🎨 Workshops\, crafts\, exhibitions\, and photo zones \n🤸‍♂️ Activities and fun for both kids and adults \n🤝 Meet Ukrainian business in Canada \n👉 Follow our page: https://www.facebook.com/UkrainianFestLanarkCounty/ \n🌐 Learn more at http://uflc.ca/
URL:https://carletonplace.ca/event/ukranian-festival
LOCATION:Riverside Park\, 137 John Street\, Carleton Place
END:VEVENT
BEGIN:VEVENT
DTSTART;TZID=America/Toronto:20250728T193000
DTEND;TZID=America/Toronto:20250728T203000
DTSTAMP:20260423T071132
CREATED:20250324T132607Z
LAST-MODIFIED:20250324T132607Z
UID:10001007-1753731000-1753734600@carletonplace.ca
SUMMARY:Evening of Music in Riverside Park\, Carleton Place
DESCRIPTION:Performed by Carleton Place and District Community Band (45+ musicians) \nRiverside Park\, Carleton Place \n137 John St\, Carleton Place ON K7C 1N7 \n7:30 – 8:30 pm \nAdmission is Free. Donation offering would be appreciated. \nwww.facebook.com/cpadcb
URL:https://carletonplace.ca/event/evening-of-music-in-riverside-park-carleton-place-2
LOCATION:Riverside Park\, 137 John Street\, Carleton Place
END:VEVENT
BEGIN:VEVENT
DTSTART;TZID=America/Toronto:20250705T090000
DTEND;TZID=America/Toronto:20250705T130000
DTSTAMP:20260423T071132
CREATED:20250703T114929Z
LAST-MODIFIED:20250703T114929Z
UID:10001161-1751706000-1751720400@carletonplace.ca
SUMMARY:Kids Fishing Derby
DESCRIPTION:Kick off July and let the kids reel in some summer fun at the Carleton Place Kids Fishing Derby — happening this Saturday\, July 5th\, from 9 a.m. to 1 p.m. at Riverside Park.🎣 \n🧢 First 125 kids to register (on site) get a free derby cap. \n🏆 Every child receives a prize\, plus trophies for the biggest catches! \n🎁 Free kids raffle for a paddle board package (valued at $1\,099). \n🍔 Free lunch and refreshments (served at noon with judging). \n🚒 Extra guests: OPP\, K-9 Unit\, and the Carleton Place Fire Department with their fire truck! \n📍No pre-registration needed — just show up with your fishing rod and worms and sign up on the day of the event in the centre of Riverside Park\, Lake Ave West (follow the signs). \n🎣 Canadian fishing pro\, Pam Stewart Outdoors\, will be on site sharing tips on fishing skills\, water safety\, and handing out giveaways from her sponsors! See her personal invite here: https://www.facebook.com/share/r/19KPPLckpT/ \n🕶️ Make a full day of it! Stick around Riverside Park to enjoy the beach and splash pad\, then treat the family to ice cream from Carp Custom Creamery or gelato from Maverick’s🍦 \n📧 Questions? Email: kidsfishingderby@icloud.com
URL:https://carletonplace.ca/event/kids-fishing-derby
LOCATION:Riverside Park\, 137 John Street\, Carleton Place
END:VEVENT
BEGIN:VEVENT
DTSTART;TZID=America/Toronto:20250701T123000
DTEND;TZID=America/Toronto:20250701T220000
DTSTAMP:20260423T071132
CREATED:20250430T133358Z
LAST-MODIFIED:20250624T184205Z
UID:10001099-1751373000-1751407200@carletonplace.ca
SUMMARY:Canada Day
DESCRIPTION:Canada Day in Carleton Place- July 1\, 2025 \n \nThe Town of Carleton Place invites you to spend Canada Day along the Mississippi River\, as we celebrate Canada Day with an assortment of live music\, food\, and family fun from 12:30pm – 10:15pm.\n\nLive Entertainment Includes:\n  \nThe Carleton Place & District Community Band (1:00pm)\, Tommy Tonic(2:15pm)\, Lanark County Revival(3:45pm)\, The Rembros(5:15pm)\, The Bowes Brothers(6:45pm)\, Small Town Socials(8:15pm)\n\nFireworks Display: Begins at 9:45pm and is approximately 15 minutes in length.\n  \nFamily Activities Include:\nAirbounce Inflatables (1:00pm – 7:00pm)\, Craft/Activity Area (1:00pm – 7:00pm)\, Parrot Partners Meet & Greet (3:00pm – 5:00pm)\, Strolling Busker Performers (5:00pm – 9:00pm)\, Games On A Truck (6:00pm – 9:00pm)\, and more!\n  \nRiverside Beach & Splash Pad:\nLifeguards on site at the beach from 9:30am – 6:00pm. Splash Pad & Washrooms remain open until 10:30pm.\n  \nFood/Refreshment Vendors:\nVendors will be on-site from 12:00pm – 10:00pm. Please keep in mind that not all vendors accept card payment\, so it is suggested to bring some cash.\n  \nVolunteering Opportunities: The help of many volunteers assists in making this event a success! If you have time to give and are interested in joining the behind-the-scenes portion of this event\, please contact Jessica Hansen: jhansen@carletonplace.ca / 613-257-1704
URL:https://carletonplace.ca/event/canada-day
LOCATION:Riverside Park\, 137 John Street\, Carleton Place
END:VEVENT
BEGIN:VEVENT
DTSTART;TZID=America/Toronto:20250622T090000
DTEND;TZID=America/Toronto:20250622T150000
DTSTAMP:20260423T071132
CREATED:20250529T120733Z
LAST-MODIFIED:20250529T120733Z
UID:10001130-1750582800-1750604400@carletonplace.ca
SUMMARY:Wheels on the Mississippi Car Show
DESCRIPTION:Admission – 15 dollars per carA Dash Plaque is available for the first 250 entries\nThe Carleton Place Lions are once again hosting the eagerly anticipated Wheels on the Mississippi Car Show. This event showcases a wide variety of classic and rare automobiles along the beautiful Mississippi River. We were rained out in 2024 and thus this year we will have a rain date of June 29th if needed. Our 2023 event had 272 cars on display\, we are hoping to break 300 this summer.\nThe money we raised is returned to the communityWe hope to see you all there.
URL:https://carletonplace.ca/event/wheels-on-the-mississippi-car-show-2
LOCATION:Riverside Park\, 137 John Street\, Carleton Place
END:VEVENT
BEGIN:VEVENT
DTSTART;TZID=America/Toronto:20250616T193000
DTEND;TZID=America/Toronto:20250616T203000
DTSTAMP:20260423T071132
CREATED:20250324T132517Z
LAST-MODIFIED:20250324T132517Z
UID:10001006-1750102200-1750105800@carletonplace.ca
SUMMARY:Evening of Music in Riverside Park\, Carleton Place
DESCRIPTION:Performed by Carleton Place and District Community Band (45+ musicians) \nRiverside Park\, Carleton Place \n137 John St\, Carleton Place ON K7C 1N7 \n7:30 – 8:30 pm \nAdmission is Free. Donation offering would be appreciated. \nwww.facebook.com/cpadcb
URL:https://carletonplace.ca/event/evening-of-music-in-riverside-park-carleton-place
LOCATION:Riverside Park\, 137 John Street\, Carleton Place
END:VEVENT
BEGIN:VEVENT
DTSTART;TZID=America/Toronto:20240922T120000
DTEND;TZID=America/Toronto:20240922T180000
DTSTAMP:20260423T071132
CREATED:20240913T145045Z
LAST-MODIFIED:20240913T145045Z
UID:10000360-1727006400-1727028000@carletonplace.ca
SUMMARY:Ukrainian Festival
DESCRIPTION:The festival\, set to be a vibrant introduction of Ukrainian culture to the community of Lanark County\, will feature: \n– Authentic Ukrainian food\, including a record-breaking varenyky-eating contest\, different varieties of borsch and like home-made sausages and much more. \n– Family-friendly entertainment\, games\, and activities for kids of all ages. \n– Cultural exhibits\, masterclasses\, and creative photo zones. \n– Ukrainian song and dance performances\, showcasing our unique traditions. \n– Business forum highlighting Ukrainian entrepreneurs that start to operate in Canada. \n– Bazaar of handcrafted goods. \nA special focus on our charitable mission\, with funds supporting a children’s mental health charity aiding those affected by war and violence.
URL:https://carletonplace.ca/event/ukrainian-festival
LOCATION:Riverside Park\, 137 John Street\, Carleton Place
END:VEVENT
END:VCALENDAR