BEGIN:VCALENDAR
VERSION:2.0
PRODID:-//Town of Carleton Place - ECPv6.15.20//NONSGML v1.0//EN
CALSCALE:GREGORIAN
METHOD:PUBLISH
X-ORIGINAL-URL:https://carletonplace.ca
X-WR-CALDESC:Events for Town of Carleton Place
REFRESH-INTERVAL;VALUE=DURATION:PT1H
X-Robots-Tag:noindex
X-PUBLISHED-TTL:PT1H
BEGIN:VTIMEZONE
TZID:America/Toronto
BEGIN:DAYLIGHT
TZOFFSETFROM:-0500
TZOFFSETTO:-0400
TZNAME:EDT
DTSTART:20230312T070000
END:DAYLIGHT
BEGIN:STANDARD
TZOFFSETFROM:-0400
TZOFFSETTO:-0500
TZNAME:EST
DTSTART:20231105T060000
END:STANDARD
BEGIN:DAYLIGHT
TZOFFSETFROM:-0500
TZOFFSETTO:-0400
TZNAME:EDT
DTSTART:20240310T070000
END:DAYLIGHT
BEGIN:STANDARD
TZOFFSETFROM:-0400
TZOFFSETTO:-0500
TZNAME:EST
DTSTART:20241103T060000
END:STANDARD
BEGIN:DAYLIGHT
TZOFFSETFROM:-0500
TZOFFSETTO:-0400
TZNAME:EDT
DTSTART:20250309T070000
END:DAYLIGHT
BEGIN:STANDARD
TZOFFSETFROM:-0400
TZOFFSETTO:-0500
TZNAME:EST
DTSTART:20251102T060000
END:STANDARD
END:VTIMEZONE
BEGIN:VEVENT
DTSTART;TZID=America/Toronto:20241207T100000
DTEND;TZID=America/Toronto:20241207T160000
DTSTAMP:20260419T082636
CREATED:20241128T181836Z
LAST-MODIFIED:20241128T181836Z
UID:10000422-1733565600-1733587200@carletonplace.ca
SUMMARY:The Granary's Annual Chocolate Party
DESCRIPTION:A CELEBRATION OF FAIRLY TRADED\,SUSTAINABLY SOURCED CHOCOLATE FOR EVERYONE FEATURING ….\nAMAZING LOCAL CHOCOLATE\nFREE CAMINO HOT CHOCOLATE BAR WITH ALL THE FIXIN’S IN THE GRANARY ALLEY\nGREAT DEALS ON ALL YOUR FAVOURITE CHOCOLATE\nSAMPLE\, SHOP\, SAVE\, SMILE\nPRIZES\, LIVE MUSIC & AWESOME SHOPPING DOWNTOWN CARLETON PLACE\n***Be Sure to pick up your official Chocolate Party discount card IN STORE before December 6th***
URL:https://carletonplace.ca/event/the-granarys-annual-chocolate-party-2
LOCATION:The Granary Bulk & Natural Foods\, 107 Bridge Street\, Carleton Place\, Canada
END:VEVENT
BEGIN:VEVENT
DTSTART;TZID=America/Toronto:20241206T100000
DTEND;TZID=America/Toronto:20241206T160000
DTSTAMP:20260419T082636
CREATED:20241128T181802Z
LAST-MODIFIED:20241128T181802Z
UID:10000421-1733479200-1733500800@carletonplace.ca
SUMMARY:The Granary's Annual Chocolate Party
DESCRIPTION:A CELEBRATION OF FAIRLY TRADED\,SUSTAINABLY SOURCED CHOCOLATE FOR EVERYONE FEATURING ….\nAMAZING LOCAL CHOCOLATE\nFREE CAMINO HOT CHOCOLATE BAR WITH ALL THE FIXIN’S IN THE GRANARY ALLEY\nGREAT DEALS ON ALL YOUR FAVOURITE CHOCOLATE\nSAMPLE\, SHOP\, SAVE\, SMILE\nPRIZES\, LIVE MUSIC & AWESOME SHOPPING DOWNTOWN CARLETON PLACE\n***Be Sure to pick up your official Chocolate Party discount card IN STORE before December 6th***
URL:https://carletonplace.ca/event/the-granarys-annual-chocolate-party
LOCATION:The Granary Bulk & Natural Foods\, 107 Bridge Street\, Carleton Place\, Canada
END:VEVENT
END:VCALENDAR