BEGIN:VCALENDAR
VERSION:2.0
PRODID:-//Town of Carleton Place - ECPv6.15.20//NONSGML v1.0//EN
CALSCALE:GREGORIAN
METHOD:PUBLISH
X-ORIGINAL-URL:https://carletonplace.ca
X-WR-CALDESC:Events for Town of Carleton Place
REFRESH-INTERVAL;VALUE=DURATION:PT1H
X-Robots-Tag:noindex
X-PUBLISHED-TTL:PT1H
BEGIN:VTIMEZONE
TZID:America/Toronto
BEGIN:DAYLIGHT
TZOFFSETFROM:-0500
TZOFFSETTO:-0400
TZNAME:EDT
DTSTART:20230312T070000
END:DAYLIGHT
BEGIN:STANDARD
TZOFFSETFROM:-0400
TZOFFSETTO:-0500
TZNAME:EST
DTSTART:20231105T060000
END:STANDARD
BEGIN:DAYLIGHT
TZOFFSETFROM:-0500
TZOFFSETTO:-0400
TZNAME:EDT
DTSTART:20240310T070000
END:DAYLIGHT
BEGIN:STANDARD
TZOFFSETFROM:-0400
TZOFFSETTO:-0500
TZNAME:EST
DTSTART:20241103T060000
END:STANDARD
BEGIN:DAYLIGHT
TZOFFSETFROM:-0500
TZOFFSETTO:-0400
TZNAME:EDT
DTSTART:20250309T070000
END:DAYLIGHT
BEGIN:STANDARD
TZOFFSETFROM:-0400
TZOFFSETTO:-0500
TZNAME:EST
DTSTART:20251102T060000
END:STANDARD
END:VTIMEZONE
BEGIN:VEVENT
DTSTART;TZID=America/Toronto:20241103T190000
DTEND;TZID=America/Toronto:20241103T220000
DTSTAMP:20260424T233846
CREATED:20241023T151524Z
LAST-MODIFIED:20241023T151524Z
UID:10000393-1730660400-1730671200@carletonplace.ca
SUMMARY:Turpins Trail Concert
DESCRIPTION:Traditional Celtic tunes. Folk ballads. Storytelling.
URL:https://carletonplace.ca/event/turpins-trail-concert
LOCATION:Zion Memorial Church\, 37 Franklin Street\, Carleton Place\, Ontario\, Canada
END:VEVENT
BEGIN:VEVENT
DTSTART;TZID=America/Toronto:20241005T100000
DTEND;TZID=America/Toronto:20241005T140000
DTSTAMP:20260424T233846
CREATED:20241002T205133Z
LAST-MODIFIED:20241002T205133Z
UID:10000385-1728122400-1728136800@carletonplace.ca
SUMMARY:Multicultural Market & Fair
DESCRIPTION:On October 5th\, from 10 AM to 2 PM\, Zion Memorial Church proudly presents the 1st Pumpkinfest Multicultural Market & Fair. Dive into a vibrant celebration of Carleton Place & District’s rich diversity through food\, art\, and retail. Discover local programs designed for newcomers and enjoy a day of community and culture. Admission is free.
URL:https://carletonplace.ca/event/multicultural-market-fair
LOCATION:Zion Memorial Church\, 37 Franklin Street\, Carleton Place\, Ontario\, Canada
END:VEVENT
BEGIN:VEVENT
DTSTART;TZID=America/Toronto:20241002T183000
DTEND;TZID=America/Toronto:20241002T203000
DTSTAMP:20260424T233846
CREATED:20240807T135827Z
LAST-MODIFIED:20240807T151149Z
UID:10000202-1727893800-1727901000@carletonplace.ca
SUMMARY:Carleton Place & District Horticultural Society Monthly Meeting
DESCRIPTION:Paul Lacelle will talk about Bees and Plants. Paul is the owner of Lacelle’s Apiary close to Carleton Place. He is a beekeeper\, teacher and tending his own hives for over twenty years. He and his wife Debbie own a beekeeping supply store.
URL:https://carletonplace.ca/event/carleton-place-district-horticultural-society-monthly-meeting-3
LOCATION:Zion Memorial Church\, 37 Franklin Street\, Carleton Place\, Ontario\, Canada
ORGANIZER;CN="Carleton Place and District Horticultural Society":MAILTO:cphorticulture@gmail.com
END:VEVENT
BEGIN:VEVENT
DTSTART;TZID=America/Toronto:20240904T183000
DTEND;TZID=America/Toronto:20240904T203000
DTSTAMP:20260424T233846
CREATED:20240807T135827Z
LAST-MODIFIED:20240807T145246Z
UID:10000206-1725474600-1725481800@carletonplace.ca
SUMMARY:Carleton Place & District Horticultural Society Monthly Meeting
DESCRIPTION:Faye Hepworth will speak about Quilting With Plants in Mind. She will talk about drawing inspiration from the plant material around her or her husbands photography in various fibre arts such as clothing\, quilting\, appliqués…
URL:https://carletonplace.ca/event/carleton-place-district-horticultural-society-monthly-meeting-4
LOCATION:Zion Memorial Church\, 37 Franklin Street\, Carleton Place\, Ontario\, Canada
ORGANIZER;CN="Carleton Place and District Horticultural Society":MAILTO:cphorticulture@gmail.com
END:VEVENT
END:VCALENDAR